BEGIN:VCALENDAR
VERSION:2.0
PRODID:-//Axe &amp; Sens - ECPv6.8.1//NONSGML v1.0//EN
CALSCALE:GREGORIAN
METHOD:PUBLISH
X-ORIGINAL-URL:https://www.axe-sens.org
X-WR-CALDESC:Évènements pour Axe &amp; Sens
REFRESH-INTERVAL;VALUE=DURATION:PT1H
X-Robots-Tag:noindex
X-PUBLISHED-TTL:PT1H
BEGIN:VTIMEZONE
TZID:Europe/Paris
BEGIN:DAYLIGHT
TZOFFSETFROM:+0100
TZOFFSETTO:+0200
TZNAME:CEST
DTSTART:20180325T010000
END:DAYLIGHT
BEGIN:STANDARD
TZOFFSETFROM:+0200
TZOFFSETTO:+0100
TZNAME:CET
DTSTART:20181028T010000
END:STANDARD
END:VTIMEZONE
BEGIN:VEVENT
DTSTART;TZID=Europe/Paris:20180311T100000
DTEND;TZID=Europe/Paris:20180311T180000
DTSTAMP:20260422T085929
CREATED:20180228T113248Z
LAST-MODIFIED:20180228T155112Z
UID:10000341-1520762400-1520791200@www.axe-sens.org
SUMMARY:Atelier d’intégration des 5 éléments à Amiens
DESCRIPTION:Atelier D’intégration des 5 éléments comme outils de co création \nLe Dimanche 11 Mars \nDe 10h à 18h \nA la Chaussée Tirancourt \n80310 Amiens \nAvec Éléonora Quemener \n\n\n\nDans le Tao les 5 éléments correspondent au cycle d’engendrement\, en médecine chinoise ils correspondent à des organes vitaux. \nPlaton les associe à des géométries sacrées. Ils sont liés à des maîtrises de respiration et des nettoyages de canaux subtils\, outils fondamentaux pour l’intégration de nos structures énergétiques les plus élevées. \nNotre matière elle même est constituée de ces 5 éléments qui agissent en interconnexion et en alchimie les uns avec les autres. \nAu cours de la journée nous allons intégrer ces différents éléments\, un a un sous toutes leurs facettes afin de les intégrer énergétiquement et cellulairement. \nIls recèlent de nombreux mystères que nous livrent ici les initiations proposées lors de cette journée. \nThéories pratiques\, méditations guidées\, pratiques chamaniques ou spirituelles ancestrales… Vous explorerez ici chacun des éléments dans son intégralité afin d’apprendre à les utiliser en conscience. \nInfos et réservation : \ncontact@axe-sens.org\nFB Axe et Sens/ Éléonora Aurora Celestia\nEleonora Quemener 06 16 57 61 99 \nOlivier Garnier 06 20 27 79 96
URL:https://www.axe-sens.org/rendez-vous/atelier-dintegration-des-5-elements
LOCATION:La Chaussée Tirancourt\, Amiens
CATEGORIES:Cours,Energétique,Formations,Méditations,Séminaires,Stages,Thérapie
ATTACH;FMTTYPE=image/jpeg:https://www.axe-sens.org/wp-content/uploads/2011/08/les5elements.jpg
GEO:49.894067;2.295753
END:VEVENT
END:VCALENDAR