BEGIN:VCALENDAR
VERSION:2.0
PRODID:-//Axe &amp; Sens - ECPv6.8.1//NONSGML v1.0//EN
CALSCALE:GREGORIAN
METHOD:PUBLISH
X-ORIGINAL-URL:https://www.axe-sens.org
X-WR-CALDESC:Évènements pour Axe &amp; Sens
REFRESH-INTERVAL;VALUE=DURATION:PT1H
X-Robots-Tag:noindex
X-PUBLISHED-TTL:PT1H
BEGIN:VTIMEZONE
TZID:Europe/Paris
BEGIN:DAYLIGHT
TZOFFSETFROM:+0100
TZOFFSETTO:+0200
TZNAME:CEST
DTSTART:20170326T010000
END:DAYLIGHT
BEGIN:STANDARD
TZOFFSETFROM:+0200
TZOFFSETTO:+0100
TZNAME:CET
DTSTART:20171029T010000
END:STANDARD
END:VTIMEZONE
BEGIN:VEVENT
DTSTART;TZID=Europe/Paris:20170114T093000
DTEND;TZID=Europe/Paris:20170115T190000
DTSTAMP:20260422T093532
CREATED:20161212T124510Z
LAST-MODIFIED:20161220T075133Z
UID:10000384-1484386200-1484506800@www.axe-sens.org
SUMMARY:Séminaire de reconnexion à sa multidimension à Paris
DESCRIPTION:Eléonora vous propose ici la transmission d’outils fondamentaux permettant d’acquérir son autonomie en énergétique.\nOuverture de conscience sur les réseaux de notre corps physique\, les corps subtils\, et l’énergie qui nous traverse en permanence.\nComment réapprendre à l’utiliser pour la guérison. Comment se protéger des Energies hostiles…\nComment redevenir un canal de hautes fréquences de l’énergie universelle de vie pour soi et pour les autres.\nInfos: Formations 
URL:https://www.axe-sens.org/rendez-vous/seminaire-de-reconnexion-a-sa-multidimension-a-paris
LOCATION:Vincennes\, Paris
CATEGORIES:Ateliers,Cours,Formations,Méditations,Séminaires,Stages
ATTACH;FMTTYPE=image/jpeg:https://www.axe-sens.org/wp-content/uploads/2014/04/182758_258801597561122_241041481_n.jpg
END:VEVENT
END:VCALENDAR