BEGIN:VCALENDAR
VERSION:2.0
PRODID:-//Axe &amp; Sens - ECPv6.8.1//NONSGML v1.0//EN
CALSCALE:GREGORIAN
METHOD:PUBLISH
X-ORIGINAL-URL:https://www.axe-sens.org
X-WR-CALDESC:Évènements pour Axe &amp; Sens
REFRESH-INTERVAL;VALUE=DURATION:PT1H
X-Robots-Tag:noindex
X-PUBLISHED-TTL:PT1H
BEGIN:VTIMEZONE
TZID:Europe/Paris
BEGIN:DAYLIGHT
TZOFFSETFROM:+0100
TZOFFSETTO:+0200
TZNAME:CEST
DTSTART:20230326T010000
END:DAYLIGHT
BEGIN:STANDARD
TZOFFSETFROM:+0200
TZOFFSETTO:+0100
TZNAME:CET
DTSTART:20231029T010000
END:STANDARD
END:VTIMEZONE
BEGIN:VEVENT
DTSTART;TZID=Europe/Paris:20230603T100000
DTEND;TZID=Europe/Paris:20230604T173000
DTSTAMP:20260421T210225
CREATED:20230517T154727Z
LAST-MODIFIED:20230530T084712Z
UID:10000505-1685786400-1685899800@www.axe-sens.org
SUMMARY:Initiation sur les 5 éléments : -3 et 4 Juin - Marseille
DESCRIPTION:L’intégration des 5 éléments comme outils de co création. \nLors de ce WE d’initiation\, Eléonora vous emmènera dans l’exploration sensible et subtile des 5 éléments\, dans l’essence même de ce qu’ils représentent… Lors d’un voyage au cœur des différentes traditions de notre planète\, vous découvrirez par le biais d’exercices et en méditation guidée\, les approches du Tao dans lequel les 5 éléments correspondent au cycle d’engendrement\, en médecine chinoise ils correspondent à des organes vitaux. Platon les associe à des géométries sacrées. Ils sont liés à des maîtrises de respiration et des nettoyages de canaux subtils\, outils fondamentaux pour l’intégration de nos structures énergétiques les plus élevées. Le Tambour chamanique et certains chants sacrés\, nous reconnectent souvent à des mémoires… \nLes 5 éléments sont la base fondamentale de notre structure vivante. Notre matière  est constituée de ces 5 éléments qui agissent en interconnexion et en alchimie les uns avec les autres. \nAu cours de ce WE  intense\, nous allons intégrer ces différents éléments\, un à un sous toutes leurs facettes afin de les intégrer énergétiquement et cellulairement.\nIls recèlent de nombreux mystères que nous livrent ici les initiations proposées lors de cette journée. \nThéories pratiques\, méditations guidées\, pratiques chamaniques ou spirituelles ancestrales…\nNous découvrirons la lecture subtile des messages du règne végétal ou encore comment entrer en contact avec son animal totem. Nous explorerons la puissante respiration extatique\, héritage du chamanisme ukrainien. \nVous explorerez ici chacun des éléments dans son intégralité afin d’apprendre à les utiliser en conscience. \nPsycho-energeticienne\, praticienne en médecine chinoise et chaman\,\nEléonora combine depuis plusieurs années des connaissances en médecines\nalternatives pour accompagner ses patients vers des guérisons du Corps de l’Âme et de l’Esprit.\nAprès avoir vécu un éveil en 2004\, elle rencontre plusieurs grands sages\, maîtres\nou chamans en Inde\,en Amérique ou en Afrique qui lui apporteront de précieux\nenseignements et initiations. Dès lors elle se forme et se confronte à différentes techniques\, approches ou consciences\, elle suit plusieurs formations pour parfaire ses connaissances\, pour finalement mettre en place sa propre pratique\, quintessence qu’elle offre aujourd’hui lors de ses soins\, ateliers ou séminaires. \nInfos\, réservation et inscription : \nÉléonore Quemener : 06 16 57 61 99\ncontact@axe-sens.org
URL:https://www.axe-sens.org/rendez-vous/initiation-sur-les-5-elements
LOCATION:Domaine de TerreSainte\, BVD Notre Dame de Santa Cruz\, Marseille
CATEGORIES:Eleonora Quemener,Energétique,Méditations,Séminaires
ATTACH;FMTTYPE=image/jpeg:https://www.axe-sens.org/wp-content/uploads/2017/03/cf4de1dc3130a0be88c04f073c15a607.jpg
GEO:43.342279;5.4061361
X-APPLE-STRUCTURED-LOCATION;VALUE=URI;X-ADDRESS=Domaine de TerreSainte BVD Notre Dame de Santa Cruz Marseille;X-APPLE-RADIUS=500;X-TITLE=BVD Notre Dame de Santa Cruz:geo:5.4061361,43.342279
END:VEVENT
END:VCALENDAR