BEGIN:VCALENDAR
VERSION:2.0
PRODID:-//Axe &amp; Sens - ECPv6.8.1//NONSGML v1.0//EN
CALSCALE:GREGORIAN
METHOD:PUBLISH
X-ORIGINAL-URL:https://www.axe-sens.org
X-WR-CALDESC:Évènements pour Axe &amp; Sens
REFRESH-INTERVAL;VALUE=DURATION:PT1H
X-Robots-Tag:noindex
X-PUBLISHED-TTL:PT1H
BEGIN:VTIMEZONE
TZID:Europe/Paris
BEGIN:DAYLIGHT
TZOFFSETFROM:+0100
TZOFFSETTO:+0200
TZNAME:CEST
DTSTART:20220327T010000
END:DAYLIGHT
BEGIN:STANDARD
TZOFFSETFROM:+0200
TZOFFSETTO:+0100
TZNAME:CET
DTSTART:20221030T010000
END:STANDARD
BEGIN:DAYLIGHT
TZOFFSETFROM:+0100
TZOFFSETTO:+0200
TZNAME:CEST
DTSTART:20230326T010000
END:DAYLIGHT
BEGIN:STANDARD
TZOFFSETFROM:+0200
TZOFFSETTO:+0100
TZNAME:CET
DTSTART:20231029T010000
END:STANDARD
BEGIN:DAYLIGHT
TZOFFSETFROM:+0100
TZOFFSETTO:+0200
TZNAME:CEST
DTSTART:20240331T010000
END:DAYLIGHT
BEGIN:STANDARD
TZOFFSETFROM:+0200
TZOFFSETTO:+0100
TZNAME:CET
DTSTART:20241027T010000
END:STANDARD
END:VTIMEZONE
BEGIN:VEVENT
DTSTART;TZID=Europe/Paris:20240921T100000
DTEND;TZID=Europe/Paris:20240922T190000
DTSTAMP:20260421T215449
CREATED:20240711T184936Z
LAST-MODIFIED:20240902T140556Z
UID:10000630-1726912800-1727031600@www.axe-sens.org
SUMMARY:Formation : Acquisition d'outils & de pratiques en thérapie holistique Niv I - Marseille
DESCRIPTION:Séminaire de reconnexion à sa multi-dimension \nNiveau 1\nFormation thérapeute\nLe samedi 21 Septembre  et dimanche 22 Septembre 2024 \nMarseille \nThérapeute et formatrice\, Eléonora Quemener  vous propose ici d’acquérir des outils fondamentaux\, que ce soit pour vous à titre personnel ou dans une optique professionnelle\, pour devenir autonome en énergétique. \nCette formation permet d’acquérir des outils concrets et efficaces et offre une prise de conscience des flux énergétiques qui régissent notre corps.\nComment identifier les différentes énergies et ceux qui les portent ?\nComment les tester\, et être sur de son test.\nComment s’ancrer correctement et se protéger des énergies hostiles ?\nComment s’aligner\, s’ équilibrer et s’harmoniser ?\nComment utiliser l’énergie pour la guérison pour soi et pour les autres et redevenir un canal de hautes fréquences de l’énergie universelle de vie. \nPar des méditations guidées\, des transmissions personnalisées\, des travaux pratiques\, vous allez ici lors de ces 2 jours intenses\, libérer certains de blocages conscients et inconscients\, passés et présents. Vous allez  accueillir de nouveaux outils simples et très efficaces pour commencer à œuvrer en conscience à chaque instant de votre vie. \nInfos : 00 33-6 16 57 61 99 \ncontact@axe-sens.org
URL:https://www.axe-sens.org/rendez-vous/seminaire-formation-therapeute-niv-1-3-2-2
LOCATION:Domaine de TerreSainte\, BVD Notre Dame de Santa Cruz\, Marseille
CATEGORIES:Ateliers,Ceremonie Sacré,Eleonora Quemener,énergétique,Energétique,Energetique Astrologie,Formations,Meditation,Méditations,Multidimension,Séminaires,Spiritualité,Stages,Thérapie,Travail sur soi
ATTACH;FMTTYPE=image/jpeg:https://www.axe-sens.org/wp-content/uploads/2024/07/maxresdefault.jpg
GEO:43.342279;5.4061361
X-APPLE-STRUCTURED-LOCATION;VALUE=URI;X-ADDRESS=Domaine de TerreSainte BVD Notre Dame de Santa Cruz Marseille;X-APPLE-RADIUS=500;X-TITLE=BVD Notre Dame de Santa Cruz:geo:5.4061361,43.342279
END:VEVENT
BEGIN:VEVENT
DTSTART;TZID=Europe/Paris:20230205T190000
DTEND;TZID=Europe/Paris:20230205T203000
DTSTAMP:20260421T215449
CREATED:20230204T114603Z
LAST-MODIFIED:20230204T114922Z
UID:10000503-1675623600-1675629000@www.axe-sens.org
SUMMARY:Méditation - Pleine lune du Lion
DESCRIPTION:Méditation guidée \nDimanche 5 Février  à 19h00. \nVia Jitsi meet ( On line) \nCette pleine Lune de guérison\, encore appelée “Lune du Lion” redonne de la force et permet de puissants nettoyages émotionnels. Sympathique sur le plan des énergies\, mais aussi très puissante\, cette Pleine Lune  du 5 février 2023 a une grande incidence sur le plan professionnel. Elle ouvre le passage… Elle permet également le nettoyage des scories du passé. Elle offre comme un grand souffle de renouveau ! Située dans le signe du Lion\, signe de feu\, cette lune est aussi surnommée «le  Lune des tempêtes »  en raison de la période de l’année\, mais également par l’intensité de sa vibration à la fois positive et passionnée\, redonnant force et courage. Toutefois par sa fougue elle génère de fortes remontées émotionnelles qu’il faut pouvoir gérer. Elle offre l’opportunité de se débarrasser des poids lourds à porter pour mordre la vie à pleine dents. \nVous pourriez ressentir un changement positif\, une guérison concernant le plan amoureux ou émotionnel. Cette pleine lune apporte du courage et permet de réactiver notre foi en la vie et en l’amour. Elle se pose comme une porte fondamentale et bénéfique avant de passer à autre chose. Toujours portés par l’énergie du Lion\, l’ensemble des signes pourraient ici ressentir un regain d’énergie\, une montée d’estime de soi et une bonne dose de courage pour passer à l’action et mettre en marche de nouveaux plans… \nJe vous propose une  méditation en Visio via la plateforme Jitsi meet. \nVoici le lien de téléchargement de l’application : jitsi met\nNous travaillerons dans cette énergie spéciale pour lever les vieux schémas conscients et inconscients qui peuvent encore bloquer certains aspects de notre existence. Nous traverserons les couches émotionnelles pour sortir de la matrice imposée et reconnecter à son essence véritable.\nNous ouvrirons de nouvelles portes afin d’accueillir de manière plus intense les énergies de vie\, de guérison\, d’amour… \nInstallez vous confortablement pour ce voyage !\nSi vous le pouvez\, installez une enceinte pour optimiser le son. \nLa participation souhaitée est de 20 euros.\nNous proposons également une participation libre et consciente pour les personnes en précarité. \nVotre inscription sera validée dès votre règlement par l’application Lydia  ( Lien Lydia ) 5paiement par mon numéro le 06 16 57 61 99). Par PayPal avec cette adresse : contact@axe-sens.org \nUne fois votre règlement effectué\, vous allez recevoir les codes de connexion 15 minutes avant le début de la méditation. Il ne vous restera plus qu’à vous installer confortablement pour ce voyage\, à cliquer sur le lien transmis pour rentrer dans la salle virtuelle. \nPour toutes infos merci de me joindre directement par WhatsApp\, Signal ou Telegram. \nBien à vous et au plaisir de vous retrouver pour ce travail \nEléonora \nTel :  06 16 57 61 99 \nMail : contact@axe-sens.org
URL:https://www.axe-sens.org/rendez-vous/5804
LOCATION:Jitsimeet\, internet 
CATEGORIES:Eleonora Quemener,Energétique,Méditations,Thérapie
ATTACH;FMTTYPE=image/jpeg:https://www.axe-sens.org/wp-content/uploads/2023/02/IMG_0147.jpg
END:VEVENT
BEGIN:VEVENT
DTSTART;TZID=Europe/Paris:20221217T100000
DTEND;TZID=Europe/Paris:20221218T190000
DTSTAMP:20260421T215449
CREATED:20221212T122633Z
LAST-MODIFIED:20221212T122804Z
UID:10000500-1671271200-1671390000@www.axe-sens.org
SUMMARY:Seminaire. Formation thérapeute niv 1
DESCRIPTION:Séminaire de reconnexion à sa multi-dimension – niveau 1 -Formation thérapeute \nLe samedi 17 Décembre et le Dimanche 18 Decembre 2022 \nMarseille \nThérapeute et formatrice\, Eléonora Quemener  vous propose ici d’acquérir des outils fondamentaux\, que ce soit pour vous à titre personnel ou dans une optique professionnelle\, pour devenir autonome en énergétique. \nCette formation permet d’acquérir des outils concrets et efficaces et offre une prise de conscience des flux énergétiques qui régissent notre corps.\nComment identifier les différentes énergies et ceux qui les portent ?\nComment les tester\, et être sur de son test.\nComment s’ancrer correctement et se protéger des énergies hostiles ?\nComment s’aligner\, s’ équilibrer et s’harmoniser ?\nComment utiliser l’énergie pour la guérison pour soi et pour les autres et redevenir un canal de hautes fréquences de l’énergie universelle de vie. \nPar des méditations guidées\, des transmissions personnalisées\, des travaux pratiques\, vous allez ici lors de ces 2 jours intenses\, libérer certains de blocages conscients et inconscients\, passés et présents. Vous allez  accueillir de nouveaux outils simples et très efficaces pour commencer à œuvrer en conscience à chaque instant de votre vie. \nInfos : 00 33-6 16 57 61 99 \ncontact@axe-sens.org
URL:https://www.axe-sens.org/rendez-vous/seminaire-formation-therapeute-niv-1
LOCATION:Domaine de TerreSainte\, BVD Notre Dame de Santa Cruz\, Marseille
CATEGORIES:Ateliers,Eleonora Quemener,Energétique,Formations,Méditations,Séminaires,Stages,Thérapie
ATTACH;FMTTYPE=image/jpeg:https://www.axe-sens.org/wp-content/uploads/2017/08/maxresdefault-e1603449704816.jpg
GEO:43.342279;5.4061361
X-APPLE-STRUCTURED-LOCATION;VALUE=URI;X-ADDRESS=Domaine de TerreSainte BVD Notre Dame de Santa Cruz Marseille;X-APPLE-RADIUS=500;X-TITLE=BVD Notre Dame de Santa Cruz:geo:5.4061361,43.342279
END:VEVENT
BEGIN:VEVENT
DTSTART;TZID=Europe/Paris:20221009T193000
DTEND;TZID=Europe/Paris:20221009T210000
DTSTAMP:20260421T215449
CREATED:20221007T100755Z
LAST-MODIFIED:20221007T104952Z
UID:10000499-1665343800-1665349200@www.axe-sens.org
SUMMARY:Méditation de pleine lune
DESCRIPTION:Méditation guidée \nDimanche 9 octobre à 19h30. \nVia Jitsi meet ( On line) \nCette pleine Lune de guérison\, encore appellée “Lune du Chasseur” permet de  libérer\, alléger et mettre en lumière les aspects encore troubles enfouis au fond de nos consciences. \nPourquoi la Lune du Chasseur ? \nLes agriculteurs finissaient traditionnellement de moissonner leurs champs à la lumière de la pleine lune des moissons en Septembre. Au moment de la pleine lune suivante\, les champs étaient nettoyés\, et les chasseurs pouvaient facilement voir les animaux rôder à la recherche de nourriture avant l’hiver. De plus\, à ce moment du mois\, cette lune se lève au crépuscule et se couche à l’aube. Le clair de la lune permettait donc aux chasseurs de traquer leurs proies jusque tard dans la nuit. \nNous allons ici procéder à de grands nettoyages subtils\, internes\, externes et multidimentionnels. \n\nJe vous propose une  méditation en Visio via la plateforme Jitsi meet.\nVoici le lien de téléchargement de l’application : jitsi met\nNous travaillerons dans cette énergie spéciale pour lever les tensions physiques et psychiques et les programmes résiduels conscients ou inconscients qui peuvent encore bloquer certains aspects de notre existence. Il s’agit ici de fermer les anciennes portes obsolètes pour en ouvrir de nouvelles…\nLâcher les vieux schémas répétitifs.\nNous activerons de nouvelles portes afin d’acceuillir de manière plus intense les énergies de vie\, de guérison\, d’amour… \nInstallez vous confortablement pour ce voyage !\nSi vous le pouvez installez une enceinte pour optimiser le son. \nLa participation souhaitée est de 20 euros.\nNous proposons également une participation libre et consciente pour les personnes en précarité. \nVotre inscription sera validée dès votre règlement avec l’application Lydia  ( Lien Lydia )\, paiement par mon numéro le 06 16 57 61 99. \nPar PayPal avec cette adresse : contact@axe-sens.org \n\nMerci de me faire  parvenir un texto avec votre adresse mail dès votre règlement afin de recevoir les codes de connexion 20 minutes avant le début de la méditation. Il ne vous restera plus qu’a vous installer confortablement pour ce voyage. \nPour toutes infos merci de me joindre directement par texto \nBien à vous et au plaisir de vous retrouver pour ce travail \nEléonora \nTel :  06 16 57 61 99 \nMail : contact@axe-sens.org
URL:https://www.axe-sens.org/rendez-vous/meditation-de-pleine-lune-2
LOCATION:Jitsimeet\, internet 
CATEGORIES:Ateliers,Eleonora Quemener,Energétique,Méditations,Thérapie
ATTACH;FMTTYPE=image/jpeg:https://www.axe-sens.org/wp-content/uploads/2017/03/ystmeolaire100zjf-e1490864669102.jpg
END:VEVENT
BEGIN:VEVENT
DTSTART;TZID=Europe/Paris:20220924T100000
DTEND;TZID=Europe/Paris:20220925T170000
DTSTAMP:20260421T215449
CREATED:20220905T065754Z
LAST-MODIFIED:20220905T091944Z
UID:10000497-1664013600-1664125200@www.axe-sens.org
SUMMARY:Formation Reconnexion à sa multidimension niveau I – Marseille
DESCRIPTION:Séminaire de reconnexion à sa multi-dimension – niveau 1 -Formation thérapeute \nLe samedi 24 Septembre et dimanche 25 septembre 2022 \nMarseille \nThérapeute et formatrice\, Eléonora Quemener  vous propose ici d’acquérir des outils fondamentaux\, que ce soit pour vous à titre personnel ou dans une optique professionnelle\, pour devenir autonome en énergétique. \nCette formation permet d’acquérir des outils concrets et efficaces et offre une prise de conscience des flux énergétiques qui régissent notre corps.\nComment identifier les différentes énergies et ceux qui les portent ?\nComment les tester\, et être sur de son test.\nComment s’ancrer correctement et se protéger des énergies hostiles ?\nComment s’aligner\, s’ équilibrer et s’harmoniser ?\nComment utiliser l’énergie pour la guérison pour soi et pour les autres et redevenir un canal de hautes fréquences de l’énergie universelle de vie. \nPar des méditations guidées\, des transmissions personnalisées\, des travaux pratiques\, vous allez ici lors de ces 2 jours intenses\, libérer certains de blocages conscients et inconscients\, passés et présents. Vous allez  accueillir de nouveaux outils simples et très efficaces pour commencer à œuvrer en conscience à chaque instant de votre vie. \nInfos : 00 33-6 16 57 61 99 \ncontact@axe-sens.org
URL:https://www.axe-sens.org/rendez-vous/formation-reconnexion-a-sa-multidimension-niveau-i-marseille
LOCATION:Domaine de TerreSainte\, BVD Notre Dame de Santa Cruz\, Marseille
CATEGORIES:Ateliers,Cours,Energétique,Formations,Méditations,Séminaires,Stages,Thérapie
ATTACH;FMTTYPE=image/jpeg:https://www.axe-sens.org/wp-content/uploads/2017/03/72848491-e1603450312505.jpg
GEO:43.342279;5.4061361
X-APPLE-STRUCTURED-LOCATION;VALUE=URI;X-ADDRESS=Domaine de TerreSainte BVD Notre Dame de Santa Cruz Marseille;X-APPLE-RADIUS=500;X-TITLE=BVD Notre Dame de Santa Cruz:geo:5.4061361,43.342279
END:VEVENT
END:VCALENDAR