BEGIN:VCALENDAR
VERSION:2.0
PRODID:-//Axe &amp; Sens - ECPv6.8.1//NONSGML v1.0//EN
CALSCALE:GREGORIAN
METHOD:PUBLISH
X-ORIGINAL-URL:https://www.axe-sens.org
X-WR-CALDESC:Évènements pour Axe &amp; Sens
REFRESH-INTERVAL;VALUE=DURATION:PT1H
X-Robots-Tag:noindex
X-PUBLISHED-TTL:PT1H
BEGIN:VTIMEZONE
TZID:Europe/Paris
BEGIN:DAYLIGHT
TZOFFSETFROM:+0100
TZOFFSETTO:+0200
TZNAME:CEST
DTSTART:20180325T010000
END:DAYLIGHT
BEGIN:STANDARD
TZOFFSETFROM:+0200
TZOFFSETTO:+0100
TZNAME:CET
DTSTART:20181028T010000
END:STANDARD
END:VTIMEZONE
BEGIN:VEVENT
DTSTART;TZID=Europe/Paris:20180519T090000
DTEND;TZID=Europe/Paris:20180519T190000
DTSTAMP:20260422T083528
CREATED:20180511T171125Z
LAST-MODIFIED:20180525T095119Z
UID:10000434-1526720400-1526756400@www.axe-sens.org
SUMMARY:Integration des 5 éléments comme outils de co création - Paris
DESCRIPTION:Avec Éléonora Quemener \nDans le Tao les 5 éléments correspondent au cycle d’engendrement\, en médecine chinoise ils correspondent à des organes vitaux. \nPlaton les associe à des géométries sacrées. Ils sont liés à des maîtrises de respiration et des nettoyages de canaux subtils\, outils fondamentaux pour l’intégration de nos structures énergétiques les plus élevées. \nNotre matière elle même est constituée de ces 5 éléments qui agissent en interconnexion et en alchimie les uns avec les autres. \nAu cours de la journée nous allons intégrer ces différents éléments\, un a un sous toutes leurs facettes afin de les intégrer énergétiquement et cellulairement. \nIls recèlent de nombreux mystères que nous livrent ici les initiations proposées lors de cette journée. \nThéories pratiques\, méditations guidées\, pratiques chamaniques ou spirituelles ancestrales… Vous explorerez ici chacun des éléments dans son intégralité afin d’apprendre à les utiliser en conscience. \nInfos et réservation : \ncontact@axe-sens.org\nFB Axe et Sens/ Éléonora Aurora Celestia
URL:https://www.axe-sens.org/rendez-vous/integration-des-5-elements-comme-outils-de-co-creation-paris
LOCATION:Lieu sans nom\, Marseille
CATEGORIES:Cours,Energétique,Formations,Séminaires,Stages,Thérapie
ATTACH;FMTTYPE=image/jpeg:https://www.axe-sens.org/wp-content/uploads/2017/09/Passer-de-la-Tête-au-Coeur-300x300-2-e1603452091935.jpg
GEO:43.296482;5.36978
END:VEVENT
BEGIN:VEVENT
DTSTART;TZID=Europe/Paris:20180517T203000
DTEND;TZID=Europe/Paris:20180517T220000
DTSTAMP:20260422T083528
CREATED:20180511T170144Z
LAST-MODIFIED:20180525T095629Z
UID:10000433-1526589000-1526594400@www.axe-sens.org
SUMMARY:Méditation-Paris
DESCRIPTION:Méditation \nLe Jeudi 17 Mai  à 20h30 \nParis Porte Maillot \n  \nIl s’agit maintenant d’agir en pleine conscience. Comprendre que nos choix fondamentaux imposent de ne plus se laisser aspirer par des événements de”seconds ordres”.\nIl faut se recentrer et agir en fonction de ce qui fait vibrer notre cœur\, dans la vérité éclatante.\nNous devons reconnaître notre véritable dimension  et nous respecter pour tout se que nous sommes. Il est temps de lâcher les vieux schémas de contraction de note cœur et les vieux programmes qui nous limitent afin d’avancer confiant et libre.
URL:https://www.axe-sens.org/rendez-vous/meditation-paris
LOCATION:Lieu sans nom\, Paris\, France
CATEGORIES:Energétique,Méditations,Thérapie
ATTACH;FMTTYPE=image/jpeg:https://www.axe-sens.org/wp-content/uploads/2017/01/meditation_univers.jpg
GEO:48.856614;2.3522219
END:VEVENT
BEGIN:VEVENT
DTSTART;TZID=Europe/Paris:20180517T090000
DTEND;TZID=Europe/Paris:20180518T190000
DTSTAMP:20260422T083528
CREATED:20180511T152612Z
LAST-MODIFIED:20180511T164802Z
UID:10000432-1526547600-1526670000@www.axe-sens.org
SUMMARY:Consultation à Paris - Mai
DESCRIPTION:Consultations à Paris \nLe jeudi 17 Mai et vendredi 18 Mai 2018 \nAvec Éléonora \nÉléonore est psycho-energéticienne et praticienne en médecine chinoise\, homéopathe et naturopathe. \nElle oeuvre depuis une quinzaine d’année en tant que thérapeute et accompagne sur des libérations de ” blocages”conscients et inconscients”. Elle vous permet de retrouver une certaine fluidité dans votre existence. \nÉléonora vous recevra en consultation individuelle à Paris dans son cabinet à l’Espace Gaele’M – métro Oberkampf. \nInfos et réservations : 0616576199
URL:https://www.axe-sens.org/rendez-vous/consultation-a-paris-mai
LOCATION:Esapce Gaele ‘M\, 15 rue de Crussol\, Paris
CATEGORIES:Eleonora Quemener,Médecine Chinoise,Méditations,Thérapie
ATTACH;FMTTYPE=image/jpeg:https://www.axe-sens.org/wp-content/uploads/2017/03/christal-chaya-e1490865184750.jpg
GEO:48.8643099;2.3680919
X-APPLE-STRUCTURED-LOCATION;VALUE=URI;X-ADDRESS=Esapce Gaele ‘M 15 rue de Crussol Paris;X-APPLE-RADIUS=500;X-TITLE=15 rue de Crussol:geo:2.3680919,48.8643099
END:VEVENT
BEGIN:VEVENT
DTSTART;TZID=Europe/Paris:20180505T093000
DTEND;TZID=Europe/Paris:20180505T183000
DTSTAMP:20260422T083528
CREATED:20180427T104407Z
LAST-MODIFIED:20180427T104442Z
UID:10000429-1525512600-1525545000@www.axe-sens.org
SUMMARY:Integration des 5 éléments comme outils de co création. Montpellier
DESCRIPTION:Atelier\nLe samedi 5 Mai de 9h30 à 18h30\nAvec Éléonora Quemener \nDans le Tao les 5 éléments correspondent au cycle d’engendrement\, en médecine chinoise ils correspondent à des organes vitaux. \nPlaton les associe à des géométries sacrées. Ils sont liés à des maîtrises de respiration et des nettoyages de canaux subtils\, outils fondamentaux pour l’intégration de nos structures énergétiques les plus élevées. \nNotre matière elle même est constituée de ces 5 éléments qui agissent en interconnexion et en alchimie les uns avec les autres. \nAu cours de la journée nous allons intégrer ces différents éléments\, un a un sous toutes leurs facettes afin de les intégrer énergétiquement et cellulairement. \nIls recèlent de nombreux mystères que nous livrent ici les initiations proposées lors de cette journée. \nThéories pratiques\, méditations guidées\, pratiques chamaniques ou spirituelles ancestrales… Vous explorerez ici chacun des éléments dans son intégralité afin d’apprendre à les utiliser en conscience. \nInfos et réservation : \ncontact@axe-sens.org\nFB Axe et Sens/ Éléonora Aurora Celestia\nEleonora Quemener 06 16 57 61 99
URL:https://www.axe-sens.org/rendez-vous/integration-des-5-elements-comme-outils-de-co-creation
LOCATION:Salle des Arceaux\, 14 bis Rue Saint Louis\, Montpellier\, 34000\, France
CATEGORIES:Cours,Eleonora Quemener,Energétique,Formations,Séminaires,Stages,Thérapie
ATTACH;FMTTYPE=image/jpeg:https://www.axe-sens.org/wp-content/uploads/2011/08/les5elements.jpg
GEO:43.6108771;3.8667179
X-APPLE-STRUCTURED-LOCATION;VALUE=URI;X-ADDRESS=Salle des Arceaux 14 bis Rue Saint Louis Montpellier 34000 France;X-APPLE-RADIUS=500;X-TITLE=14 bis Rue Saint Louis:geo:3.8667179,43.6108771
END:VEVENT
BEGIN:VEVENT
DTSTART;TZID=Europe/Paris:20180503T200000
DTEND;TZID=Europe/Paris:20180503T220000
DTSTAMP:20260422T083528
CREATED:20180427T104746Z
LAST-MODIFIED:20180427T105521Z
UID:10000430-1525377600-1525384800@www.axe-sens.org
SUMMARY:Concert de chants sacrés et sons de guérison. Montpellier
DESCRIPTION:Concert de chants sacrés et sons de guérison Montpellier\njeudi 3 mai à 20 h30\nEleonora Quemener et Laurent Humbert vous emmèneront  dans un voyage sonore subtil\, au cœur de l’Âme. \nEléonora est psycho-énergéticienne\, elle utilise ici sa voix pour permettre aux énergies de se frayer un chemin dans les parties les plus subtiles de notre être afin de libérer les blocages conscients et inconscients. \nElle est accompagnée ici par Laurent Humbert\, électroacousticien avec qui elle élabore son premier CD chants sacrés universels. \nA travers des mantras de toutes les traditions\, en langages originels et des sonorités canalisées\, accompagnés de bols de cristal et d’autres instruments aux sonorités chatoyantes\, ils vous offriront\,  allongés dans le sable un voyage sonore  inoubliable. \n 
URL:https://www.axe-sens.org/rendez-vous/5537
LOCATION:Salle des Arceaux\, 14 bis Rue Saint Louis\, Montpellier\, 34000\, France
CATEGORIES:Arts,Energétique,Exposition,Musique,Thérapie
ATTACH;FMTTYPE=image/jpeg:https://www.axe-sens.org/wp-content/uploads/2018/02/20171231-Auroville-Swedam-Reveillon-PG-64-e1603450238679.jpg
GEO:43.6108771;3.8667179
X-APPLE-STRUCTURED-LOCATION;VALUE=URI;X-ADDRESS=Salle des Arceaux 14 bis Rue Saint Louis Montpellier 34000 France;X-APPLE-RADIUS=500;X-TITLE=14 bis Rue Saint Louis:geo:3.8667179,43.6108771
END:VEVENT
BEGIN:VEVENT
DTSTART;TZID=Europe/Paris:20180302T193000
DTEND;TZID=Europe/Paris:20180302T213000
DTSTAMP:20260422T083528
CREATED:20180228T115756Z
LAST-MODIFIED:20180302T133508Z
UID:10000423-1520019000-1520026200@www.axe-sens.org
SUMMARY:Méditation de pleine lune à Marseille.
DESCRIPTION:Méditation guidée par Eléonora \nLe vendredi 02 Mars \nà 19H30 \nCette puissante pleine lune est une invitation à se réaligner pour mieux exprimer notre essence. Elle nous permet de développer notre réceptivité et d’apprendre à nous laisser guider par notre intuition profonde.  Il s’agit maintenant d’agir en pleine conscience. Nos choix fondamentaux imposent de ne plus se laisser aspirer par des événements de” seconds ordres”. Il faut se recentrer et agir en fonction de ce qui fait vibrer notre cœur. \nNous devons reconnaître notre véritable dimension  et nous respecter pour tout se que nous sommes. \n  \nParticipation libre et consciente\nSouhaitée : 20 € \nRepas partagé après la méditation\nMerci d’apporter un met a partager… \nInfos : 06 16 57 61 99
URL:https://www.axe-sens.org/rendez-vous/meditation-de-pleine-a-marseille
LOCATION:Domaine de TerreSainte\, BVD Notre Dame de Santa Cruz\, Marseille
CATEGORIES:Energétique,Méditations,Thérapie
ATTACH;FMTTYPE=image/jpeg:https://www.axe-sens.org/wp-content/uploads/2017/03/ystmeolaire100zjf-e1490864669102.jpg
GEO:43.342279;5.4061361
X-APPLE-STRUCTURED-LOCATION;VALUE=URI;X-ADDRESS=Domaine de TerreSainte BVD Notre Dame de Santa Cruz Marseille;X-APPLE-RADIUS=500;X-TITLE=BVD Notre Dame de Santa Cruz:geo:5.4061361,43.342279
END:VEVENT
END:VCALENDAR