BEGIN:VCALENDAR
VERSION:2.0
PRODID:-//Axe &amp; Sens - ECPv6.8.1//NONSGML v1.0//EN
CALSCALE:GREGORIAN
METHOD:PUBLISH
X-WR-CALNAME:Axe &amp; Sens
X-ORIGINAL-URL:https://www.axe-sens.org
X-WR-CALDESC:Évènements pour Axe &amp; Sens
REFRESH-INTERVAL;VALUE=DURATION:PT1H
X-Robots-Tag:noindex
X-PUBLISHED-TTL:PT1H
BEGIN:VTIMEZONE
TZID:Europe/Paris
BEGIN:DAYLIGHT
TZOFFSETFROM:+0100
TZOFFSETTO:+0200
TZNAME:CEST
DTSTART:20150329T010000
END:DAYLIGHT
BEGIN:STANDARD
TZOFFSETFROM:+0200
TZOFFSETTO:+0100
TZNAME:CET
DTSTART:20151025T010000
END:STANDARD
BEGIN:DAYLIGHT
TZOFFSETFROM:+0100
TZOFFSETTO:+0200
TZNAME:CEST
DTSTART:20160327T010000
END:DAYLIGHT
BEGIN:STANDARD
TZOFFSETFROM:+0200
TZOFFSETTO:+0100
TZNAME:CET
DTSTART:20161030T010000
END:STANDARD
BEGIN:DAYLIGHT
TZOFFSETFROM:+0100
TZOFFSETTO:+0200
TZNAME:CEST
DTSTART:20170326T010000
END:DAYLIGHT
BEGIN:STANDARD
TZOFFSETFROM:+0200
TZOFFSETTO:+0100
TZNAME:CET
DTSTART:20171029T010000
END:STANDARD
TZID:Europe/Paris
BEGIN:DAYLIGHT
TZOFFSETFROM:+0100
TZOFFSETTO:+0200
TZNAME:CEST
DTSTART:20130331T010000
END:DAYLIGHT
BEGIN:STANDARD
TZOFFSETFROM:+0200
TZOFFSETTO:+0100
TZNAME:CET
DTSTART:20131027T010000
END:STANDARD
BEGIN:DAYLIGHT
TZOFFSETFROM:+0100
TZOFFSETTO:+0200
TZNAME:CEST
DTSTART:20140330T010000
END:DAYLIGHT
BEGIN:STANDARD
TZOFFSETFROM:+0200
TZOFFSETTO:+0100
TZNAME:CET
DTSTART:20141026T010000
END:STANDARD
BEGIN:DAYLIGHT
TZOFFSETFROM:+0100
TZOFFSETTO:+0200
TZNAME:CEST
DTSTART:20150329T010000
END:DAYLIGHT
BEGIN:STANDARD
TZOFFSETFROM:+0200
TZOFFSETTO:+0100
TZNAME:CET
DTSTART:20151025T010000
END:STANDARD
END:VTIMEZONE
BEGIN:VEVENT
DTSTART;TZID=Europe/Paris:20170222T090000
DTEND;TZID=Europe/Paris:20170223T190000
DTSTAMP:20260422T050035
CREATED:20170117T092647Z
LAST-MODIFIED:20170123T185319Z
UID:10000389-1487754000-1487876400@www.axe-sens.org
SUMMARY:Consultations à Paris avec Éléonora
DESCRIPTION:Psycho énergéticienne et praticienne en MTC\, ( énergétique chinoise )\, homéopathe et naturopathe… \nÉléonora vous recevra en consultation individuelle à Paris le 22\,23 février dans son nouveau cabinet Espace Gaele’M – métro Oberkampf. \nLibération des blocages conscients et inconscients\, accompagnement vers un mieux être physique\, psychique et émotionnel. \nAccompagnement sur l’équilibrage énergétique de votre corps\, cœur\, âme et esprit. \nInfos et réservation : \ncontact@axe-sens.org\nEleonora Quemener 06 16 57 61 99\nLara 06 16 52 91 03
URL:https://www.axe-sens.org/rendez-vous/consultations-a-paris-3
LOCATION:Esapce Gaele ‘M\, 15 rue de Crussol\, Paris
CATEGORIES:Eleonora Quemener,Energétique,Thérapie
ATTACH;FMTTYPE=image/jpeg:https://www.axe-sens.org/wp-content/uploads/2016/12/carte-de-voeux-fleur-de-vie-e1603451514489.jpg
GEO:48.8643099;2.3680919
X-APPLE-STRUCTURED-LOCATION;VALUE=URI;X-ADDRESS=Esapce Gaele ‘M 15 rue de Crussol Paris;X-APPLE-RADIUS=500;X-TITLE=15 rue de Crussol:geo:2.3680919,48.8643099
END:VEVENT
BEGIN:VEVENT
DTSTART;TZID=Europe/Paris:20170211T200000
DTEND;TZID=Europe/Paris:20170211T220000
DTSTAMP:20260422T050035
CREATED:20170117T091810Z
LAST-MODIFIED:20170123T185242Z
UID:10000388-1486843200-1486850400@www.axe-sens.org
SUMMARY:Atelier-méditation de pleine lune à Marseille
DESCRIPTION:Atelier de méditation de pleine lune à Marseille \nAvec Éléonora \n  \nL’amplification des énergies véhiculées les jours de pleine lune permettent des actions plus importantes. \nNous proposons ici une méditation guidée afin d’accompagner chacun dans des libérations\, des alignements et une reconnexion afin de lui permettre d’accroitre son énergie de vie. \nLes thèmes varient en fonction de l’astrologie en cours. \n  \nSamedi 11 février de 20h à 22h au domaine de TerreSainte. \nRepas partagés pour ceux qui le désirent après la méditation. \n  \nParticipation souhaitée 22€\, \nParticipations libres et conscientes bienvenues. \n  \nInfos et réservation : \ncontact@axe-sens.org\nEleonora Quemener 06 16 57 61 99\nLara 06 16 52 91 03
URL:https://www.axe-sens.org/rendez-vous/atelier-de-meditation-de-pleine-lune-a-marseille
LOCATION:Domaine de TerreSainte\, BVD Notre Dame de Santa Cruz\, Marseille
CATEGORIES:Ateliers,Eleonora Quemener,Energétique,Méditations,Thérapie
ATTACH;FMTTYPE=image/jpeg:https://www.axe-sens.org/wp-content/uploads/2017/01/ob_21cbdd_100359159.jpg
GEO:43.342279;5.4061361
X-APPLE-STRUCTURED-LOCATION;VALUE=URI;X-ADDRESS=Domaine de TerreSainte BVD Notre Dame de Santa Cruz Marseille;X-APPLE-RADIUS=500;X-TITLE=BVD Notre Dame de Santa Cruz:geo:5.4061361,43.342279
END:VEVENT
BEGIN:VEVENT
DTSTART;TZID=Europe/Paris:20170211T140000
DTEND;TZID=Europe/Paris:20170211T190000
DTSTAMP:20260422T050035
CREATED:20170117T085812Z
LAST-MODIFIED:20170123T185202Z
UID:10000387-1486821600-1486839600@www.axe-sens.org
SUMMARY:Atelier d'activation matricielle à Marseille
DESCRIPTION:Atelier d’activation matricielle \nPar Éléonora \nBeaucoup de nos blocages ou programmes limitants sont encore inscrits dans nos chakras de base et nous empêchent de retrouver notre véritable puissance. \nHommes et femmes sont encore confrontés à des mémoires inconscientes d’abus\, de perte de pouvoir\, de manque de confiance… \nIl s’agit ici de nettoyer ses mémoires et de retrouver sa connexion tellurique\, matricielle afin de dégager les résidus discordants de notre incarnation. \n  \n\nExercices physiques\nMéditation de visualisation\nExercices de respiration\nPratique énergétique…\nThéories pratiques\n\n  \nPrévoir une tenue confortable\, un coussin de méditation\, un châle ou couverture. \n  \nSamedi 11 février de 14h à 19h au domaine de TerreSainte. \nParticipation : 50€ \n  \nInfos et réservation : \ncontact@axe-sens.org\nEleonora Quemener 06 16 57 61 99\nLara 06 16 52 91 03
URL:https://www.axe-sens.org/rendez-vous/atelier-dactivation-matricielle-a-marseille
LOCATION:Domaine de TerreSainte\, BVD Notre Dame de Santa Cruz\, Marseille
CATEGORIES:Ateliers,Eleonora Quemener,Energétique,Méditations,Thérapie
ATTACH;FMTTYPE=image/jpeg:https://www.axe-sens.org/wp-content/uploads/2017/01/Oogvy0VV6PpwwtAvjHqNOiOAEsY.jpg
GEO:43.342279;5.4061361
X-APPLE-STRUCTURED-LOCATION;VALUE=URI;X-ADDRESS=Domaine de TerreSainte BVD Notre Dame de Santa Cruz Marseille;X-APPLE-RADIUS=500;X-TITLE=BVD Notre Dame de Santa Cruz:geo:5.4061361,43.342279
END:VEVENT
BEGIN:VEVENT
DTSTART;TZID=Europe/Paris:20170127T193000
DTEND;TZID=Europe/Paris:20170127T213000
DTSTAMP:20260422T050035
CREATED:20170117T084938Z
LAST-MODIFIED:20170117T153349Z
UID:10000386-1485545400-1485552600@www.axe-sens.org
SUMMARY:Méditation collective pour la paix
DESCRIPTION:Méditation collective pour la paix en reliance internationale le 27 janvier 2017 \n  \nÉléonora vous accueille à Essaouira à partir de 18h30 heure marocaine pour une méditation de reliance en unité de coeur. \nNous savons que l’énergie suit la conscience\, et que plus nous sommes unis les uns avec les autres\, plus notre action bienveillante agit et se propage comme une contagion bénéfique tout autour de la Terre. \nEn lien avec Emilie Barelier à Marseille à 19h30 heure de France et en reliance internationale avec nos amis de cœur\,  au Canada\, en Inde\, en Amerique du Sud ou en Asie…Nous initions cette méditation pour la paix afin de goûter et d’unifier ces instants précieux entre les mondes. Que tous ceux qui se sentent l’envie de s’unir à nous soient les bienvenus. \nIl s’agit de se poser et de s’offrir dans l’instant présent la possibilité de toucher la paix en nous afin de la rayonner autour de nous. \nParticipation libre et consciente. \nContact Essaouira : Yuri : 00212 06 04 95 10 86
URL:https://www.axe-sens.org/rendez-vous/meditation-collective-pour-la-paix-en-reliance-internationale
CATEGORIES:Energétique,Méditations
ATTACH;FMTTYPE=image/jpeg:https://www.axe-sens.org/wp-content/uploads/2017/01/meditation_univers.jpg
END:VEVENT
BEGIN:VEVENT
DTSTART;TZID=Europe/Paris:20151109T080000
DTEND;TZID=Europe/Paris:20151115T170000
DTSTAMP:20260422T050035
CREATED:20150924T075903Z
LAST-MODIFIED:20151023T134204Z
UID:10000287-1447056000-1447606800@www.axe-sens.org
SUMMARY:Retraite initiatique au Maroc
DESCRIPTION:Dans le cadre d’une nouvelle collaboration avec le Maroc\, Eléonora vous convie à une retraite initiatique au Centre TISSA à Moulay Bousarkon dans la région d’Essaouira. www.centretissa.com \nLieu de ressourcement\, fondé sur un site sacré Récupérer sa force et son énergie vitale… Reconnecter avec ses propres «pouvoirs»… Retrouver sa véritable dimension… Une meilleure fluidité dans son existence Notre journée sera ponctuée par des exercices de yoga\, respiration et méditation le matin. Initiations\, ateliers et formation l’après-midi. Temps libre et ressourcement… Hammams et massages ainsi qu’initiations aux massages seront également au programme. Nous aurons la chance dune de travailler avec des Haddarates guérisseuses soufis lors d’un rituels sacrés… Les Haddarates sont des groupes de femmes qui animent la musique et le chant Soufi. Habituellement réservés aux femmes\, ce nom dérive de Hadhra\, qui signifie “présence divine”. Cette soirée nous mènera au bout de la nuit\, pour expérimenter\, dans le respect de cet art sacré\, la transe de guérison. Cet héritage culturel et religieux est transmis de génération en génération par les femmes.
URL:https://www.axe-sens.org/rendez-vous/retraite-initiatique-au-maroc
LOCATION:Centre Tissa\, Moulay Bousarktoun\, Morocco
CATEGORIES:Arts,Ateliers,Danse,Energétique,Formations,Méditations,Musique,Séminaires
ATTACH;FMTTYPE=image/jpeg:https://www.axe-sens.org/wp-content/uploads/2014/03/images-75.jpg
END:VEVENT
BEGIN:VEVENT
DTSTART;TZID=Europe/Paris:20151030T193000
DTEND;TZID=Europe/Paris:20151030T220000
DTSTAMP:20260422T050035
CREATED:20150924T075242Z
LAST-MODIFIED:20150924T083531Z
UID:10000286-1446233400-1446242400@www.axe-sens.org
SUMMARY:Concert Chants Sacrés-sons de Guérison
DESCRIPTION:A travers des mantras universels chantés et des sonorités canalisées\, accompagnés de bols de cristal et d’autres instruments aux sonorités chatoyantes\, Eléonora vous emmène dans un voyage au cœur de l’Âme. \nA Marseille
URL:https://www.axe-sens.org/rendez-vous/concert-de-chants-sacres-et-de-sons-de-guerison-2
LOCATION:Domaine de TerreSainte\, BVD Notre Dame de Santa Cruz\, Marseille
GEO:43.342279;5.4061361
X-APPLE-STRUCTURED-LOCATION;VALUE=URI;X-ADDRESS=Domaine de TerreSainte BVD Notre Dame de Santa Cruz Marseille;X-APPLE-RADIUS=500;X-TITLE=BVD Notre Dame de Santa Cruz:geo:5.4061361,43.342279
END:VEVENT
BEGIN:VEVENT
DTSTART;TZID=Europe/Paris:20151003T100000
DTEND;TZID=Europe/Paris:20151003T183000
DTSTAMP:20260422T050035
CREATED:20150924T074632Z
LAST-MODIFIED:20150924T081744Z
UID:10000285-1443866400-1443897000@www.axe-sens.org
SUMMARY:Formation Thérapeute
DESCRIPTION:Lors de cette journée Eléonora vous transmettra les bases fondamentales du toucher thérapeutique\, les points d’accupression importants\, les gestes et les mouvements à adopter pour remettre les énergies en circulation\, pour nettoyer et harmoniser le corps. Elle vous transmettra  les protocoles de différents types de massages multidimensionnels \nElle vous transmettra également les clefs importantes à connaitre pour pratiquer des soins énergétiques; pour être un canal d’énergie\, pour apprendre à se protéger\, et pourvoir commencer à œuvrer avec vos proches\, vos familles\, vos amis… \nRepas partagés \nInfos : 06 16 57 61 99
URL:https://www.axe-sens.org/rendez-vous/formation-therapeute-2
LOCATION:Résidence d’art\, 12 rue Aristide Briand\, Joinville le Pont \, 94340 
ATTACH;FMTTYPE=image/jpeg:https://www.axe-sens.org/wp-content/uploads/2014/09/images.jpg
GEO:48.821203;2.4652358
X-APPLE-STRUCTURED-LOCATION;VALUE=URI;X-ADDRESS=Résidence d’art 12 rue Aristide Briand Joinville le Pont  94340;X-APPLE-RADIUS=500;X-TITLE=12 rue Aristide Briand:geo:2.4652358,48.821203
END:VEVENT
BEGIN:VEVENT
DTSTART;TZID=Europe/Paris:20150929T080000
DTEND;TZID=Europe/Paris:20151002T170000
DTSTAMP:20260422T050035
CREATED:20150924T073840Z
LAST-MODIFIED:20150924T081546Z
UID:10000374-1443513600-1443805200@www.axe-sens.org
SUMMARY:Séances individuelles à Paris
DESCRIPTION:Du mardi 29 septembre au vendredi 2 Octobre 2015 \nPsycho énergétique\, soins multidimensionnels\, médecine chinoise\, Eléonora vous recevra en soins individuels  à Paris sur rendez vous\, \nPour vous accompagner sur des libérations du corps\, de l’âme\, et de l’esprit….Pour des harmonisations \, des transmissions ou des reconnections… \nInfo : 0616576199
URL:https://www.axe-sens.org/rendez-vous/seances-individuelles-a-paris
LOCATION:Salle non nommée\, Paris
CATEGORIES:Energétique,Thérapie
ATTACH;FMTTYPE=image/jpeg:https://www.axe-sens.org/wp-content/uploads/2014/03/fleur-de-vie-bleu.jpg
GEO:48.856614;2.3522219
END:VEVENT
BEGIN:VEVENT
DTSTART;TZID=Europe/Paris:20150928T194500
DTEND;TZID=Europe/Paris:20150928T220000
DTSTAMP:20260422T050035
CREATED:20150924T073503Z
LAST-MODIFIED:20150924T074834Z
UID:10000373-1443469500-1443477600@www.axe-sens.org
SUMMARY:Méditation de pleine lune à Paris
DESCRIPTION:Nous passons cette semaine un cap important\, un cap attendu depuis bien longtemps par tous les travailleurs conscients en œuvre sur cette belle planète. Les miracles sont MAINTENANT… \nSuper Lune de Sang et dernière éclipse totale pour marquer le véritable changement avant 2016… \nLors de cette soirée nous explorerons les différents blocages encore existants. En  notre multidimension résident encore des engrammes de limitation\, bien souvent logés dans les affres de note ego sous différentes formes. \nLe but de ces méditations est de permettre une libération encore et toujours\, des résistances qui nous empêchent de nous aligner en totalité\, dans la paix et la fluidité de notre existence. \nInfos : 06 16 57 61 99
URL:https://www.axe-sens.org/rendez-vous/meditation-de-pleine-lune-a-paris
LOCATION:Porte de St Cloud\, Paris
CATEGORIES:Cours,Méditations,Thérapie
ATTACH;FMTTYPE=image/jpeg:https://www.axe-sens.org/wp-content/uploads/2014/03/images-60.jpg
END:VEVENT
BEGIN:VEVENT
DTSTART;TZID=Europe/Paris:20150927T203000
DTEND;TZID=Europe/Paris:20150927T223000
DTSTAMP:20260422T050035
CREATED:20150924T072605Z
LAST-MODIFIED:20150924T081835Z
UID:10000372-1443385800-1443393000@www.axe-sens.org
SUMMARY:Méditation de pleine lune à Marseille
DESCRIPTION:Super Lune de Sang et dernière éclipse totale pour marquer le véritable changement avant 2016… \nLors de cette soirée nous explorerons les différents blocages encore existants. En  notre multidimension résident encore des engrammes de limitation\, bien souvent logés dans les affres de note ego sous différentes formes. \nLe but de ces méditations est de permettre une libération encore et toujours\, des résistances qui nous empêchent de nous aligner en totalité\, dans la paix et la fluidité de notre existence. \n 
URL:https://www.axe-sens.org/rendez-vous/meditation-de-pleine-lune-a-marseille
LOCATION:Domaine de Terresainte
CATEGORIES:Eleonora Quemener,Energétique,Méditations,Thérapie
ATTACH;FMTTYPE=image/jpeg:https://www.axe-sens.org/wp-content/uploads/2015/03/Eclipses2.jpg
END:VEVENT
BEGIN:VEVENT
DTSTART;TZID=Europe/Paris:20150726T070000
DTEND;TZID=Europe/Paris:20150802T070000
DTSTAMP:20260422T050035
CREATED:20150612T194321Z
LAST-MODIFIED:20160721T071129Z
UID:10000369-1437894000-1438498800@www.axe-sens.org
SUMMARY:Retraite initiatique au Maroc avec Eléonora
DESCRIPTION:Dans le cadre d’une nouvelle collaboration avec le Maroc  Eléonora vous convie à une retraite initiatique au Centre TISSA  à Moulay Bousarkon dans la région d’Essaouira. Lieu de ressourcement\, fondé sur un site sacré   Récupérer sa force et son énergie vitale Reconnecter avec  ses propres « pouvoirs » Retrouver sa véritable dimension Pour une meilleure fluidité dans son existence. Notre journée sera ponctuée par des exercices de  yoga\, respiration et méditation le matin  Initiations\, ateliers et formation l’après-midi. Temps libre et ressourcement… Hammams et massages ainsi qu’initiations aux massages seront également au programme.    Nous aurons la chance de participer à un concert de chant sacré avec des Haddarates.  Les Haddarates sont des groupes de femmes qui animent la musique et le chant Soufi. Habituellement réservés aux femmes\, ce nom dérive de Hadhra\, qui signifie “présence divine”. Cette soirée nous mènera au bout de la nuit\, jusqu’à la transe de guérison.  Cet héritage culturel et religieux est transmis de génération en génération par les femmes.  Les hommes Soufis qui pratiquent ces chants sont appelés les Gnaouas.  Elles entonnent des chants sacrés et des louanges\, souvent accompagnés d’instruments de percussion. Elles accompagnent à la fois toutes les manifestations de la vie musicale à Essaouira ainsi que  tous les rites traditionnels de passage…   Les devis seront effectués en fonction du nombre de participants Le prix global inclut toutes les prestations sauf le vol A/R Essouira.   Infos et réservation : 06 16 57 61 99 
URL:https://www.axe-sens.org/rendez-vous/retraite-initiatique-au-maroc-avec-eleonora-du-16-au-23-juillet-2015
LOCATION:Centre Tissa\, Moulay Bousarktoun\, Morocco
CATEGORIES:Arts,Ceremonie,Concerts,Cours,Danse,Energétique,Formations,Musique,Thérapie,Voyages,Yoga
ATTACH;FMTTYPE=image/jpeg:https://www.axe-sens.org/wp-content/uploads/2014/03/tissa.jpg
END:VEVENT
BEGIN:VEVENT
DTSTART;TZID=Europe/Paris:20150704T093000
DTEND;TZID=Europe/Paris:20150704T173000
DTSTAMP:20260422T050035
CREATED:20150618T131737Z
LAST-MODIFIED:20150618T131737Z
UID:10000371-1436002200-1436031000@www.axe-sens.org
SUMMARY:Journée d'initiation au massage énergétique et au toucher thérapeutique.
DESCRIPTION:Lors de cette journée Eléonora vous transmettra les bases fondamentales du toucher thérapeutique\, les points d’accupression importants\, les gestes et les mouvements à adopter pour remettre les énergies en circulation\, pour nettoyer et harmoniser le corps. Elle vous transmettra  les protocoles de différents types de massages multidimensionnels \nElle vous transmettra également les clefs importantes à connaitre pour pratiquer des soins énergétiques; pour être un canal d’énergie\, pour apprendre à se protéger\, et pourvoir commencer à œuvrer avec vos proches\, vos familles\, vos amis… \n  \nLa journée de 9h30 à 17h30 : 80€ \nRepas partagé \n  \n 
URL:https://www.axe-sens.org/rendez-vous/journee-dinitiation-au-massage-energetique-et-au-toucher-therapeutique
LOCATION:Domaine de TerreSainte\, BVD Notre Dame de Santa Cruz\, Marseille
CATEGORIES:Ateliers,Cours,Energétique,Formations,Thérapie
ATTACH;FMTTYPE=image/jpeg:https://www.axe-sens.org/wp-content/uploads/2014/09/Photo-pour-article.jpg
GEO:43.342279;5.4061361
X-APPLE-STRUCTURED-LOCATION;VALUE=URI;X-ADDRESS=Domaine de TerreSainte BVD Notre Dame de Santa Cruz Marseille;X-APPLE-RADIUS=500;X-TITLE=BVD Notre Dame de Santa Cruz:geo:5.4061361,43.342279
END:VEVENT
BEGIN:VEVENT
DTSTART;TZID=Europe/Paris:20150620T073000
DTEND;TZID=Europe/Paris:20150620T170000
DTSTAMP:20260422T050035
CREATED:20150617T103824Z
LAST-MODIFIED:20150617T104113Z
UID:10000370-1434785400-1434819600@www.axe-sens.org
SUMMARY:Méditation Solstice d’été en pleine nature
DESCRIPTION:Le samedi 20 Juin le rendez vous est fixé à 19H30 à Santa Cruz pour organiser les co-voiturages. \nNous nous rendrons ensemble sur le massif de l’Etoile dans un endroit secret  pour  un pic nic partagé \nA la suite de ce partage\, une méditation d’harmonisation et d’équilibrage sera menée par Eleonora \nPrévoir coussins et couvertures\, ou nattes. \nInstruments de cérémonie bien venus. \nParticipation libre et consciente. \nInfos : 06 16 57 61 99 \n  \n  \n 
URL:https://www.axe-sens.org/rendez-vous/meditation-pour-le-solstice-en-nature
LOCATION:Domaine de TerreSainte\, BVD Notre Dame de Santa Cruz\, Marseille
CATEGORIES:Ceremonie,Energétique,Méditations,Musique
ATTACH;FMTTYPE=image/jpeg:https://www.axe-sens.org/wp-content/uploads/2015/06/1555381_10152856808611166_6013060681608407991_n.jpg
GEO:43.342279;5.4061361
X-APPLE-STRUCTURED-LOCATION;VALUE=URI;X-ADDRESS=Domaine de TerreSainte BVD Notre Dame de Santa Cruz Marseille;X-APPLE-RADIUS=500;X-TITLE=BVD Notre Dame de Santa Cruz:geo:5.4061361,43.342279
END:VEVENT
BEGIN:VEVENT
DTSTART;TZID=Europe/Paris:20131104T080000
DTEND;TZID=Europe/Paris:20131106T170000
DTSTAMP:20260422T050035
CREATED:20131102T110414Z
LAST-MODIFIED:20131102T193755Z
UID:10000316-1383552000-1383757200@www.axe-sens.org
SUMMARY:Soins à Paris
DESCRIPTION:Eléonora vous reçoit en consultation privée du lundi 4 Novembre au mercredi 6 Novembre sur rendez vous \nDéprogrammation cellulaire\, libération de blocages conscients ou inconscients\, accompagnement physique en médecine chinoise…Reconnexion avec des parties plus subtiles de vous même. \nInfo et rendez vous : 06 16 57 61 99 \n  \n  \n 
URL:https://www.axe-sens.org/rendez-vous/soins-a-paris
LOCATION:28 rue Renée boulanger\, Paris\, 75010
ATTACH;FMTTYPE=image/jpeg:https://www.axe-sens.org/wp-content/uploads/2012/02/fleur_lotus_zinnia_alsace.jpg
END:VEVENT
BEGIN:VEVENT
DTSTART;TZID=Europe/Paris:20130427T090000
DTEND;TZID=Europe/Paris:20130427T200000
DTSTAMP:20260422T050035
CREATED:20130417T180029Z
LAST-MODIFIED:20130420T154850Z
UID:10000305-1367053200-1367092800@www.axe-sens.org
SUMMARY:Formation thérapeute à Paris
DESCRIPTION:Retrouver son autonomie en énergétique. \n\nCe nouvel atelier va permettre une mise au point et un réajustement des différents enseignements proposés depuis plusieurs années. Il s’agit ici de recentrer notre regard\, et notre \ncompréhension de la multidimension. Plus notre conscience s’ouvre\, plus il nous est demandé \nd’affiner nos ressentis et notre justesse. Quels sont les différents types d’énergie qui nous traversent\, \ncomment et pourquoi ?\nComment les reconnaître et les utiliser.\nComment retrouver son autonomie énergétique. \nTous les êtres en chemin se disent œuvrer aujourd’hui avec “la lumière”. Mais qu’est ce que la lumière véritablement et comment la reconnaître ? Comment savoir si notre “connexion” est juste ? Si nos outils ne sont pas “obsolètes”Cet atelier va permettre d’ajuster les outils fondamentaux qui servent aujourd’hui aux thérapeutes énergéticiens et à tout êtres qui œuvrent en conscience sur leur chemin de vie.
URL:https://www.axe-sens.org/rendez-vous/formation-therapeute
LOCATION:Porte de St Cloud\, Paris
ATTACH;FMTTYPE=image/jpeg:https://www.axe-sens.org/wp-content/uploads/2013/04/medita10.jpg
END:VEVENT
END:VCALENDAR