BEGIN:VCALENDAR
VERSION:2.0
PRODID:-//Axe &amp; Sens - ECPv6.8.1//NONSGML v1.0//EN
CALSCALE:GREGORIAN
METHOD:PUBLISH
X-ORIGINAL-URL:https://www.axe-sens.org
X-WR-CALDESC:Évènements pour Axe &amp; Sens
REFRESH-INTERVAL;VALUE=DURATION:PT1H
X-Robots-Tag:noindex
X-PUBLISHED-TTL:PT1H
BEGIN:VTIMEZONE
TZID:Europe/Paris
BEGIN:DAYLIGHT
TZOFFSETFROM:+0100
TZOFFSETTO:+0200
TZNAME:CEST
DTSTART:20230326T010000
END:DAYLIGHT
BEGIN:STANDARD
TZOFFSETFROM:+0200
TZOFFSETTO:+0100
TZNAME:CET
DTSTART:20231029T010000
END:STANDARD
END:VTIMEZONE
BEGIN:VEVENT
DTSTART;TZID=Europe/Paris:20231001T170000
DTEND;TZID=Europe/Paris:20231001T193000
DTSTAMP:20260421T215456
CREATED:20230923T162737Z
LAST-MODIFIED:20230923T164409Z
UID:10000512-1696179600-1696188600@www.axe-sens.org
SUMMARY:Méditation guidée et voyage sonore multidimensionnel
DESCRIPTION:Le Dimanche 1 er Octobre de 17h30 à 19H30\nTerresainte – Marseille. \nEleonora vous accueillera à Marseille à Terresainte pour une soirée de méditation et de concerts. Nous démarrerons avec une méditation guidée dans l’énergie de l’équinoxe et l’entrée dans l’automne.\nNous travaillerons aux réajustements énergétiques afin d’offrir à notre structure les ouvertures et alignements nécessaires.\nIl s’agit d’accueillir avec une plus grande fluidité les différents mouvements vibratoires et permettre les ancrages nécessaires.\nCette méditation en présentiel sera accompagnée  par  Laurent Humbert aux instruments et se terminera par un concert multidimensionnel. Un voyage sonore vibratoire. \nEléonora est psycho-énergéticienne\, lors des concerts\, dans ses soins et ses méditations\, elle utilise sa voix\, chants sacrés\, intuitifs\, ou sons canalisés pour permettre aux énergies de se frayer un chemin dans les parties les plus subtiles de notre être. \nLawrence est électroacousticien :  avec des bols\, harpe de cristal\, carillons\, gongs\, bâtons de pluies\, cloches…  et d’autres instruments aux sonorités chatoyantes\, il crée des ambiances sonores et ouvre des portes insoupsonnées. \nAllongés sur le sol ou assis confortablement vous allez vous envoler et recevoir des soins sonores de hautes fréquences. \nUne collation partagée est proposée après l’évènement. Merci de vous inscrire rapidement car la jauge est limitée. \nPour votre confort veuillez apporter un matelas de yoga\, un plaid\, et ou un zafu. \n  \nSoirée méditation et concert : 20 €\nCotisation annuelle à l’association : 5€ \nInfos et réservation : 06 16 57 61 99 \n 
URL:https://www.axe-sens.org/rendez-vous/meditation-guidee-et-voyage-sonore-multidimensionnel
LOCATION:Domaine de Terresainte
CATEGORIES:Eleonora Quemener,Energétique,Méditations,Thérapie
ATTACH;FMTTYPE=image/jpeg:https://www.axe-sens.org/wp-content/uploads/2014/09/images-13.jpg
END:VEVENT
END:VCALENDAR