BEGIN:VCALENDAR
VERSION:2.0
PRODID:-//Axe &amp; Sens - ECPv6.8.1//NONSGML v1.0//EN
CALSCALE:GREGORIAN
METHOD:PUBLISH
X-WR-CALNAME:Axe &amp; Sens
X-ORIGINAL-URL:https://www.axe-sens.org
X-WR-CALDESC:Évènements pour Axe &amp; Sens
REFRESH-INTERVAL;VALUE=DURATION:PT1H
X-Robots-Tag:noindex
X-PUBLISHED-TTL:PT1H
BEGIN:VTIMEZONE
TZID:Europe/Paris
BEGIN:DAYLIGHT
TZOFFSETFROM:+0100
TZOFFSETTO:+0200
TZNAME:CEST
DTSTART:20160327T010000
END:DAYLIGHT
BEGIN:STANDARD
TZOFFSETFROM:+0200
TZOFFSETTO:+0100
TZNAME:CET
DTSTART:20161030T010000
END:STANDARD
END:VTIMEZONE
BEGIN:VEVENT
DTSTART;TZID=Europe/Paris:20161115T200000
DTEND;TZID=Europe/Paris:20161115T220000
DTSTAMP:20260422T044800
CREATED:20161110T165056Z
LAST-MODIFIED:20161110T165737Z
UID:10000381-1479240000-1479247200@www.axe-sens.org
SUMMARY:Chants pour la paix - Soirée animée par Amaé à Marseille
DESCRIPTION:Dans cet atelier\, le propos n’est pas de “bien” chanter\, mais bien de chanter et de laisser l’âme agir et opérer. \n\nAmaé\,chanteuse de l’âme apporte avec simplicité la voix du rayonnement de l’être. Elle nous guide içi par des mantras et des chants sacrés à l’exploration intérieure et à l’ouverture de la voie(x) du coeur.Sanskrit\, Hébreux\, Araméen\, Espagnol\, Anglais ou Français…De superbes énergies sont déployées grâce à la magie du cercle et à la pureté de ces dialectes en chacun éveillés.Profondément inspirée\, la voix d’Amaé nous fait voyager…vers l’Amour\, l’Union et la Paix.\n\nInfos et réservations\, Amaé : 0613089533\n\nwww.emilie-amae.com
URL:https://www.axe-sens.org/rendez-vous/chants-pour-la-paix-soiree-animee-par-amae-a-marseille
LOCATION:Domaine de TerreSainte\, BVD Notre Dame de Santa Cruz\, Marseille
CATEGORIES:Concerts,Musique
ATTACH;FMTTYPE=image/jpeg:https://www.axe-sens.org/wp-content/uploads/2016/11/e346f107-3d9e-4342-bf1f-840c6a3fb061.jpg
GEO:43.342279;5.4061361
X-APPLE-STRUCTURED-LOCATION;VALUE=URI;X-ADDRESS=Domaine de TerreSainte BVD Notre Dame de Santa Cruz Marseille;X-APPLE-RADIUS=500;X-TITLE=BVD Notre Dame de Santa Cruz:geo:5.4061361,43.342279
END:VEVENT
END:VCALENDAR