BEGIN:VCALENDAR
VERSION:2.0
PRODID:-//Axe &amp; Sens - ECPv6.8.1//NONSGML v1.0//EN
CALSCALE:GREGORIAN
METHOD:PUBLISH
X-WR-CALNAME:Axe &amp; Sens
X-ORIGINAL-URL:https://www.axe-sens.org
X-WR-CALDESC:Évènements pour Axe &amp; Sens
REFRESH-INTERVAL;VALUE=DURATION:PT1H
X-Robots-Tag:noindex
X-PUBLISHED-TTL:PT1H
BEGIN:VTIMEZONE
TZID:Europe/Paris
BEGIN:DAYLIGHT
TZOFFSETFROM:+0100
TZOFFSETTO:+0200
TZNAME:CEST
DTSTART:20240331T010000
END:DAYLIGHT
BEGIN:STANDARD
TZOFFSETFROM:+0200
TZOFFSETTO:+0100
TZNAME:CET
DTSTART:20241027T010000
END:STANDARD
END:VTIMEZONE
BEGIN:VEVENT
DTSTART;TZID=Europe/Paris:20240325T203000
DTEND;TZID=Europe/Paris:20240325T213000
DTSTAMP:20260421T201429
CREATED:20240325T100721Z
LAST-MODIFIED:20240325T101536Z
UID:10000524-1711398600-1711402200@www.axe-sens.org
SUMMARY:Méditation de pleine lune - 25 Mars 2024
DESCRIPTION:Cette 3 eme pleine lune de l’année\, première du printemps sera  exceptionnellement puissante. Couplée à une éclipse lunaire dans le signe de la balance\, elle vient clôturer un cycle de 6 mois qui a commencé le 14 Octobre 2023. Elle vient clore une période de transformation profonde. Ces énergies très spécifiques permettent une transmutation de notre identité sur tous les points qui sont liés à la complaisance. Ses énergies vont nous permettre de faire tomber les masques\, d’arrêter d’être trop gentil\, de tout accepter… De redéfinir ce qui est ” juste ” pour chacun. Nous sommes guidés pour mettre un terme à une situation qui ne nous convient plus. C’est également le moment de s’interroger sur ses relations\, professionnelles\, amicales\, familiales ou amoureuses. De se repositionner\, de redéfinir l’importance de ses implications\, de lâcher les anciens conflits et accueillir de nouvelles perspectives. \nLa méditation aura lieu à 20 h30 le lundi 25 Mars  via WhatsApp. \nMerci de vous installer confortablement avec une petite enceinte si possible. \nLa participation souhaitée est de 20 €\nNous proposons également une participation libre et consciente pour les personnes en précarité. \nVotre inscription sera validée dès votre règlement avec l’application Lydia  ( Lien Lydia )\, paiement par mon numéro le 06 16 57 61 99. \nPar PayPal avec cette adresse : contact@axe-sens.org \nMerci de me faire  parvenir un texto avec votre adresse mail dès votre règlement afin de recevoir les codes de connexion 15 minutes avant le début de la méditation. Et afin de faire les tests techniques. \nIl ne vous restera plus qu’à vous installer confortablement pour ce voyage. \nPour toutes infos merci de me joindre directement par texto \nBien à vous et au plaisir de vous retrouver pour ce travail \nEléonora \n  \n  \nTel :  06 16 57 61 99 \n\nMail : contact@axe-sens.org
URL:https://www.axe-sens.org/rendez-vous/meditation
LOCATION:Whatsapp
CATEGORIES:Energie,Meditation,Pleine lune,Soin
ATTACH;FMTTYPE=image/jpeg:https://www.axe-sens.org/wp-content/uploads/2017/08/full-moon-meditation-cropped-1200x565-e1731519073474.jpg
END:VEVENT
END:VCALENDAR