BEGIN:VCALENDAR
VERSION:2.0
PRODID:-//Axe &amp; Sens - ECPv6.8.1//NONSGML v1.0//EN
CALSCALE:GREGORIAN
METHOD:PUBLISH
X-ORIGINAL-URL:https://www.axe-sens.org
X-WR-CALDESC:Évènements pour Axe &amp; Sens
REFRESH-INTERVAL;VALUE=DURATION:PT1H
X-Robots-Tag:noindex
X-PUBLISHED-TTL:PT1H
BEGIN:VTIMEZONE
TZID:Europe/Paris
BEGIN:DAYLIGHT
TZOFFSETFROM:+0100
TZOFFSETTO:+0200
TZNAME:CEST
DTSTART:20130331T010000
END:DAYLIGHT
BEGIN:STANDARD
TZOFFSETFROM:+0200
TZOFFSETTO:+0100
TZNAME:CET
DTSTART:20131027T010000
END:STANDARD
END:VTIMEZONE
BEGIN:VEVENT
DTSTART;TZID=Europe/Paris:20130426T200000
DTEND;TZID=Europe/Paris:20130426T220000
DTSTAMP:20260422T130059
CREATED:20130417T174557Z
LAST-MODIFIED:20130420T155050Z
UID:10000304-1367006400-1367013600@www.axe-sens.org
SUMMARY:Méditation du Wesak à Paris
DESCRIPTION:Méditation atelier organisée par Eléonora à Paris  \nle vendredi 26 avril 2013 à 20h00\nParis (porte de St Cloud)  \nInfos :0603183163  \nLes énergies véhiculées en notre plan sont de plus en plus puissantes\, mais cela n’implique pas forcement une libération.\nPour le moment\, il nous faut donc redoubler de vigilance et de bienveillance envers nous même et envers les autres\, car ces énergies viennent frapper directement là où ça fait mal\, dans nos failles et nos faiblesses afin de faire remonter à la surface les fléauts qui nous poursuivent depuis tant de temps.\nLe Wesak 2013 vient parfaire l’ensemble des objets qui nous anime\, et nous demande une introspection sans « faux semblant ».\nDans ce mariage sacré des énergies de Christ et de Bouddha\, nous recevrons alors les bénédictions nécessaires. Puissions-nous poser la demande juste\, elle sera entendue. \nA partir du 21 Avril\,  purifions  notre corps afin d’accueillir les récoltes de ce que nous avons semé cet hiver.\nLe jour du Wésak\, essayons de prendre un petit peu plus conscience du Divin en Nous. Il nous est demandé d’essayer d’atteindre  l’unité totale entre nous et nous\, c’est à dire entre la matière physique qui nous entoure et la matière spirituelle\, divine : Notre essence.\nDans notre cœur\, écoutons… Notre moi profond pourra alors se révéler\, avec ses forces et ses faiblesses\, nous montrant ainsi le chemin qu’il reste à parcourir.  Permettons  que la magie « l’âme agit » opère. \nLe Wesak est la Descente et la Bénédiction des énergies Bouddhique et Christique : Le Bouddha et le Christ viennent ensemble bénir la Terre et toute l’Humanité à la Pleine Lune du Taureau de chaque année.\nLe Wésak est la fête du Bouddha\, Représentant du Plan Divin. Le Christ est l’expression de l’Amour du Père\, Bouddha est l’expression de Sa Sagesse. Les deux s’unissent pour apporter à la Terre\, l’énergie d’Amour Universel. Ils posent sur Terre\, l’énergie de la Compassion. La compassion est l’Amour sans condition. Il nous incite à abandonner le mental en vivant la simple Présence dans l’instant présent. Ils nous connectent ainsi avec nos Univers multidimensionnels.\nC’est la grande fête de l’Orient. Au Tibet\, elle est célébrée dans la vallée du Wésak. Elle commémore la naissance\, l’illumination et la mort du Bouddha. \nMême s’ il s’agit d’une pleine lune\, l’energie solaire est à l’honneur. Mariage du père solaire dans la matrice. Vénus aura elle aussi\, un rôle important au niveau de la conscience de l’Amour et aussi de notre créativité dans la beauté. Essayons de faire l’unité en nous et tout autour de nous. Pas besoin de grands mots\, pas besoin de grandes phrases ! Il nous suffira simplement d’ouvrir notre cœur\, d’être en réception de ce que l’Univers\, le Divin déposera en nous. \nLA GRANDE INVOCATION \nDu point de Lumière dans la pensée de Dieu\nQue la Lumière afflue dans la pensée des hommes\nQue la Lumière descende sur la Terre\nDu point d’Amour dans le cœur de Dieu\nQue l’Amour afflue dans le cœur des hommes\nPuisse le Christ revenir sur Terre\nDu centre où la volonté de Dieu est connue\nQue le dessein guide le faible vouloir des hommes\nLe dessein que les Maîtres connaissent et servent\nDu centre que nous appelons la race des hommes\nQue le plan d’Amour et de Lumière s’épanouisse\nEt puisse-t-il sceller la porte de la demeure du mal\nQue Lumière\, Amour et Puissance\nrestaurent le plan sur la Terre \nCette Invocation ou Prière\, transmise par le Maître Djwal Khul n’appartient à aucune personne ni à aucun groupe en particulier mais à toute l’humanité. Elle fut reçu en canalisation par Alice Bailey.
URL:https://www.axe-sens.org/rendez-vous/meditation-du-wesak-a-paris
LOCATION:Paris\, Porte de St Cloud
ATTACH;FMTTYPE=image/jpeg:https://www.axe-sens.org/wp-content/uploads/2013/04/Fete-du-Wesak.jpg
END:VEVENT
END:VCALENDAR