BEGIN:VCALENDAR
VERSION:2.0
PRODID:-//Axe &amp; Sens - ECPv6.8.1//NONSGML v1.0//EN
CALSCALE:GREGORIAN
METHOD:PUBLISH
X-WR-CALNAME:Axe &amp; Sens
X-ORIGINAL-URL:https://www.axe-sens.org
X-WR-CALDESC:Évènements pour Axe &amp; Sens
REFRESH-INTERVAL;VALUE=DURATION:PT1H
X-Robots-Tag:noindex
X-PUBLISHED-TTL:PT1H
BEGIN:VTIMEZONE
TZID:Europe/Paris
BEGIN:DAYLIGHT
TZOFFSETFROM:+0100
TZOFFSETTO:+0200
TZNAME:CEST
DTSTART:20130331T010000
END:DAYLIGHT
BEGIN:STANDARD
TZOFFSETFROM:+0200
TZOFFSETTO:+0100
TZNAME:CET
DTSTART:20131027T010000
END:STANDARD
END:VTIMEZONE
BEGIN:VEVENT
DTSTART;TZID=Europe/Paris:20130721T090000
DTEND;TZID=Europe/Paris:20130721T190000
DTSTAMP:20260422T125943
CREATED:20130718T102839Z
LAST-MODIFIED:20130718T102839Z
UID:10000310-1374397200-1374433200@www.axe-sens.org
SUMMARY:Atelier des 5 éléments à Paris
DESCRIPTION:Le Dimanche 21 juillet de 9h00 à 18h00 \nEléonora vous propose un atelier d’une journée d’intégration et de travail avec les 5 éléments\, comme outil de cocréation. \nDans le Tao les 5 éléments correspondent au cycle d’engendrement\, en médecine chinoise ils correspondent à des organes vitaux. \nPlaton les associe à des géométries sacrées. Ils sont liées à des maîtrises de respiration et des nettoyages de canaux subtils\, outils fondamentaux pour l’intégration de nos structures énergétiques plus élevées. Ils recèlent encore de nombreux mystères que nous livrent ici les initiations proposées lors de ce stage. \nInfo : 06 16 57 61 99 \n 
URL:https://www.axe-sens.org/rendez-vous/atelier-des-5-elements-a-paris
LOCATION:Unnamed Venue\, Rue Renée Boulanger \, Paris\, 75010\, France
ATTACH;FMTTYPE=image/jpeg:https://www.axe-sens.org/wp-content/uploads/2011/08/les5elements2.jpg
END:VEVENT
END:VCALENDAR