BEGIN:VCALENDAR
VERSION:2.0
PRODID:-//Axe &amp; Sens - ECPv6.8.1//NONSGML v1.0//EN
CALSCALE:GREGORIAN
METHOD:PUBLISH
X-WR-CALNAME:Axe &amp; Sens
X-ORIGINAL-URL:https://www.axe-sens.org
X-WR-CALDESC:Évènements pour Axe &amp; Sens
REFRESH-INTERVAL;VALUE=DURATION:PT1H
X-Robots-Tag:noindex
X-PUBLISHED-TTL:PT1H
BEGIN:VTIMEZONE
TZID:Europe/Paris
BEGIN:DAYLIGHT
TZOFFSETFROM:+0100
TZOFFSETTO:+0200
TZNAME:CEST
DTSTART:20180325T010000
END:DAYLIGHT
BEGIN:STANDARD
TZOFFSETFROM:+0200
TZOFFSETTO:+0100
TZNAME:CET
DTSTART:20181028T010000
END:STANDARD
END:VTIMEZONE
BEGIN:VEVENT
DTSTART;TZID=Europe/Paris:20180323T080000
DTEND;TZID=Europe/Paris:20180325T180000
DTSTAMP:20260422T044616
CREATED:20180302T134438Z
LAST-MODIFIED:20180308T113829Z
UID:10000425-1521792000-1522000800@www.axe-sens.org
SUMMARY:Consultations à Strasbourg
DESCRIPTION:Consultations individuelles à Strasbourg\nLe vendredi 23 Mars ET Le samedi 24 Mars 2018 \nÉléonore est psychothérapeute\, énergéticienne et praticienne en médecine chinoise\, homéopathe et naturopathe. Elle est également chaman \nElle oeuvre depuis une quinzaine d’année en tant que thérapeute et guide spirituel. \n\n\n\n\n\ncontact@axe-sens.org\nFB Axe et Sens/ Éléonora Aurora Celestia\nEleonora Quemener 06 16 57 61 99\n\n 
URL:https://www.axe-sens.org/rendez-vous/consultation-et-seminaire-a-strasbourg
LOCATION:Strasbourg
CATEGORIES:Ateliers,Cours,Formations,Séminaires,Stages,Thérapie
ATTACH;FMTTYPE=image/jpeg:https://www.axe-sens.org/wp-content/uploads/2017/03/multidimensionnel-e1490006429935.jpg
END:VEVENT
END:VCALENDAR