BEGIN:VCALENDAR
VERSION:2.0
PRODID:-//Axe &amp; Sens - ECPv6.8.1//NONSGML v1.0//EN
CALSCALE:GREGORIAN
METHOD:PUBLISH
X-ORIGINAL-URL:https://www.axe-sens.org
X-WR-CALDESC:Évènements pour Axe &amp; Sens
REFRESH-INTERVAL;VALUE=DURATION:PT1H
X-Robots-Tag:noindex
X-PUBLISHED-TTL:PT1H
BEGIN:VTIMEZONE
TZID:Europe/Paris
BEGIN:DAYLIGHT
TZOFFSETFROM:+0100
TZOFFSETTO:+0200
TZNAME:CEST
DTSTART:20170326T010000
END:DAYLIGHT
BEGIN:STANDARD
TZOFFSETFROM:+0200
TZOFFSETTO:+0100
TZNAME:CET
DTSTART:20171029T010000
END:STANDARD
BEGIN:DAYLIGHT
TZOFFSETFROM:+0100
TZOFFSETTO:+0200
TZNAME:CEST
DTSTART:20180325T010000
END:DAYLIGHT
BEGIN:STANDARD
TZOFFSETFROM:+0200
TZOFFSETTO:+0100
TZNAME:CET
DTSTART:20181028T010000
END:STANDARD
BEGIN:DAYLIGHT
TZOFFSETFROM:+0100
TZOFFSETTO:+0200
TZNAME:CEST
DTSTART:20190331T010000
END:DAYLIGHT
BEGIN:STANDARD
TZOFFSETFROM:+0200
TZOFFSETTO:+0100
TZNAME:CET
DTSTART:20191027T010000
END:STANDARD
END:VTIMEZONE
BEGIN:VEVENT
DTSTART;TZID=Europe/Paris:20190519T100000
DTEND;TZID=Europe/Paris:20190519T180000
DTSTAMP:20260422T072519
CREATED:20180910T154948Z
LAST-MODIFIED:20190510T150726Z
UID:10000444-1558260000-1558288800@www.axe-sens.org
SUMMARY:Atelier : Développer sa puissance matricielle- ancrage et co - création ( Montpellier)
DESCRIPTION:Eleonora vous propose un atelier à Montpellier \nde 10h00 18h00 \nCet Atelier permet la libération des blessures “matricielles” conscientes et inconscientes \, du rapport à la mère\, au père\, des engrammes matriciels\, afin de réactiver SA matrice\, siège de son propre pouvoir. Aussi bien pour les femmes que pour les hommes\, cet atelier propose des libérations des mémoires d’abus et de manipulations conscientes et inconscientes\, transgénérationnelles.\nApprendre à favoriser l’accueil\, l’ouverture et l’intégration des ses propres énergies et retrouver sa véritable ” puissance”. \nReprogrammation cellulaire \n 
URL:https://www.axe-sens.org/rendez-vous/atelier-developper-sa-puissance-matricielle-ancrage-et-co-creation-montpellier
LOCATION:Salle des Arceaux\, 14 bis Rue Saint Louis\, Montpellier\, 34000\, France
CATEGORIES:Ateliers,Cours,Eleonora Quemener,Energétique,Formations,Séminaires,Stages
ATTACH;FMTTYPE=image/jpeg:https://www.axe-sens.org/wp-content/uploads/2014/09/images-13.jpg
GEO:43.6108771;3.8667179
X-APPLE-STRUCTURED-LOCATION;VALUE=URI;X-ADDRESS=Salle des Arceaux 14 bis Rue Saint Louis Montpellier 34000 France;X-APPLE-RADIUS=500;X-TITLE=14 bis Rue Saint Louis:geo:3.8667179,43.6108771
END:VEVENT
BEGIN:VEVENT
DTSTART;TZID=Europe/Paris:20190518T200000
DTEND;TZID=Europe/Paris:20190518T220000
DTSTAMP:20260422T072519
CREATED:20190510T151328Z
LAST-MODIFIED:20190510T151328Z
UID:10000456-1558209600-1558216800@www.axe-sens.org
SUMMARY:Méditation : Pleine lune du Wezak
DESCRIPTION:Méditation pour la pleine lune du Wezak \nSamedi 18 Mai \n20h00- 22h00 \nSalle des Arceaux \n14 bis rue St Louis \nMontpellier \nInfos : 06 16 57 61 99 \n  \n  \nCette puissante pleine lune ( la réunion des énergies Bouddhiques et Christiques) est une invitation à se réaligner pour mieux exprimer notre essence. Elle nous permet de développer notre réceptivité et d’apprendre à nous laisser guider par notre intuition profonde. Il s’agit maintenant d’agir en pleine conscience. Nos choix fondamentaux imposent de ne plus se laisser aspirer par des événements de” seconds ordres”. Il faut se recentrer et agir en fonction de ce qui fait vibrer notre cœur.\nNous devons reconnaître notre véritable dimension et nous respecter pour tout se que nous sommes. \nParticipation libre et consciente \nSouhaitée : 20 euros
URL:https://www.axe-sens.org/rendez-vous/meditation-pleine-lune-du-wezak
LOCATION:Salle des Arceaux\, 14 bis Rue Saint Louis\, Montpellier\, 34000\, France
CATEGORIES:Eleonora Quemener,Energétique,Méditations
ATTACH;FMTTYPE=image/jpeg:https://www.axe-sens.org/wp-content/uploads/2014/05/images-23.jpg
GEO:43.6108771;3.8667179
X-APPLE-STRUCTURED-LOCATION;VALUE=URI;X-ADDRESS=Salle des Arceaux 14 bis Rue Saint Louis Montpellier 34000 France;X-APPLE-RADIUS=500;X-TITLE=14 bis Rue Saint Louis:geo:3.8667179,43.6108771
END:VEVENT
BEGIN:VEVENT
DTSTART;TZID=Europe/Paris:20190517T100000
DTEND;TZID=Europe/Paris:20190518T180000
DTSTAMP:20260422T072519
CREATED:20190510T151919Z
LAST-MODIFIED:20190510T151919Z
UID:10000457-1558087200-1558202400@www.axe-sens.org
SUMMARY:Consultations individuelles à Montpellier
DESCRIPTION:Consultations individuelles à Montpellier \nLe vendredi 17 et le Samedi 18 Mai \nSalle des Arceaux \n  \n  \nPsycho-énergéticienne\, praticienne en énergétique chinoise\, homéopathe et naturopathe\, Eléonora Quemener associe dans son travail de multiples connaissances pour offrir des soins qui prennent en compte la globalité de l’Etre. Elle offre une lecture précise des problématiques conscientes et inconscientes\, physiques mais également énergétiques\, émotionnelles\, trans-générationnelles et karmiques. Elle soutient alors les libérations nécessaires et permet la remise en fluidité de l’énergie dans le corps. En énergétique chinoise et en acupression elle identifie les problématiques physiques et toxiques et remet en circulation l’énergie sur les méridiens afin de libérer les organes\, les programmes limitants\, ou les charges diverses. Quand cela est nécessaire elle propose des remèdes naturels afin de soutenir le corps dans ces libérations.
URL:https://www.axe-sens.org/rendez-vous/consultations-individuelles-a-montpellier
LOCATION:Salle des Arceaux\, 14 bis Rue Saint Louis\, Montpellier\, 34000\, France
CATEGORIES:Eleonora Quemener,Energétique,Médecine Chinoise,Thérapie
ATTACH;FMTTYPE=image/jpeg:https://www.axe-sens.org/wp-content/uploads/2017/03/christal-chaya-e1490865184750.jpg
GEO:43.6108771;3.8667179
X-APPLE-STRUCTURED-LOCATION;VALUE=URI;X-ADDRESS=Salle des Arceaux 14 bis Rue Saint Louis Montpellier 34000 France;X-APPLE-RADIUS=500;X-TITLE=14 bis Rue Saint Louis:geo:3.8667179,43.6108771
END:VEVENT
BEGIN:VEVENT
DTSTART;TZID=Europe/Paris:20180929T203000
DTEND;TZID=Europe/Paris:20180929T223000
DTSTAMP:20260422T072519
CREATED:20180918T195936Z
LAST-MODIFIED:20180918T195936Z
UID:10000446-1538253000-1538260200@www.axe-sens.org
SUMMARY:Voyage sonore - Concert chants sacrés à Montpellier
DESCRIPTION: Samedi 29 Septembre\nSalle des Arceaux\nA 20h30 \nEléonora Quemener et Laurent Humbert vous emmènent ici  dans un voyage sonore subtil au cœur des grandes textes sacrés de notre planète. \nEléonora est psycho-énergéticienne\, lors des concerts et dans ces Cds\, elle utilise sa voix aux travers des plus emblématiques des chants sacrés ( sourates\, mantras\, kabbales\, chants latins\, chants soufis ou amerindiens…)  pour permettre aux énergies de se frayer un chemin dans les parties les plus subtiles de notre être.  Ces mantras de toutes traditions\,  ces chants en langages originels ou les sons canalisés sont accompagnés par Laurent Humbert\, électroacousticien qui avec des bols de cristal\, carillons\, gongs\, bâtons de pluies\, cloches\, shimes… et d’autres instruments aux sonorités chatoyantes\,  se pose délicatement sur la voix afin  de nous offrir un voyage sonore inoubliable. \nEnsembles ils forment le groupe “Altaïr”.\nIls élaborent leur premier CD  : Aurora Celestia \nPaf souhaité: 15 euros\nTarifs libres et conscients pour les petites bourses
URL:https://www.axe-sens.org/rendez-vous/voyage-sonore-concert-chants-sacres-a-montpellier
LOCATION:Salle des Arceaux\, 14 bis Rue Saint Louis\, Montpellier\, 34000\, France
CATEGORIES:Arts,Danse,Eleonora Quemener,Musique,Théâtre,Thérapie,Voyages
ATTACH;FMTTYPE=image/jpeg:https://www.axe-sens.org/wp-content/uploads/2017/03/Photo-concert-e1603451762383.jpg
GEO:43.6108771;3.8667179
X-APPLE-STRUCTURED-LOCATION;VALUE=URI;X-ADDRESS=Salle des Arceaux 14 bis Rue Saint Louis Montpellier 34000 France;X-APPLE-RADIUS=500;X-TITLE=14 bis Rue Saint Louis:geo:3.8667179,43.6108771
END:VEVENT
BEGIN:VEVENT
DTSTART;TZID=Europe/Paris:20180928T100000
DTEND;TZID=Europe/Paris:20180929T180000
DTSTAMP:20260422T072519
CREATED:20180910T153134Z
LAST-MODIFIED:20180927T090923Z
UID:10000443-1538128800-1538244000@www.axe-sens.org
SUMMARY:Consultations à Montpellier
DESCRIPTION:Consultation aux Arceaux\n\n14 rue St Louis\n34000 Montpellier\nLe vendredi 28 Septembre et le dimanche 30 septembre 2018 \nÉléonore est psycho-energéticienne et praticienne en médecine chinoise\, homéopathe\, naturopathe. \nElle oeuvre depuis une quinzaine d’année en tant que thérapeute et accompagne ses patients sur des libérations physiques et des ” blocages”conscients et inconscients”. \nElle vous permet de retrouver une certaine fluidité dans votre existence. \nÉléonora vous recevra en consultation individuelle à Montpellier \nInfos et réservations : 0616576199
URL:https://www.axe-sens.org/rendez-vous/consultations-a-montpellier
LOCATION:Salle des Arceaux\, 14 bis Rue Saint Louis\, Montpellier\, 34000\, France
CATEGORIES:Energétique,Thérapie
ATTACH;FMTTYPE=image/jpeg:https://www.axe-sens.org/wp-content/uploads/2017/03/surrender-artscans-small-72dpi14.jpg
GEO:43.6108771;3.8667179
X-APPLE-STRUCTURED-LOCATION;VALUE=URI;X-ADDRESS=Salle des Arceaux 14 bis Rue Saint Louis Montpellier 34000 France;X-APPLE-RADIUS=500;X-TITLE=14 bis Rue Saint Louis:geo:3.8667179,43.6108771
END:VEVENT
BEGIN:VEVENT
DTSTART;TZID=Europe/Paris:20180505T093000
DTEND;TZID=Europe/Paris:20180505T183000
DTSTAMP:20260422T072519
CREATED:20180427T104407Z
LAST-MODIFIED:20180427T104442Z
UID:10000429-1525512600-1525545000@www.axe-sens.org
SUMMARY:Integration des 5 éléments comme outils de co création. Montpellier
DESCRIPTION:Atelier\nLe samedi 5 Mai de 9h30 à 18h30\nAvec Éléonora Quemener \nDans le Tao les 5 éléments correspondent au cycle d’engendrement\, en médecine chinoise ils correspondent à des organes vitaux. \nPlaton les associe à des géométries sacrées. Ils sont liés à des maîtrises de respiration et des nettoyages de canaux subtils\, outils fondamentaux pour l’intégration de nos structures énergétiques les plus élevées. \nNotre matière elle même est constituée de ces 5 éléments qui agissent en interconnexion et en alchimie les uns avec les autres. \nAu cours de la journée nous allons intégrer ces différents éléments\, un a un sous toutes leurs facettes afin de les intégrer énergétiquement et cellulairement. \nIls recèlent de nombreux mystères que nous livrent ici les initiations proposées lors de cette journée. \nThéories pratiques\, méditations guidées\, pratiques chamaniques ou spirituelles ancestrales… Vous explorerez ici chacun des éléments dans son intégralité afin d’apprendre à les utiliser en conscience. \nInfos et réservation : \ncontact@axe-sens.org\nFB Axe et Sens/ Éléonora Aurora Celestia\nEleonora Quemener 06 16 57 61 99
URL:https://www.axe-sens.org/rendez-vous/integration-des-5-elements-comme-outils-de-co-creation
LOCATION:Salle des Arceaux\, 14 bis Rue Saint Louis\, Montpellier\, 34000\, France
CATEGORIES:Cours,Eleonora Quemener,Energétique,Formations,Séminaires,Stages,Thérapie
ATTACH;FMTTYPE=image/jpeg:https://www.axe-sens.org/wp-content/uploads/2011/08/les5elements.jpg
GEO:43.6108771;3.8667179
X-APPLE-STRUCTURED-LOCATION;VALUE=URI;X-ADDRESS=Salle des Arceaux 14 bis Rue Saint Louis Montpellier 34000 France;X-APPLE-RADIUS=500;X-TITLE=14 bis Rue Saint Louis:geo:3.8667179,43.6108771
END:VEVENT
BEGIN:VEVENT
DTSTART;TZID=Europe/Paris:20180503T200000
DTEND;TZID=Europe/Paris:20180503T220000
DTSTAMP:20260422T072519
CREATED:20180427T104746Z
LAST-MODIFIED:20180427T105521Z
UID:10000430-1525377600-1525384800@www.axe-sens.org
SUMMARY:Concert de chants sacrés et sons de guérison. Montpellier
DESCRIPTION:Concert de chants sacrés et sons de guérison Montpellier\njeudi 3 mai à 20 h30\nEleonora Quemener et Laurent Humbert vous emmèneront  dans un voyage sonore subtil\, au cœur de l’Âme. \nEléonora est psycho-énergéticienne\, elle utilise ici sa voix pour permettre aux énergies de se frayer un chemin dans les parties les plus subtiles de notre être afin de libérer les blocages conscients et inconscients. \nElle est accompagnée ici par Laurent Humbert\, électroacousticien avec qui elle élabore son premier CD chants sacrés universels. \nA travers des mantras de toutes les traditions\, en langages originels et des sonorités canalisées\, accompagnés de bols de cristal et d’autres instruments aux sonorités chatoyantes\, ils vous offriront\,  allongés dans le sable un voyage sonore  inoubliable. \n 
URL:https://www.axe-sens.org/rendez-vous/5537
LOCATION:Salle des Arceaux\, 14 bis Rue Saint Louis\, Montpellier\, 34000\, France
CATEGORIES:Arts,Energétique,Exposition,Musique,Thérapie
ATTACH;FMTTYPE=image/jpeg:https://www.axe-sens.org/wp-content/uploads/2018/02/20171231-Auroville-Swedam-Reveillon-PG-64-e1603450238679.jpg
GEO:43.6108771;3.8667179
X-APPLE-STRUCTURED-LOCATION;VALUE=URI;X-ADDRESS=Salle des Arceaux 14 bis Rue Saint Louis Montpellier 34000 France;X-APPLE-RADIUS=500;X-TITLE=14 bis Rue Saint Louis:geo:3.8667179,43.6108771
END:VEVENT
BEGIN:VEVENT
DTSTART;TZID=Europe/Paris:20170928T203000
DTEND;TZID=Europe/Paris:20170928T223000
DTSTAMP:20260422T072519
CREATED:20170919T064611Z
LAST-MODIFIED:20170919T064611Z
UID:10000325-1506630600-1506637800@www.axe-sens.org
SUMMARY:Concert de chants sacrés et sons vibratoires à Montpellier
DESCRIPTION:Concert de chants sacrés et sons vibratoires à Montpellier \nLe jeudi 28 Septembre 2017 de 20h30 à 22h30 \nAvec Éléonora \n  \nÉléonora vous propose ici une rencontre par le biais d’un concert. \n  \nEleonora Quemener\, psycho-énergéticienne\, utilise ici sa voix pour permettre aux énergies de se frayer un chemin dans les parties les plus subtiles de notre être afin de libérer les blocages conscients et inconscients. \nA travers des mantras universels chantés et des sonorités canalisées\, accompagnés de bols de cristal et d’autres instruments aux sonorités chatoyantes\, elle vous emmènera  dans un voyage subtil\, au cœur de l’Âme. \n  \nInfos et réservations : \ncontact@axe-sens.org\nFB Axe et Sens/ Éléonora Aurora Celestia\nEleonora Quemener 06 16 57 61 99\nLara 06 16 52 91 03
URL:https://www.axe-sens.org/rendez-vous/concert-de-chants-sacres-et-sons-vibratoires-a-montpellier-2
LOCATION:Salle des Arceaux\, 14 bis Rue Saint Louis\, Montpellier\, 34000\, France
CATEGORIES:Concerts,Eleonora Quemener,Energétique,Musique
ATTACH;FMTTYPE=image/jpeg:https://www.axe-sens.org/wp-content/uploads/2017/09/musical-butterflies-e1505807145198.jpg
GEO:43.6108771;3.8667179
X-APPLE-STRUCTURED-LOCATION;VALUE=URI;X-ADDRESS=Salle des Arceaux 14 bis Rue Saint Louis Montpellier 34000 France;X-APPLE-RADIUS=500;X-TITLE=14 bis Rue Saint Louis:geo:3.8667179,43.6108771
END:VEVENT
BEGIN:VEVENT
DTSTART;TZID=Europe/Paris:20170406T200000
DTEND;TZID=Europe/Paris:20170406T220000
DTSTAMP:20260422T072519
CREATED:20170328T121456Z
LAST-MODIFIED:20170328T124746Z
UID:10000408-1491508800-1491516000@www.axe-sens.org
SUMMARY:Concert de chants sacrés et sons vibratoires à Montpellier
DESCRIPTION:Concert de chants sacrés et sons vibratoires à Montpellier \nLe jeudi 6 avril 2017 de 20h à 22h \nAvec Éléonora \n  \nPour la première fois à Montpellier\, Éléonora vous propose ici une rencontre par le biais d’un concert. \nLe son véhicule et amplifie les énergies d’harmonie…\nSelon le physicien allemand Popp\, l’ADN\, la structure essentielle de nos cellules\, serait une sorte d’antenne électromagnétique. \nC’est donc cette antenne qui capterait les informations sonores  et les transmettrait à nos cellules pour la régénérescence. \nEleonora Quemener\, psycho-énergéticienne\, utilise ici sa voix pour permettre aux énergies de se frayer un chemin dans les parties les plus subtiles de notre être afin de libérer les blocages conscients et inconscients. \nA travers des mantras universels chantés et des sonorités canalisées\, accompagnés de bols de cristal et d’autres instruments aux sonorités chatoyantes\, elle vous emmènera  dans un voyage subtil\, au cœur de l’Âme. \n  \n  \nInfos et réservations : \ncontact@axe-sens.org\nFB Axe et Sens/ Éléonora Aurora Celestia\nEleonora Quemener 06 16 57 61 99\nLara 06 16 52 91 03
URL:https://www.axe-sens.org/rendez-vous/concert-de-chants-sacres-et-sons-vibratoires-a-montpellier
LOCATION:Salle des Arceaux\, 14 bis Rue Saint Louis\, Montpellier\, 34000\, France
CATEGORIES:Concerts,Eleonora Quemener,Energétique,Musique
ATTACH;FMTTYPE=image/jpeg:https://www.axe-sens.org/wp-content/uploads/2017/03/5693893119af18c86a1bf1c2b0f97c9b-e1490197706378.jpg
GEO:43.6108771;3.8667179
X-APPLE-STRUCTURED-LOCATION;VALUE=URI;X-ADDRESS=Salle des Arceaux 14 bis Rue Saint Louis Montpellier 34000 France;X-APPLE-RADIUS=500;X-TITLE=14 bis Rue Saint Louis:geo:3.8667179,43.6108771
END:VEVENT
END:VCALENDAR