BEGIN:VCALENDAR
VERSION:2.0
PRODID:-//Axe &amp; Sens - ECPv6.8.1//NONSGML v1.0//EN
CALSCALE:GREGORIAN
METHOD:PUBLISH
X-ORIGINAL-URL:https://www.axe-sens.org
X-WR-CALDESC:Évènements pour Axe &amp; Sens
REFRESH-INTERVAL;VALUE=DURATION:PT1H
X-Robots-Tag:noindex
X-PUBLISHED-TTL:PT1H
BEGIN:VTIMEZONE
TZID:Europe/Paris
BEGIN:DAYLIGHT
TZOFFSETFROM:+0100
TZOFFSETTO:+0200
TZNAME:CEST
DTSTART:20170326T010000
END:DAYLIGHT
BEGIN:STANDARD
TZOFFSETFROM:+0200
TZOFFSETTO:+0100
TZNAME:CET
DTSTART:20171029T010000
END:STANDARD
END:VTIMEZONE
BEGIN:VEVENT
DTSTART;TZID=Europe/Paris:20170821T193000
DTEND;TZID=Europe/Paris:20170821T220000
DTSTAMP:20260422T064111
CREATED:20170818T154329Z
LAST-MODIFIED:20170818T154329Z
UID:10000421-1503343800-1503352800@www.axe-sens.org
SUMMARY:Méditation : l'éclipse du changement
DESCRIPTION:Méditation à Marseille au Parc Adrienne Delavigne \nLe lundi 21 août 2017 à 19h30 \nAvec Éléonora \n\n\nCe mois d’août nous offre deux dates majeures dans les changements en cours au niveau planétaire. \nLe 7 août nous avons vécu l’éclipse de lune dans la vallée du Yarlu en Altaï sacré : l’ancrage du féminin divin et les activations matricielles qui correspondent. \nÉléonora vous accueille le 21 août à Marseille pour ce deuxième portail relié au masculin divin\, à l’ancrage des possibles\, à l’équilibrage et au renouveau. \nNotre monde est en mutation\, participons ensemble au changement que nous voulons voir éclore sur cette terre. \nNamaste du cœur. \n\nParticipation souhaitée : 20€\, libre et consciente bienvenue. \nRendez-vous devant l’entrée du parc Adrienne Delavigne\, Chemin des Goudes\, 13008 Marseille à 19h30. \n\n\nInfos et réservation : \ncontact@axe-sens.org\nFB Axe et Sens/ Éléonora Aurora Celestia\nEleonora Quemener 06 16 57 61 99\nLara 06 16 52 91 03
URL:https://www.axe-sens.org/rendez-vous/meditation-leclipse-du-changement
LOCATION:Parc Adrienne Delavigne\, Marseille\, France
CATEGORIES:Eleonora Quemener,Energétique,Méditations
ATTACH;FMTTYPE=image/jpeg:https://www.axe-sens.org/wp-content/uploads/2017/08/full-moon-meditation-cropped-1200x565-e1731519073474.jpg
GEO:43.296482;5.36978
END:VEVENT
END:VCALENDAR