BEGIN:VCALENDAR
VERSION:2.0
PRODID:-//Axe &amp; Sens - ECPv6.8.1//NONSGML v1.0//EN
CALSCALE:GREGORIAN
METHOD:PUBLISH
X-ORIGINAL-URL:https://www.axe-sens.org
X-WR-CALDESC:Évènements pour Axe &amp; Sens
REFRESH-INTERVAL;VALUE=DURATION:PT1H
X-Robots-Tag:noindex
X-PUBLISHED-TTL:PT1H
BEGIN:VTIMEZONE
TZID:Europe/Paris
BEGIN:DAYLIGHT
TZOFFSETFROM:+0100
TZOFFSETTO:+0200
TZNAME:CEST
DTSTART:20170326T010000
END:DAYLIGHT
BEGIN:STANDARD
TZOFFSETFROM:+0200
TZOFFSETTO:+0100
TZNAME:CET
DTSTART:20171029T010000
END:STANDARD
BEGIN:DAYLIGHT
TZOFFSETFROM:+0100
TZOFFSETTO:+0200
TZNAME:CEST
DTSTART:20180325T010000
END:DAYLIGHT
BEGIN:STANDARD
TZOFFSETFROM:+0200
TZOFFSETTO:+0100
TZNAME:CET
DTSTART:20181028T010000
END:STANDARD
END:VTIMEZONE
BEGIN:VEVENT
DTSTART;TZID=Europe/Paris:20180210T090000
DTEND;TZID=Europe/Paris:20180211T180000
DTSTAMP:20260422T031715
CREATED:20171113T113318Z
LAST-MODIFIED:20180115T122828Z
UID:10000335-1518253200-1518372000@www.axe-sens.org
SUMMARY:Séminaire de Reconnexion à sa multidimension-Niv 1
DESCRIPTION:Séminaire de Reconnexion à sa multidimension Niveau I \nDu Samedi 10 au Dimanche 11 Février 2018 \nÀ Montpellier \nAvec Éléonora \n  \n  \n\nEléonora vous propose ici la transmission d’outils fondamentaux permettant\n\nd’acquérir son autonomie en énergétique.\n\n\n\nOuverture de conscience sur les réseaux de notre corps physique\, les corps subtils\, et\n\nl’énergie qui nous traverse en permanence.\n\nComment réapprendre à l’utiliser pour la guérison. Comment se protéger des\n\nEnergies hostiles…\n\nComment s’ancrer correctement. Savoir tester et se tester.\n\nComment redevenir un canal de hautes fréquences de l’énergie universelle de vie\n\npour soi et pour les autres.\n\n\n\nInfos et réservations :\n\n\n\ncontact@axe-sens.org\nFB Axe et Sens/ Éléonora Aurora Celestia\nEleonora Quemener 06 16 57 61 99
URL:https://www.axe-sens.org/rendez-vous/seminaire-de-reconnexion-a-sa-multidimension-3
LOCATION:Montpellier\, Montpellier\, France
CATEGORIES:Ateliers,Cours,Eleonora Quemener,Energétique,Formations,Séminaires,Stages,Thérapie
ATTACH;FMTTYPE=image/jpeg:https://www.axe-sens.org/wp-content/uploads/2017/03/mzl.nyyajpvz.1024x1024-65-e1490009503841.jpg
GEO:43.610769;3.876716
END:VEVENT
BEGIN:VEVENT
DTSTART;TZID=Europe/Paris:20170928T090000
DTEND;TZID=Europe/Paris:20171002T190000
DTSTAMP:20260422T031715
CREATED:20170629T042926Z
LAST-MODIFIED:20170701T144944Z
UID:10000416-1506589200-1506970800@www.axe-sens.org
SUMMARY:Concert\, Consultations et Séminaire à Montpellier
DESCRIPTION:Concert\, Consultations et Séminaire à Montpellier \nDu Jeudi 28 au dimanche 1er octobre 2017 \nAvec Éléonora \n  \nPour la seconde fois à Montpellier\, Éléonora vous propose ici une rencontre par le biais d’un concert et d’un séminaire.\n\nElle vous accueillera également en soin individuel sur rendez-vous. \n\n  \nAu programme \nConsultations sur rendez-vous le jeudi 28 et vendredi 29 septembre. \nConcert de chants sacrés et sons vibratoires le jeudi 28 septembre de 20h à 22h. \nSéminaire multidimension Niveau II\, vendredi 29 septembre à partir de 18h et samedi 30 septembre et dimanche 1er octobre toute la journée de 9h à 18h. \n  \n  \nInfos et réservation : \ncontact@axe-sens.org\nFB Axe et Sens/ Éléonora Aurora Celestia\nEleonora Quemener 06 16 57 61 99\nLara 06 16 52 91 03
URL:https://www.axe-sens.org/rendez-vous/concert-consultations-et-seminaire-a-montpellier
LOCATION:Montpellier\, Montpellier\, France
CATEGORIES:Ateliers,Concerts,Eleonora Quemener,Energétique,Formations,Musique,Séminaires,Stages,Thérapie
ATTACH;FMTTYPE=image/jpeg:https://www.axe-sens.org/wp-content/uploads/2017/03/vibration-e1490864571473.jpg
GEO:43.610769;3.876716
END:VEVENT
BEGIN:VEVENT
DTSTART;TZID=Europe/Paris:20170407T180000
DTEND;TZID=Europe/Paris:20170408T180000
DTSTAMP:20260422T031715
CREATED:20170321T135224Z
LAST-MODIFIED:20170330T085904Z
UID:10000406-1491588000-1491674400@www.axe-sens.org
SUMMARY:Séminaire de reconnexion à sa multidimension à Montpellier
DESCRIPTION:Séminaire de reconnexion à sa multidimension Niveau I\nDu vendredi 7 au soir au dimanche 9 avril 2017\nAvec Éléonora\n\n\n\n\n\n\nEléonora vous propose ici la transmission d’outils fondamentaux permettant d’acquérir son autonomie en énergétique.\nOuverture de conscience sur les réseaux de notre corps physique\, les corps subtils\, et l’énergie qui nous traverse en permanence.\nComment réapprendre à l’utiliser pour la guérison. Comment se protéger des Energies hostiles…\nComment redevenir un canal de hautes fréquences de l’énergie universelle de vie pour soi et pour les autres.\n\n\n\n\nInfos et réservations :\n\n\n\ncontact@axe-sens.org\nFB Axe et Sens/ Éléonora Aurora Celestia\nEleonora Quemener 06 16 57 61 99\nLara 06 16 52 91 03
URL:https://www.axe-sens.org/rendez-vous/seminaire-de-reconnexion-a-sa-multidimension-a-montpellier
LOCATION:Montpellier\, Montpellier\, France
CATEGORIES:Ateliers,Eleonora Quemener,Energétique,Formations,Séminaires
ATTACH;FMTTYPE=image/jpeg:https://www.axe-sens.org/wp-content/uploads/2013/03/adn-adam.jpg
GEO:43.610769;3.876716
END:VEVENT
BEGIN:VEVENT
DTSTART;TZID=Europe/Paris:20170405T200000
DTEND;TZID=Europe/Paris:20170409T180000
DTSTAMP:20260422T031715
CREATED:20170321T134500Z
LAST-MODIFIED:20170330T080441Z
UID:10000404-1491422400-1491760800@www.axe-sens.org
SUMMARY:Concert\, méditation\, consultations\, et séminaire à Montpellier
DESCRIPTION:Concert\, méditation\, consultations\, et séminaire à Montpellier\nDu mercredi 5 au dimanche 9 avril 2017\nAvec Éléonora\n\n\n\n\nPour la première fois à Montpellier\, Éléonora vous propose ici une rencontre par le biais d’un concert et d’une méditation.\n\nElle vous accueillera également en soin individuel sur rendez-vous. \nEt pour la première fois dans cette région elle proposera son séminaire de reconnexion à sa multidimension : comment œuvrer en conscience\, en « récepteur-émetteur » de l’énergie source. \n\nAu programme \nMéditation guidée le mercredi 5 avril de 20h à 22h. \nConcert de chants sacrés et sons vibratoires le jeudi 6 avril de 20h à 22h. \nConsultations sur rendez-vous le jeudi 6 avril toute la journée et la matinée du vendredi 7 avril. \nSéminaire de reconnexion à sa multidimension Niveau I\, vendredi 7 mai à partir de 18h et samedi 8 et dimanche 9 avril toute la journée de 9h à 18h. \n\n\n  \nInfos et réservation : \ncontact@axe-sens.org\nFB Axe et Sens/ Éléonora Aurora Celestia\nEleonora Quemener 06 16 57 61 99\nLara 06 16 52 91 03
URL:https://www.axe-sens.org/rendez-vous/concert-meditation-consultations-et-seminaire-a-montpellier
LOCATION:Montpellier\, Montpellier\, France
CATEGORIES:Ateliers,Concerts,Eleonora Quemener,Energétique,Formations,Méditations,Musique,Séminaires,Stages,Thérapie
ATTACH;FMTTYPE=image/jpeg:https://www.axe-sens.org/wp-content/uploads/2017/03/ystmeolaire100zjf-e1490864669102.jpg
GEO:43.610769;3.876716
END:VEVENT
END:VCALENDAR