BEGIN:VCALENDAR
VERSION:2.0
PRODID:-//Axe &amp; Sens - ECPv6.8.1//NONSGML v1.0//EN
CALSCALE:GREGORIAN
METHOD:PUBLISH
X-ORIGINAL-URL:https://www.axe-sens.org
X-WR-CALDESC:Évènements pour Axe &amp; Sens
REFRESH-INTERVAL;VALUE=DURATION:PT1H
X-Robots-Tag:noindex
X-PUBLISHED-TTL:PT1H
BEGIN:VTIMEZONE
TZID:Europe/Paris
BEGIN:DAYLIGHT
TZOFFSETFROM:+0100
TZOFFSETTO:+0200
TZNAME:CEST
DTSTART:20200329T010000
END:DAYLIGHT
BEGIN:STANDARD
TZOFFSETFROM:+0200
TZOFFSETTO:+0100
TZNAME:CET
DTSTART:20201025T010000
END:STANDARD
END:VTIMEZONE
BEGIN:VEVENT
DTSTART;TZID=Europe/Paris:20200808T100000
DTEND;TZID=Europe/Paris:20200808T180000
DTSTAMP:20260421T235348
CREATED:20200802T091212Z
LAST-MODIFIED:20200802T091621Z
UID:10000471-1596880800-1596909600@www.axe-sens.org
SUMMARY:Intégration des 5 éléments comme outils de co création
DESCRIPTION:  \nle 08 août 2020  \nde 10h à 18 h \n178 chemin de la Boucharde \nTrets \nAvec Éléonora Quemener\ninfos et resa : 0616576199 \nDans le Tao les 5 éléments correspondent au cycle d’engendrement\, en médecine chinoise ils correspondent à des organes vitaux. Platon les associe à des géométries sacrées. Ils sont liés à des maîtrises de respiration et des nettoyages de canaux subtils\, outils fondamentaux pour l’intégration de nos structures énergétiques les plus élevées. \nNotre matière elle même est constituée de ces 5 éléments qui agissent en interconnexion et en alchimie les uns avec les autres. \nAu cours de la journée nous allons intégrer ces différents éléments\, un a un sous toutes leurs facettes afin de les intégrer énergétiquement et cellulairement. \nLe 08 août 2020 offre un alignement planétaire et des ouvertures de portails subtils qui permettent une amplification des phénomènes.\nLes 5 éléments recèlent de nombreux mystères Et pour la première fois nous explorerons également la quintessences des crânes de cristal en lien avec les éléments. \nThéories pratiques\, méditations guidées\, pratiques chamaniques ou spirituelles ancestrales… Vous explorerez ici chacun des éléments dans son intégralité afin d’apprendre à les utiliser en conscience. \nPrévoir un maillot\, tapis de yoga\, un repas partagé\, de quoi noter … \n 
URL:https://www.axe-sens.org/rendez-vous/integration-des-5-elements-comme-outils-de-co-creation-2
LOCATION:Mont Olympe
CATEGORIES:Ateliers,Eleonora Quemener,Energétique,Formations,Méditations,Séminaires,Stages,Thérapie
ATTACH;FMTTYPE=image/jpeg:https://www.axe-sens.org/wp-content/uploads/2017/03/cf4de1dc3130a0be88c04f073c15a607.jpg
END:VEVENT
END:VCALENDAR