BEGIN:VCALENDAR
VERSION:2.0
PRODID:-//Axe &amp; Sens - ECPv6.8.1//NONSGML v1.0//EN
CALSCALE:GREGORIAN
METHOD:PUBLISH
X-WR-CALNAME:Axe &amp; Sens
X-ORIGINAL-URL:https://www.axe-sens.org
X-WR-CALDESC:Évènements pour Axe &amp; Sens
REFRESH-INTERVAL;VALUE=DURATION:PT1H
X-Robots-Tag:noindex
X-PUBLISHED-TTL:PT1H
BEGIN:VTIMEZONE
TZID:Europe/Paris
BEGIN:DAYLIGHT
TZOFFSETFROM:+0100
TZOFFSETTO:+0200
TZNAME:CEST
DTSTART:20200329T010000
END:DAYLIGHT
BEGIN:STANDARD
TZOFFSETFROM:+0200
TZOFFSETTO:+0100
TZNAME:CET
DTSTART:20201025T010000
END:STANDARD
END:VTIMEZONE
BEGIN:VEVENT
DTSTART;TZID=Europe/Paris:20200711T100000
DTEND;TZID=Europe/Paris:20200712T180000
DTSTAMP:20260422T014324
CREATED:20200708T105251Z
LAST-MODIFIED:20200708T121709Z
UID:10000470-1594461600-1594576800@www.axe-sens.org
SUMMARY:Formation Thérapeute en Belgique
DESCRIPTION:Eléonora Quemener est psychoénergéticienne\, et praticienne en Energetique chinoise (MTC)\, formée à l’ecole Zong Fu\, Homeopathe\, naturopathe et Chaman. \nElle accompagne de nombreuses personnes sur leur chemin de vie et propose des formations pour permettre à chacun de retrouver son autonomie en énergétique. \nLors des séances individuelles elle facilite la libération du corps\, des mémoires cellulaires en libérant les programmes “limitants” ( conscients\, inconscients\, transgénérationnels\, multidimensionnels\, qui entravent la bonne circulation de l’énergie\, véritables causes\, selon elle\, des « mal-a-dit(s) ». \nElle vous propose ici une formation  exceptionnelle qui vous permettra d’acquérir des outils fondamentaux\, que ce soit pour vous à titre personnel ou dans une optique professionnelle\, pour devenir autonome en énergétique. \nCette formation permet d’acquérir des outils concrets et efficaces et offre une prise de conscience des flux énergétiques qui régissent notre corps.\nComment identifier les différentes énergies ?\nComment les tester ?\nComment s’ancrer correctement et se protéger des énergies hostiles ?\nComment s’ équilibrer et s’harmoniser ?\nComment utiliser l’énergie pour la guérison et redevenir un canal de hautes fréquences de l’énergie universelle de vie. \nMéditations guidées\, initiations\, théories et travaux pratiques jalonneront ces 2 jours intenses. \nPrévoir un pendule\, de quoi écrire\, une tenue confortable… Un repas à partager pour le midi. \nInfos : 00 33 6 16 57 61 99 \n  \n  \n 
URL:https://www.axe-sens.org/rendez-vous/formation-therapeute-en-belgique
LOCATION:Marche en Famenne\, Belgique
CATEGORIES:Ateliers,Ceremonie,Cours,Eleonora Quemener,Energétique,Formations,Intervenants,Séminaires,Stages
ATTACH;FMTTYPE=image/jpeg:https://www.axe-sens.org/wp-content/uploads/2017/08/maxresdefault-e1603449704816.jpg
END:VEVENT
END:VCALENDAR