BEGIN:VCALENDAR
VERSION:2.0
PRODID:-//Axe &amp; Sens - ECPv6.8.1//NONSGML v1.0//EN
CALSCALE:GREGORIAN
METHOD:PUBLISH
X-ORIGINAL-URL:https://www.axe-sens.org
X-WR-CALDESC:Évènements pour Axe &amp; Sens
REFRESH-INTERVAL;VALUE=DURATION:PT1H
X-Robots-Tag:noindex
X-PUBLISHED-TTL:PT1H
BEGIN:VTIMEZONE
TZID:Europe/Paris
BEGIN:DAYLIGHT
TZOFFSETFROM:+0100
TZOFFSETTO:+0200
TZNAME:CEST
DTSTART:20170326T010000
END:DAYLIGHT
BEGIN:STANDARD
TZOFFSETFROM:+0200
TZOFFSETTO:+0100
TZNAME:CET
DTSTART:20171029T010000
END:STANDARD
END:VTIMEZONE
BEGIN:VEVENT
DTSTART;TZID=Europe/Paris:20170325T090000
DTEND;TZID=Europe/Paris:20170325T180000
DTSTAMP:20260422T072632
CREATED:20170214T124241Z
LAST-MODIFIED:20170214T141314Z
UID:10000393-1490432400-1490464800@www.axe-sens.org
SUMMARY:Atelier d’intégration des 5 éléments comme outil de Co création à Paris
DESCRIPTION:Atelier d’intégration des 5 éléments comme outil de Co création à Paris \nLe samedi 25 Mars 2017 \nAvec Éléonora \nEléonora vous propose ici  une initiation puissante\, d’une journée d’intégration et de travail avec les 5 éléments\, comme outil de cocréation.\nDans le Tao les 5 éléments correspondent au cycle d’engendrement\, en médecine chinoise ils correspondent à des organes vitaux. \nPlaton les associe à des géométries sacrées. Ils sont liés à des maîtrises de respiration et des nettoyages de canaux subtils\, outils fondamentaux pour l’intégration de nos structures énergétiques les plus élevées. Ils recèlent encore de nombreux mystères que nous livrent ici les initiations proposées lors de cette journée.\nThéories pratiques\, méditations guidées\, pratiques chamaniques ou spirituelles ancestrales… Vous explorerez ici chacun des éléments dans son intégralité afin d’apprendre à les utiliser en conscience.  \nLe samedi 25 Mars 2017 de 09h à 18h à Paris. \nInfos et réservation : \ncontact@axe-sens.org\nEleonora Quemener 06 16 57 61 99\nLara 06 16 52 91 03 \n\n\n\n\n 
URL:https://www.axe-sens.org/rendez-vous/atelier-dintegration-des-5-elements-comme-outil-de-co-creation-2
LOCATION:Mantes-La-Jolie\, 78200\, France
CATEGORIES:Ateliers,Ceremonie,Cours,Eleonora Quemener,Energétique,Formations,Séminaires,Stages
ATTACH;FMTTYPE=image/jpeg:https://www.axe-sens.org/wp-content/uploads/2011/08/les5elements1.jpg
GEO:48.9589474;1.6475897
END:VEVENT
END:VCALENDAR