BEGIN:VCALENDAR
VERSION:2.0
PRODID:-//Axe &amp; Sens - ECPv6.8.1//NONSGML v1.0//EN
CALSCALE:GREGORIAN
METHOD:PUBLISH
X-ORIGINAL-URL:https://www.axe-sens.org
X-WR-CALDESC:Évènements pour Axe &amp; Sens
REFRESH-INTERVAL;VALUE=DURATION:PT1H
X-Robots-Tag:noindex
X-PUBLISHED-TTL:PT1H
BEGIN:VTIMEZONE
TZID:Europe/Paris
BEGIN:DAYLIGHT
TZOFFSETFROM:+0100
TZOFFSETTO:+0200
TZNAME:CEST
DTSTART:20210328T010000
END:DAYLIGHT
BEGIN:STANDARD
TZOFFSETFROM:+0200
TZOFFSETTO:+0100
TZNAME:CET
DTSTART:20211031T010000
END:STANDARD
END:VTIMEZONE
BEGIN:VEVENT
DTSTART;TZID=Europe/Paris:20210205T093000
DTEND;TZID=Europe/Paris:20210205T173000
DTSTAMP:20260422T030225
CREATED:20210112T203213Z
LAST-MODIFIED:20210112T203213Z
UID:10000483-1612517400-1612546200@www.axe-sens.org
SUMMARY:Consultations individuelles en cabinet - Bruxelles
DESCRIPTION:Eleonora vous reçoit en consultation individuelle \nà Bruxelles \nVendredi 5 Février\nDe 9h30 0 17h30\nPsycho-énergéticienne\, praticienne en énergétique chinoise\, homéopathe et naturopathe\,  Eléonora Quemener associe dans son travail de multiples connaissances pour offrir des soins qui prennent en compte la globalité de l’Etre. \nElle offre une lecture précise des problématiques conscientes et inconscientes\, physiques mais également énergétiques\, émotionnelles\, trans-générationnelles et karmiques. Elle soutient alors les libérations nécessaires et permet la remise en fluidité de l’énergie dans le corps.  En énergétique chinoise et en acupression elle identifie les problématiques physiques et toxiques et remet en circulation l’énergie sur les méridiens afin de libérer les organes\, les programmes limitants\, ou les charges diverses. Quand cela est nécessaire elle propose des remèdes naturels afin de soutenir le corps dans ces libérations.
URL:https://www.axe-sens.org/rendez-vous/consultations-individuelles-en-cabinet-bruxelles
LOCATION:Lieu sans nom\, Bruxelles\, Belgique
ATTACH;FMTTYPE=image/jpeg:https://www.axe-sens.org/wp-content/uploads/2017/03/voyance-gratuite-paloma-voyance-niveau-vibratoire-893x350-e1603447191198.jpg
ORGANIZER;CN="Eleonora":MAILTO:contact@axe-sens.org
END:VEVENT
END:VCALENDAR