BEGIN:VCALENDAR
VERSION:2.0
PRODID:-//Axe &amp; Sens - ECPv6.8.1//NONSGML v1.0//EN
CALSCALE:GREGORIAN
METHOD:PUBLISH
X-WR-CALNAME:Axe &amp; Sens
X-ORIGINAL-URL:https://www.axe-sens.org
X-WR-CALDESC:Évènements pour Axe &amp; Sens
REFRESH-INTERVAL;VALUE=DURATION:PT1H
X-Robots-Tag:noindex
X-PUBLISHED-TTL:PT1H
BEGIN:VTIMEZONE
TZID:Europe/Paris
BEGIN:DAYLIGHT
TZOFFSETFROM:+0100
TZOFFSETTO:+0200
TZNAME:CEST
DTSTART:20180325T010000
END:DAYLIGHT
BEGIN:STANDARD
TZOFFSETFROM:+0200
TZOFFSETTO:+0100
TZNAME:CET
DTSTART:20181028T010000
END:STANDARD
END:VTIMEZONE
BEGIN:VEVENT
DTSTART;TZID=Europe/Paris:20180519T090000
DTEND;TZID=Europe/Paris:20180519T190000
DTSTAMP:20260422T030102
CREATED:20180511T171125Z
LAST-MODIFIED:20180525T095119Z
UID:10000434-1526720400-1526756400@www.axe-sens.org
SUMMARY:Integration des 5 éléments comme outils de co création - Paris
DESCRIPTION:Avec Éléonora Quemener \nDans le Tao les 5 éléments correspondent au cycle d’engendrement\, en médecine chinoise ils correspondent à des organes vitaux. \nPlaton les associe à des géométries sacrées. Ils sont liés à des maîtrises de respiration et des nettoyages de canaux subtils\, outils fondamentaux pour l’intégration de nos structures énergétiques les plus élevées. \nNotre matière elle même est constituée de ces 5 éléments qui agissent en interconnexion et en alchimie les uns avec les autres. \nAu cours de la journée nous allons intégrer ces différents éléments\, un a un sous toutes leurs facettes afin de les intégrer énergétiquement et cellulairement. \nIls recèlent de nombreux mystères que nous livrent ici les initiations proposées lors de cette journée. \nThéories pratiques\, méditations guidées\, pratiques chamaniques ou spirituelles ancestrales… Vous explorerez ici chacun des éléments dans son intégralité afin d’apprendre à les utiliser en conscience. \nInfos et réservation : \ncontact@axe-sens.org\nFB Axe et Sens/ Éléonora Aurora Celestia
URL:https://www.axe-sens.org/rendez-vous/integration-des-5-elements-comme-outils-de-co-creation-paris
LOCATION:Lieu sans nom\, Marseille
CATEGORIES:Cours,Energétique,Formations,Séminaires,Stages,Thérapie
ATTACH;FMTTYPE=image/jpeg:https://www.axe-sens.org/wp-content/uploads/2017/09/Passer-de-la-Tête-au-Coeur-300x300-2-e1603452091935.jpg
GEO:43.296482;5.36978
END:VEVENT
END:VCALENDAR