BEGIN:VCALENDAR
VERSION:2.0
PRODID:-//Axe &amp; Sens - ECPv6.8.1//NONSGML v1.0//EN
CALSCALE:GREGORIAN
METHOD:PUBLISH
X-WR-CALNAME:Axe &amp; Sens
X-ORIGINAL-URL:https://www.axe-sens.org
X-WR-CALDESC:Évènements pour Axe &amp; Sens
REFRESH-INTERVAL;VALUE=DURATION:PT1H
X-Robots-Tag:noindex
X-PUBLISHED-TTL:PT1H
BEGIN:VTIMEZONE
TZID:Europe/Paris
BEGIN:DAYLIGHT
TZOFFSETFROM:+0100
TZOFFSETTO:+0200
TZNAME:CEST
DTSTART:20190331T010000
END:DAYLIGHT
BEGIN:STANDARD
TZOFFSETFROM:+0200
TZOFFSETTO:+0100
TZNAME:CET
DTSTART:20191027T010000
END:STANDARD
END:VTIMEZONE
BEGIN:VEVENT
DTSTART;TZID=Europe/Paris:20191214T090000
DTEND;TZID=Europe/Paris:20191215T180000
DTSTAMP:20260422T070501
CREATED:20191116T112903Z
LAST-MODIFIED:20191116T194533Z
UID:10000463-1576314000-1576432800@www.axe-sens.org
SUMMARY:Formation-Reconnexion avec sa multidimension- Verdon
DESCRIPTION:Séminaire de reconnexion à sa multi-dimension – niveau 1  \nFormation thérapeute \nLe samedi 14 et Dimanche 15 Decembre 2019 \nLe Chalet de l’imaginaire\n La Coueste\, 04170 Saint Julien du Verdon \n\n Thérapeute et formatrice\, Eleonora  vous accueille sur ce site d’exception afin de vous offrir des outils fondamentaux\, \nque ce soit pour vous à titre personnel ou dans une optique professionnelle… \nPour devenir autonome en énergétique. \nCette formation permet d’acquérir des outils concrets et efficaces \nVous offre une prise de conscience des flux énergétiques qui régissent notre corps. \nDes différents plans…\nComment identifier les différentes énergies ?\nComment les tester ?\nComment s’ancrer correctement et se protéger des énergies hostiles ?\nComment s’ équilibrer et s’harmoniser ?\nComment utiliser l’énergie pour la guérison et redevenir un canal de hautes fréquences de l’énergie universelle de vie \nLors cette initiation vous serez amenés à vous reconnecter aux parties les plus subtiles de votre Etre. \nInfos : 00 33-06 16 57 61 99
URL:https://www.axe-sens.org/rendez-vous/formation-reconnexion-avec-sa-multidimension
LOCATION:Le Chalet de l’imaginaire
CATEGORIES:Cours,Eleonora Quemener,Energétique,Formations,Séminaires,Stages
ATTACH;FMTTYPE=image/jpeg:https://www.axe-sens.org/wp-content/uploads/2019/11/IMG_6575.jpg
END:VEVENT
BEGIN:VEVENT
DTSTART;TZID=Europe/Paris:20191213T090000
DTEND;TZID=Europe/Paris:20191213T190000
DTSTAMP:20260422T070501
CREATED:20191116T184219Z
LAST-MODIFIED:20191116T184549Z
UID:10000466-1576227600-1576263600@www.axe-sens.org
SUMMARY:Consultations au Chalet de l'imaginaire  Verdon
DESCRIPTION:Le vendredi 13 Décembre \nAu Chalet de l’imaginaire  \n La Coueste\, 04170 Saint Julien du Verdon \nEntre le var et les Alpes de Haute Provence. \nPsycho-énergéticienne\, praticienne en énergétique chinoise\, homéopathe et naturopathe\,  Éléonora associe dans son travail de multiples connaissances pour offrir des soins qui prennent en compte la globalité de l’Etre. \nElle offre une lecture précise des problématiques conscientes et inconscientes\, physiques mais également énergétiques\, émotionnelles\, trans-générationnelles et karmiques. Elle soutient alors les libérations nécessaires et permet la remise en fluidité de l’énergie dans le corps.  En énergétique chinoise et en acupression elle identifie les problématiques physiques et toxiques et remet en circulation l’énergie sur les méridiens afin de libérer les organes\, les programmes limitants\, ou les charges diverses. Quand cela est nécessaire elle propose des remèdes naturels afin de soutenir le corps dans ces libérations. \nElle travail en cabinet ou à distance. \nInfo : 06 16 57 61 99
URL:https://www.axe-sens.org/rendez-vous/consultations-au-chalet-de-limaginaire-verdon
LOCATION:Le Chalet de l’imaginaire
CATEGORIES:Eleonora Quemener,Energétique,Médecine Chinoise,Thérapie
ATTACH;FMTTYPE=image/jpeg:https://www.axe-sens.org/wp-content/uploads/2017/03/voyance-gratuite-paloma-voyance-niveau-vibratoire-893x350-e1603447191198.jpg
ORGANIZER;CN="Eleonora":MAILTO:contact@axe-sens.org
END:VEVENT
END:VCALENDAR