BEGIN:VCALENDAR
VERSION:2.0
PRODID:-//Axe &amp; Sens - ECPv6.8.1//NONSGML v1.0//EN
CALSCALE:GREGORIAN
METHOD:PUBLISH
X-ORIGINAL-URL:https://www.axe-sens.org
X-WR-CALDESC:Évènements pour Axe &amp; Sens
REFRESH-INTERVAL;VALUE=DURATION:PT1H
X-Robots-Tag:noindex
X-PUBLISHED-TTL:PT1H
BEGIN:VTIMEZONE
TZID:Europe/Paris
BEGIN:DAYLIGHT
TZOFFSETFROM:+0100
TZOFFSETTO:+0200
TZNAME:CEST
DTSTART:20230326T010000
END:DAYLIGHT
BEGIN:STANDARD
TZOFFSETFROM:+0200
TZOFFSETTO:+0100
TZNAME:CET
DTSTART:20231029T010000
END:STANDARD
END:VTIMEZONE
BEGIN:VEVENT
DTSTART;TZID=Europe/Paris:20231125T190000
DTEND;TZID=Europe/Paris:20231125T210000
DTSTAMP:20260422T032331
CREATED:20231110T154450Z
LAST-MODIFIED:20231122T142229Z
UID:10000516-1700938800-1700946000@www.axe-sens.org
SUMMARY:Méditation et voyage sonore de guérison.
DESCRIPTION:Eléonora et Laurent vous accueillent dans cette grotte atypique à la Pointe Rouge de Marseille\,  pour vous offrir une soirée exceptionnelle. \nIls vous proposent lors de cette méditation musicale guidée\, un voyage sonore de guérison\, ou se mêlent instruments acoustiques et voix\, afin de travailler aux réajustements énergétiques.  Ce voyage insolite au coeur du Minéral sera orienté vers l’ouverture\, et les alignements permettant d’accueillir plus sereinement les fluctuations vibratoires actuelles. \nChatsavana est une grotte privée liée à l’épanouissement de l’Etre. \nImmergés dans cette cavité rocheuse dédié au yoga\, ce voyage sonore particulier permet d’améliorer sa santé physique\, mentale et émotionnelle. Il génère une réduction du stress\, de l’anxiété et améliore la qualité du sommeil. Ce voyage multidimensionnel fluidifie les énergies en tout individu et optimise par la suite la concentration et la créativité. \nEléonora est Psychothérapeute -Enérgeticienne\, praticienne en médecine chinoise et chaman. Ici elle utilise le chant et la voix pour ouvrir des portes multidimentionnelles. \nLaurent est electro-acousticien formé au conservatoire de Marseille.\nIl aime  recréer des sons de la nature et travaille sur le scénario des 5 éléments. \nEnsemble ils utilisent une variété d’instruments insolites\, de sons\, des musicalités\, pour vous emmener dans un monde onirique riche d’images et de sensations. \nLors des voyages sonores la magie opère à chaque instant. Ils utilisent également des techniques de méditation\, de relaxation et de respiration profonde pour mieux équilibrer vos énergies. \nLors de cette soirée une collation vous sera offerte avant et après le concert. \nLes places étant limitées\, merci de réserver au  06 16 57 61 99. \nSoirée : 30 € \n 
URL:https://www.axe-sens.org/rendez-vous/meditation-et-voyage-sonore-de-guerison-2
LOCATION:Grotte Chatavana\, France Métropolitaine
CATEGORIES:Art,Arts,Concert,Meditation,Musique,VOYAGE SONORE
ATTACH;FMTTYPE=image/jpeg:https://www.axe-sens.org/wp-content/uploads/2023/10/grotte-chatvasana--e1699631743776.jpg
END:VEVENT
END:VCALENDAR