BEGIN:VCALENDAR
VERSION:2.0
PRODID:-//Axe &amp; Sens - ECPv6.8.1//NONSGML v1.0//EN
CALSCALE:GREGORIAN
METHOD:PUBLISH
X-ORIGINAL-URL:https://www.axe-sens.org
X-WR-CALDESC:Évènements pour Axe &amp; Sens
REFRESH-INTERVAL;VALUE=DURATION:PT1H
X-Robots-Tag:noindex
X-PUBLISHED-TTL:PT1H
BEGIN:VTIMEZONE
TZID:Europe/Paris
BEGIN:DAYLIGHT
TZOFFSETFROM:+0100
TZOFFSETTO:+0200
TZNAME:CEST
DTSTART:20180325T010000
END:DAYLIGHT
BEGIN:STANDARD
TZOFFSETFROM:+0200
TZOFFSETTO:+0100
TZNAME:CET
DTSTART:20181028T010000
END:STANDARD
BEGIN:DAYLIGHT
TZOFFSETFROM:+0100
TZOFFSETTO:+0200
TZNAME:CEST
DTSTART:20190331T010000
END:DAYLIGHT
BEGIN:STANDARD
TZOFFSETFROM:+0200
TZOFFSETTO:+0100
TZNAME:CET
DTSTART:20191027T010000
END:STANDARD
END:VTIMEZONE
BEGIN:VEVENT
DTSTART;TZID=Europe/Paris:20190126T100000
DTEND;TZID=Europe/Paris:20190127T190000
DTSTAMP:20260422T031712
CREATED:20190122T143716Z
LAST-MODIFIED:20190122T143716Z
UID:10000453-1548496800-1548615600@www.axe-sens.org
SUMMARY:Formation Thérapeute- Reconnexion multi dimension niv 2 - Paris
DESCRIPTION:Espace Gaele’M \nParis \ninfos : 06 16 57 61 99 \n\n  \n  \nCette initiation  permet l’ouverture de nouvelles portes de conscience\, l’alignement et le nettoyage de sa trame personnelle réajustée. L’équilibrage de notre féminin et masculin (yin yang) et la réintégration consciente de différents aspects subtils de nous-même. \nNous allons activer les 21 chakras dont la plupart sont hors corps posés sur notre trame fondamentale et permettent l’ouverture de nos ” capteurs extra sensoriels” Nous allons nettoyer et libérer nos lignes axiatonales\, qui sont les méridiens hors corps qui nous relient à notre Divine présence. ( Cette partie subtile de nous même qui nous accompagne et nous renforce)  Nous allons renforcer cette connexion. Nous allons travailler sur l’ équilibrage Yin et Yang\, nos polarités féminines et masculines.\nNous allons renforcer notre ancrage pour pourvoir aller plus haut et pratiquer des soins collectifs. Apprendre à aligner son canal… Chacun à votre tour\, vous allez recevoir un soin collectif\, une expérience unique… Tout ceci entre coupé de méditations de visualisations et de TP.
URL:https://www.axe-sens.org/rendez-vous/formation-therapeute-reconnexion-multi-dimension-niv-2-paris
LOCATION:Espace Gael’M\, Paris
CATEGORIES:Ateliers,Cours,Energétique,Stages
ATTACH;FMTTYPE=image/jpeg:https://www.axe-sens.org/wp-content/uploads/2017/03/multidimensionnel-e1490006429935.jpg
ORGANIZER;CN="Eleonora":MAILTO:contact@axe-sens.org
END:VEVENT
BEGIN:VEVENT
DTSTART;TZID=Europe/Paris:20181201T140000
DTEND;TZID=Europe/Paris:20181201T180000
DTSTAMP:20260422T031712
CREATED:20180921T113147Z
LAST-MODIFIED:20181115T094703Z
UID:10000448-1543672800-1543687200@www.axe-sens.org
SUMMARY:Atelier Paris : Développer sa puissance matricielle  Ancrage et co - création
DESCRIPTION:Développer sa puissance matricielle\nAncrage et co – création \nAtelier d’1/2journée\nLe samedi 1er Decembre \nde 14h à 18h00 \nEspace Gael’M \n  \nLibération des blessures “matricielles” conscientes et inconscientes \, du rapport à la mère\, au père\, des engrammes matriciels\, afin de réactiver SA matrice\, siège de son propre pouvoir.\nApprendre à favoriser l’accueil\, l’ouverture et l’intégration des ses propres énergies et retrouver sa véritable  ” puissance”.\nAccepter son incarnation\nTravail sur l’ancrage et sur l’ouverture des chakras de base.\nAlignement\nReprogrammation cellulaire\nAtelier d’1/2  journée :  80 euros
URL:https://www.axe-sens.org/rendez-vous/5575
LOCATION:Espace Gael’M\, Paris
CATEGORIES:Cours,Energétique,Formations,Séminaires,Stages,Thérapie
ATTACH;FMTTYPE=image/jpeg:https://www.axe-sens.org/wp-content/uploads/2014/03/abzu-terre-creuse-femme-foetale-543.jpg
ORGANIZER;CN="Eleonora":MAILTO:contact@axe-sens.org
END:VEVENT
BEGIN:VEVENT
DTSTART;TZID=Europe/Paris:20181129T100000
DTEND;TZID=Europe/Paris:20181201T120000
DTSTAMP:20260422T031712
CREATED:20181105T150836Z
LAST-MODIFIED:20181127T083427Z
UID:10000450-1543485600-1543665600@www.axe-sens.org
SUMMARY:Consultations à Paris en Novembre
DESCRIPTION:Espace Gaele’M \n15 rue de Crussol \nle  vendredi 30 novembre et samedi 1er Decembre 2018 \nÉléonore est psycho-energéticienne et praticienne en médecine chinoise\, homéopathe\, naturopathe. \nElle oeuvre depuis une quinzaine d’année en tant que thérapeute et accompagne ses patients sur des libérations physiques et des ” blocages”conscients et inconscients”. \nElle vous permet de retrouver une certaine fluidité dans votre existence. \nÉléonora vous recevra en consultation individuelle à Montpellier \nInfos et réservations : 0616576199
URL:https://www.axe-sens.org/rendez-vous/consultations-a-paris-4
LOCATION:Espace Gael’M\, Paris
CATEGORIES:Cours,Energétique,Thérapie
ATTACH;FMTTYPE=image/jpeg:https://www.axe-sens.org/wp-content/uploads/2017/03/surrender-artscans-small-72dpi14.jpg
END:VEVENT
BEGIN:VEVENT
DTSTART;TZID=Europe/Paris:20180913T140000
DTEND;TZID=Europe/Paris:20180914T190000
DTSTAMP:20260422T031712
CREATED:20180904T073915Z
LAST-MODIFIED:20180910T155433Z
UID:10000439-1536847200-1536951600@www.axe-sens.org
SUMMARY:Consultation à Paris
DESCRIPTION:Consultations à Paris \nLe jeudi 13 Septembre et vendredi 14 Septembre 2018 \nAvec Éléonora \nÉléonore est psycho-energéticienne et praticienne en médecine chinoise\, homéopathe et naturopathe. \nElle oeuvre depuis une quinzaine d’année en tant que thérapeute et accompagne sur des libérations physiques et sur des déblocages conscients et inconscients. \nElle vous permet de retrouver une certaine fluidité dans votre existence. \nÉléonora vous recevra en consultation individuelle à Paris dans son cabinet à l’Espace Gaele’M – métro Oberkampf. \nInfos et réservations : 0616576199
URL:https://www.axe-sens.org/rendez-vous/consultation-a-paris
LOCATION:Espace Gael’M\, Paris
CATEGORIES:Eleonora Quemener,Energétique,Intervenants,Thérapie
ATTACH;FMTTYPE=image/jpeg:https://www.axe-sens.org/wp-content/uploads/2017/03/christal-chaya-e1490865184750.jpg
END:VEVENT
END:VCALENDAR