BEGIN:VCALENDAR
VERSION:2.0
PRODID:-//Axe &amp; Sens - ECPv6.8.1//NONSGML v1.0//EN
CALSCALE:GREGORIAN
METHOD:PUBLISH
X-WR-CALNAME:Axe &amp; Sens
X-ORIGINAL-URL:https://www.axe-sens.org
X-WR-CALDESC:Évènements pour Axe &amp; Sens
REFRESH-INTERVAL;VALUE=DURATION:PT1H
X-Robots-Tag:noindex
X-PUBLISHED-TTL:PT1H
BEGIN:VTIMEZONE
TZID:Europe/Paris
BEGIN:DAYLIGHT
TZOFFSETFROM:+0100
TZOFFSETTO:+0200
TZNAME:CEST
DTSTART:20170326T010000
END:DAYLIGHT
BEGIN:STANDARD
TZOFFSETFROM:+0200
TZOFFSETTO:+0100
TZNAME:CET
DTSTART:20171029T010000
END:STANDARD
END:VTIMEZONE
BEGIN:VEVENT
DTSTART;TZID=Europe/Paris:20170323T200000
DTEND;TZID=Europe/Paris:20170323T220000
DTSTAMP:20260422T044659
CREATED:20170214T102913Z
LAST-MODIFIED:20170307T090343Z
UID:10000391-1490299200-1490306400@www.axe-sens.org
SUMMARY:Concert de chants sacrés et sons vibratoires
DESCRIPTION:Concert de chants sacrés et sons vibratoires à Paris \nLe jeudi 23 mars 2017 \nAvec Éléonora Quemener et Marie Naudin \n  \nLe son véhicule et amplifie les énergies d’harmonie… \nSelon le physicien allemand Popp\, l’ADN\, la structure essentielle de nos cellules\, serait une sorte d’antenne électromagnétique.\nC’est donc cette antenne qui capterait les informations sonores  et les transmettrait à nos cellules pour la régénérescence. \n  \nMarie Naudin\, musicothérapeute\, utilise des instruments utilisés dans les grands rites spirituels de la planète depuis des éons\, pour accompagner\, envelopper et harmoniser ses auditeurs. \n  \nEleonora Quemener\, psycho-énergéticienne utilise ici sa voix pour permettre aux énergies de se frayer un chemin dans les parties les plus subtiles de notre être afin de libérer les blocages conscients et inconscients. \n  \nElles s’unissent aujourd’hui pour vous proposer un concert de chants sacrés et de sons vibratoires. \nA travers des mantras universels chantés et des sonorités canalisées\, accompagnés de bols de cristal et d’autres instruments aux sonorités chatoyantes\, elles vous emmèneront  dans un voyage subtil\, au cœur de l’Âme. \nNous disposons de chaises mais ce concert s’écoute confortablement allongé pour optimiser le voyage\, il est donc demandé à chacun de prévoir si possible un petit coussin\, une couverture et/ou un petit matelas. \nJeudi 23 mars de 20h à 22h à l’espace Gaele’M à Paris. \nInfos et réservation : \ncontact@axe-sens.org\nEleonora Quemener 06 16 57 61 99\nLara 06 16 52 91 03
URL:https://www.axe-sens.org/rendez-vous/concert-de-chants-sacres-et-sons-de-guerison-2
LOCATION:Esapce Gaele ‘M\, 15 rue de Crussol\, Paris
CATEGORIES:Ateliers,Concerts,Eleonora Quemener,Energétique,Méditations,Musique
ATTACH;FMTTYPE=image/jpeg:https://www.axe-sens.org/wp-content/uploads/2017/02/La-Musique-de-votre-Être.jpg
GEO:48.8643099;2.3680919
X-APPLE-STRUCTURED-LOCATION;VALUE=URI;X-ADDRESS=Esapce Gaele ‘M 15 rue de Crussol Paris;X-APPLE-RADIUS=500;X-TITLE=15 rue de Crussol:geo:2.3680919,48.8643099
END:VEVENT
BEGIN:VEVENT
DTSTART;TZID=Europe/Paris:20170323T090000
DTEND;TZID=Europe/Paris:20170324T190000
DTSTAMP:20260422T044659
CREATED:20170214T100414Z
LAST-MODIFIED:20170214T101608Z
UID:10000390-1490259600-1490382000@www.axe-sens.org
SUMMARY:Consultations à Paris avec Éléonora
DESCRIPTION:Psycho énergéticienne et praticienne en MTC\, ( énergétique chinoise )\, homéopathe et naturopathe… \nÉléonora vous recevra en consultation individuelle à Paris le 23\,24 mars dans son nouveau cabinet Espace Gaele’M – métro Oberkampf. \nLibération des blocages conscients et inconscients\, accompagnement vers un mieux être physique\, psychique et émotionnel. \nAccompagnement sur l’équilibrage énergétique de votre corps\, cœur\, âme et esprit. \nInfos et réservation : \ncontact@axe-sens.org\nEleonora Quemener 06 16 57 61 99\nLara 06 16 52 91 03
URL:https://www.axe-sens.org/rendez-vous/consultations-a-paris-avec-eleonora
LOCATION:Esapce Gaele ‘M\, 15 rue de Crussol\, Paris
CATEGORIES:Eleonora Quemener,Energétique,Thérapie
ATTACH;FMTTYPE=image/jpeg:https://www.axe-sens.org/wp-content/uploads/2017/02/images-e1603450853815.jpg
GEO:48.8643099;2.3680919
X-APPLE-STRUCTURED-LOCATION;VALUE=URI;X-ADDRESS=Esapce Gaele ‘M 15 rue de Crussol Paris;X-APPLE-RADIUS=500;X-TITLE=15 rue de Crussol:geo:2.3680919,48.8643099
END:VEVENT
BEGIN:VEVENT
DTSTART;TZID=Europe/Paris:20170222T090000
DTEND;TZID=Europe/Paris:20170223T190000
DTSTAMP:20260422T044659
CREATED:20170117T092647Z
LAST-MODIFIED:20170123T185319Z
UID:10000389-1487754000-1487876400@www.axe-sens.org
SUMMARY:Consultations à Paris avec Éléonora
DESCRIPTION:Psycho énergéticienne et praticienne en MTC\, ( énergétique chinoise )\, homéopathe et naturopathe… \nÉléonora vous recevra en consultation individuelle à Paris le 22\,23 février dans son nouveau cabinet Espace Gaele’M – métro Oberkampf. \nLibération des blocages conscients et inconscients\, accompagnement vers un mieux être physique\, psychique et émotionnel. \nAccompagnement sur l’équilibrage énergétique de votre corps\, cœur\, âme et esprit. \nInfos et réservation : \ncontact@axe-sens.org\nEleonora Quemener 06 16 57 61 99\nLara 06 16 52 91 03
URL:https://www.axe-sens.org/rendez-vous/consultations-a-paris-3
LOCATION:Esapce Gaele ‘M\, 15 rue de Crussol\, Paris
CATEGORIES:Eleonora Quemener,Energétique,Thérapie
ATTACH;FMTTYPE=image/jpeg:https://www.axe-sens.org/wp-content/uploads/2016/12/carte-de-voeux-fleur-de-vie-e1603451514489.jpg
GEO:48.8643099;2.3680919
X-APPLE-STRUCTURED-LOCATION;VALUE=URI;X-ADDRESS=Esapce Gaele ‘M 15 rue de Crussol Paris;X-APPLE-RADIUS=500;X-TITLE=15 rue de Crussol:geo:2.3680919,48.8643099
END:VEVENT
BEGIN:VEVENT
DTSTART;TZID=Europe/Paris:20170112T090000
DTEND;TZID=Europe/Paris:20170113T190000
DTSTAMP:20260422T044659
CREATED:20161219T091120Z
LAST-MODIFIED:20161220T075943Z
UID:10000385-1484211600-1484334000@www.axe-sens.org
SUMMARY:Consultations à Paris
DESCRIPTION:Psycho énergéticienne et praticienne en MTC\, ( énergétique chinoise )\, homéopathe et naturopathe… \nÉléonore vous recevra en consultation individuelle à Paris le 12\,13\, janvier dans son nouveau cabinet Espace Gaele’M – métro Oberkampf. \nLibération des blocages conscients et inconscients\, accompagnement vers un mieux être physique\, psychique et émotionnel. \nAccompagnement sur l’équilibrage énergétique de votre corps\, cœur\, âme et esprit. \n 
URL:https://www.axe-sens.org/rendez-vous/consultations-a-paris-2
LOCATION:Esapce Gaele ‘M\, 15 rue de Crussol\, Paris
CATEGORIES:Energétique,Thérapie
ATTACH;FMTTYPE=image/jpeg:https://www.axe-sens.org/wp-content/uploads/2016/12/carte-de-voeux-fleur-de-vie-e1603451514489.jpg
GEO:48.8643099;2.3680919
X-APPLE-STRUCTURED-LOCATION;VALUE=URI;X-ADDRESS=Esapce Gaele ‘M 15 rue de Crussol Paris;X-APPLE-RADIUS=500;X-TITLE=15 rue de Crussol:geo:2.3680919,48.8643099
END:VEVENT
END:VCALENDAR