BEGIN:VCALENDAR
VERSION:2.0
PRODID:-//Axe &amp; Sens - ECPv6.8.1//NONSGML v1.0//EN
CALSCALE:GREGORIAN
METHOD:PUBLISH
X-ORIGINAL-URL:https://www.axe-sens.org
X-WR-CALDESC:Évènements pour Axe &amp; Sens
REFRESH-INTERVAL;VALUE=DURATION:PT1H
X-Robots-Tag:noindex
X-PUBLISHED-TTL:PT1H
BEGIN:VTIMEZONE
TZID:Europe/Paris
BEGIN:DAYLIGHT
TZOFFSETFROM:+0100
TZOFFSETTO:+0200
TZNAME:CEST
DTSTART:20190331T010000
END:DAYLIGHT
BEGIN:STANDARD
TZOFFSETFROM:+0200
TZOFFSETTO:+0100
TZNAME:CET
DTSTART:20191027T010000
END:STANDARD
END:VTIMEZONE
BEGIN:VEVENT
DTSTART;TZID=Europe/Paris:20190725T190000
DTEND;TZID=Europe/Paris:20190725T220000
DTSTAMP:20260422T061829
CREATED:20190626T085954Z
LAST-MODIFIED:20190626T090225Z
UID:10000458-1564081200-1564092000@www.axe-sens.org
SUMMARY:Conférence et méditation : L'energie et la conscience - Qu'est ce que la déprogrammation cellulaire. Aux pieds du Vercors en Drôme.
DESCRIPTION:Qu’est ce que la re programmation cellulaire ? \nLors de cette conférence\, Eléonora vous fera découvrir son parcours atypique ainsi que différentes méthodes de libérations et approches énergétiques qu’elle a rencontrées au cours des 15 dernières années\, auprès de grands sages\, maîtres ou chamans\, en Amérique\, en Inde ou en Afrique… Elle offre aujourd’hui cette quintessence lors de ses soins\, ateliers ou séminaires. \nElle permet une prise de conscience de ce qu’elle appelle “ les programmes limitants “ à l’origine des distorsions du corps\, à l’origine de ce qu’on appelle communément “les maladies”. \nD’où proviennent ces programmes limitants et comment peuvent ils impacter notre santé ? \nComment s’en débarrasser ?  \nLa méditation qu’elle proposera après le débat vous permettra d’expérimenter une  harmonisation profonde du corps et des corps\, alignement\, ancrage et déprogrammation cellulaire subtile… Parfois Eléonora canalise également des sons de guérisons qui se joignent aux mots pour amplifier ce travail. \nLe lieu du stage se trouve au pied du Vercors en Drôme\, dans une ancienne ferme\, située dans le méandre d’une rivière avec presque 1 ha de terrain\, proche de Chabeuil_26120  ( à 20 minutes de Valence_26000 et à 25 minutes de Crest_26400). \n  \n 
URL:https://www.axe-sens.org/rendez-vous/conference-et-meditation-lenergie-et-la-conscience-quest-ce-que-la-deprogrammation-cellulaire
LOCATION:Domaine du Martinet\, proche de Chabeuil_26120  ( à 20 minutes de Valence_26000 et à 25 minutes de Crest_26400). \, France Métropolitaine
CATEGORIES:Cours,Formations,Méditations,Séminaires,Stages
ATTACH;FMTTYPE=image/jpeg:https://www.axe-sens.org/wp-content/uploads/2017/11/MUSIQUE-ET-SPECTACLES-VIVANTS_0-e1510571687809.jpg
ORGANIZER;CN="Eleonora":MAILTO:contact@axe-sens.org
END:VEVENT
END:VCALENDAR