BEGIN:VCALENDAR
VERSION:2.0
PRODID:-//Axe &amp; Sens - ECPv6.8.1//NONSGML v1.0//EN
CALSCALE:GREGORIAN
METHOD:PUBLISH
X-ORIGINAL-URL:https://www.axe-sens.org
X-WR-CALDESC:Évènements pour Axe &amp; Sens
REFRESH-INTERVAL;VALUE=DURATION:PT1H
X-Robots-Tag:noindex
X-PUBLISHED-TTL:PT1H
BEGIN:VTIMEZONE
TZID:Europe/Paris
BEGIN:DAYLIGHT
TZOFFSETFROM:+0100
TZOFFSETTO:+0200
TZNAME:CEST
DTSTART:20130331T010000
END:DAYLIGHT
BEGIN:STANDARD
TZOFFSETFROM:+0200
TZOFFSETTO:+0100
TZNAME:CET
DTSTART:20131027T010000
END:STANDARD
BEGIN:DAYLIGHT
TZOFFSETFROM:+0100
TZOFFSETTO:+0200
TZNAME:CEST
DTSTART:20140330T010000
END:DAYLIGHT
BEGIN:STANDARD
TZOFFSETFROM:+0200
TZOFFSETTO:+0100
TZNAME:CET
DTSTART:20141026T010000
END:STANDARD
BEGIN:DAYLIGHT
TZOFFSETFROM:+0100
TZOFFSETTO:+0200
TZNAME:CEST
DTSTART:20150329T010000
END:DAYLIGHT
BEGIN:STANDARD
TZOFFSETFROM:+0200
TZOFFSETTO:+0100
TZNAME:CET
DTSTART:20151025T010000
END:STANDARD
BEGIN:DAYLIGHT
TZOFFSETFROM:+0100
TZOFFSETTO:+0200
TZNAME:CEST
DTSTART:20160327T010000
END:DAYLIGHT
BEGIN:STANDARD
TZOFFSETFROM:+0200
TZOFFSETTO:+0100
TZNAME:CET
DTSTART:20161030T010000
END:STANDARD
BEGIN:DAYLIGHT
TZOFFSETFROM:+0100
TZOFFSETTO:+0200
TZNAME:CEST
DTSTART:20170326T010000
END:DAYLIGHT
BEGIN:STANDARD
TZOFFSETFROM:+0200
TZOFFSETTO:+0100
TZNAME:CET
DTSTART:20171029T010000
END:STANDARD
BEGIN:DAYLIGHT
TZOFFSETFROM:+0100
TZOFFSETTO:+0200
TZNAME:CEST
DTSTART:20180325T010000
END:DAYLIGHT
BEGIN:STANDARD
TZOFFSETFROM:+0200
TZOFFSETTO:+0100
TZNAME:CET
DTSTART:20181028T010000
END:STANDARD
BEGIN:DAYLIGHT
TZOFFSETFROM:+0100
TZOFFSETTO:+0200
TZNAME:CEST
DTSTART:20190331T010000
END:DAYLIGHT
BEGIN:STANDARD
TZOFFSETFROM:+0200
TZOFFSETTO:+0100
TZNAME:CET
DTSTART:20191027T010000
END:STANDARD
BEGIN:DAYLIGHT
TZOFFSETFROM:+0100
TZOFFSETTO:+0200
TZNAME:CEST
DTSTART:20200329T010000
END:DAYLIGHT
BEGIN:STANDARD
TZOFFSETFROM:+0200
TZOFFSETTO:+0100
TZNAME:CET
DTSTART:20201025T010000
END:STANDARD
BEGIN:DAYLIGHT
TZOFFSETFROM:+0100
TZOFFSETTO:+0200
TZNAME:CEST
DTSTART:20210328T010000
END:DAYLIGHT
BEGIN:STANDARD
TZOFFSETFROM:+0200
TZOFFSETTO:+0100
TZNAME:CET
DTSTART:20211031T010000
END:STANDARD
BEGIN:DAYLIGHT
TZOFFSETFROM:+0100
TZOFFSETTO:+0200
TZNAME:CEST
DTSTART:20220327T010000
END:DAYLIGHT
BEGIN:STANDARD
TZOFFSETFROM:+0200
TZOFFSETTO:+0100
TZNAME:CET
DTSTART:20221030T010000
END:STANDARD
BEGIN:DAYLIGHT
TZOFFSETFROM:+0100
TZOFFSETTO:+0200
TZNAME:CEST
DTSTART:20230326T010000
END:DAYLIGHT
BEGIN:STANDARD
TZOFFSETFROM:+0200
TZOFFSETTO:+0100
TZNAME:CET
DTSTART:20231029T010000
END:STANDARD
BEGIN:DAYLIGHT
TZOFFSETFROM:+0100
TZOFFSETTO:+0200
TZNAME:CEST
DTSTART:20240331T010000
END:DAYLIGHT
BEGIN:STANDARD
TZOFFSETFROM:+0200
TZOFFSETTO:+0100
TZNAME:CET
DTSTART:20241027T010000
END:STANDARD
BEGIN:DAYLIGHT
TZOFFSETFROM:+0100
TZOFFSETTO:+0200
TZNAME:CEST
DTSTART:20250330T010000
END:DAYLIGHT
BEGIN:STANDARD
TZOFFSETFROM:+0200
TZOFFSETTO:+0100
TZNAME:CET
DTSTART:20251026T010000
END:STANDARD
BEGIN:DAYLIGHT
TZOFFSETFROM:+0100
TZOFFSETTO:+0200
TZNAME:CEST
DTSTART:20260329T010000
END:DAYLIGHT
BEGIN:STANDARD
TZOFFSETFROM:+0200
TZOFFSETTO:+0100
TZNAME:CET
DTSTART:20261025T010000
END:STANDARD
TZID:Europe/Paris
BEGIN:DAYLIGHT
TZOFFSETFROM:+0100
TZOFFSETTO:+0200
TZNAME:CEST
DTSTART:20160327T010000
END:DAYLIGHT
BEGIN:STANDARD
TZOFFSETFROM:+0200
TZOFFSETTO:+0100
TZNAME:CET
DTSTART:20161030T010000
END:STANDARD
BEGIN:DAYLIGHT
TZOFFSETFROM:+0100
TZOFFSETTO:+0200
TZNAME:CEST
DTSTART:20170326T010000
END:DAYLIGHT
BEGIN:STANDARD
TZOFFSETFROM:+0200
TZOFFSETTO:+0100
TZNAME:CET
DTSTART:20171029T010000
END:STANDARD
BEGIN:DAYLIGHT
TZOFFSETFROM:+0100
TZOFFSETTO:+0200
TZNAME:CEST
DTSTART:20180325T010000
END:DAYLIGHT
BEGIN:STANDARD
TZOFFSETFROM:+0200
TZOFFSETTO:+0100
TZNAME:CET
DTSTART:20181028T010000
END:STANDARD
BEGIN:DAYLIGHT
TZOFFSETFROM:+0100
TZOFFSETTO:+0200
TZNAME:CEST
DTSTART:20190331T010000
END:DAYLIGHT
BEGIN:STANDARD
TZOFFSETFROM:+0200
TZOFFSETTO:+0100
TZNAME:CET
DTSTART:20191027T010000
END:STANDARD
BEGIN:DAYLIGHT
TZOFFSETFROM:+0100
TZOFFSETTO:+0200
TZNAME:CEST
DTSTART:20200329T010000
END:DAYLIGHT
BEGIN:STANDARD
TZOFFSETFROM:+0200
TZOFFSETTO:+0100
TZNAME:CET
DTSTART:20201025T010000
END:STANDARD
BEGIN:DAYLIGHT
TZOFFSETFROM:+0100
TZOFFSETTO:+0200
TZNAME:CEST
DTSTART:20210328T010000
END:DAYLIGHT
BEGIN:STANDARD
TZOFFSETFROM:+0200
TZOFFSETTO:+0100
TZNAME:CET
DTSTART:20211031T010000
END:STANDARD
BEGIN:DAYLIGHT
TZOFFSETFROM:+0100
TZOFFSETTO:+0200
TZNAME:CEST
DTSTART:20220327T010000
END:DAYLIGHT
BEGIN:STANDARD
TZOFFSETFROM:+0200
TZOFFSETTO:+0100
TZNAME:CET
DTSTART:20221030T010000
END:STANDARD
BEGIN:DAYLIGHT
TZOFFSETFROM:+0100
TZOFFSETTO:+0200
TZNAME:CEST
DTSTART:20230326T010000
END:DAYLIGHT
BEGIN:STANDARD
TZOFFSETFROM:+0200
TZOFFSETTO:+0100
TZNAME:CET
DTSTART:20231029T010000
END:STANDARD
END:VTIMEZONE
BEGIN:VEVENT
DTSTART;TZID=Europe/Paris:20260213T210000
DTEND;TZID=Europe/Paris:20260213T223000
DTSTAMP:20260421T215614
CREATED:20260129T155842Z
LAST-MODIFIED:20260129T171654Z
UID:10000663-1771016400-1771021800@www.axe-sens.org
SUMMARY:Voyage sonore multidimensionnel. Marseille
DESCRIPTION:Les voyages sonores sont des parenthèses enchantées qui permettent un lâcher prise total et un voyage au delà de l’espace et du temps.  \nLes voyages sonores proposés par « Axe et Sens » s’articulent souvent à travers le prisme des 5 éléments. Ces concerts chatoyants vous invitent à un moment hors du temps.\nCes voyages musicaux sont des moments précieux et riches qui s’écoutent allongés ou confortablement installés. Les participants seront invités à poser des intentions avant le concert. Ils seront guidés par des mélodies immersives\, mêlant des sonorités profondes et enveloppantes\, jouées sur des instruments rares : Gongs\, cloches\, flutes\, bols thibétains\, harpes de cristal et tambours\, cloches et shimes et autres instruments intuitifs offrent des mélodies oniriques et propices à l’imaginaire. Ces morceaux sont ponctués de chants suaves portés par la voix d’Eléonora pour toucher plusieurs dimensions de la conscience : physique\, émotionnelle\, mentale et spirituelle. \nLe tout offre une exploration intérieure douce et poétique favorisant l’évasion\, la détente et l’éveil sensoriel voire la transformation intérieure. \n Chaque concert devient un espace de lâcher prise\, de relaxation profonde\, et de reconnexion à soi\, accessible à tous et sans prérequis. \nBienfaits de l’atelier  \nDiminution du stress et des tensions \nStimulation sensorielle douce \nApaisement du système nerveux \nFavorise le bien être émotionnel \nEvasion et relaxation profonde \nStimulation de l’imaginaire … \nTarif souhaité : 20 €\n( Libre et conscient pour les petites bourses) \n \nInfos : 00 33 06 16 57 61 99\nMarseille 14 eme \n  \n  \n 
URL:https://www.axe-sens.org/rendez-vous/voyage-sonore-multidimensionnel
LOCATION:Domaine de Terresainte
CATEGORIES:Alchimie,Arts,Ceremonie sacrée,Chants sacrés,Concert,CONCERT,Danse,Energétique,Musique,Théâtre
ATTACH;FMTTYPE=image/jpeg:https://www.axe-sens.org/wp-content/uploads/2017/02/La-Musique-de-votre-Être.jpg
END:VEVENT
BEGIN:VEVENT
DTSTART;TZID=Europe/Paris:20231007T140000
DTEND;TZID=Europe/Paris:20231007T190000
DTSTAMP:20260421T215614
CREATED:20230923T171012Z
LAST-MODIFIED:20230923T172331Z
UID:10000513-1696687200-1696705200@www.axe-sens.org
SUMMARY:Atelier d'intégration
DESCRIPTION:Atelier d’intégration\nLe Dimanche 7 octobre\nDe 14h00 à 19h00 \nCet atelier s’adresse aux élèves de  Axe et Sens afin de se retrouver\, de venir pratiquer ensemble et de recevoir de nouvelles initiations. \nNous travaillerons sur les pré requis : Revoir ses connexions\, ses ancrages. Se reconnecter au coeur; savoir tester\, affiner sa conscience et sa perception des énergies\, revoir les protocoles de nettoyages… \nNous ouvrirons le travail vers de nouvelles consciences et de nouveaux outils pour gagner en efficacité. \nApporter vos pendules et vos fascicules. \nParticipation : 80 €
URL:https://www.axe-sens.org/rendez-vous/5855
LOCATION:Domaine de Terresainte
CATEGORIES:Ateliers,Eleonora Quemener,Energétique,Formations,Méditations,Séminaires,Stages,Thérapie
ATTACH;FMTTYPE=image/jpeg:https://www.axe-sens.org/wp-content/uploads/2017/03/ob_540651_13006685-891514944294820-8826527683901-e1490103665535.jpg
END:VEVENT
BEGIN:VEVENT
DTSTART;TZID=Europe/Paris:20231001T170000
DTEND;TZID=Europe/Paris:20231001T193000
DTSTAMP:20260421T215614
CREATED:20230923T162737Z
LAST-MODIFIED:20230923T164409Z
UID:10000512-1696179600-1696188600@www.axe-sens.org
SUMMARY:Méditation guidée et voyage sonore multidimensionnel
DESCRIPTION:Le Dimanche 1 er Octobre de 17h30 à 19H30\nTerresainte – Marseille. \nEleonora vous accueillera à Marseille à Terresainte pour une soirée de méditation et de concerts. Nous démarrerons avec une méditation guidée dans l’énergie de l’équinoxe et l’entrée dans l’automne.\nNous travaillerons aux réajustements énergétiques afin d’offrir à notre structure les ouvertures et alignements nécessaires.\nIl s’agit d’accueillir avec une plus grande fluidité les différents mouvements vibratoires et permettre les ancrages nécessaires.\nCette méditation en présentiel sera accompagnée  par  Laurent Humbert aux instruments et se terminera par un concert multidimensionnel. Un voyage sonore vibratoire. \nEléonora est psycho-énergéticienne\, lors des concerts\, dans ses soins et ses méditations\, elle utilise sa voix\, chants sacrés\, intuitifs\, ou sons canalisés pour permettre aux énergies de se frayer un chemin dans les parties les plus subtiles de notre être. \nLawrence est électroacousticien :  avec des bols\, harpe de cristal\, carillons\, gongs\, bâtons de pluies\, cloches…  et d’autres instruments aux sonorités chatoyantes\, il crée des ambiances sonores et ouvre des portes insoupsonnées. \nAllongés sur le sol ou assis confortablement vous allez vous envoler et recevoir des soins sonores de hautes fréquences. \nUne collation partagée est proposée après l’évènement. Merci de vous inscrire rapidement car la jauge est limitée. \nPour votre confort veuillez apporter un matelas de yoga\, un plaid\, et ou un zafu. \n  \nSoirée méditation et concert : 20 €\nCotisation annuelle à l’association : 5€ \nInfos et réservation : 06 16 57 61 99 \n 
URL:https://www.axe-sens.org/rendez-vous/meditation-guidee-et-voyage-sonore-multidimensionnel
LOCATION:Domaine de Terresainte
CATEGORIES:Eleonora Quemener,Energétique,Méditations,Thérapie
ATTACH;FMTTYPE=image/jpeg:https://www.axe-sens.org/wp-content/uploads/2014/09/images-13.jpg
END:VEVENT
BEGIN:VEVENT
DTSTART;TZID=Europe/Paris:20211009T100000
DTEND;TZID=Europe/Paris:20211010T190000
DTSTAMP:20260421T215614
CREATED:20210917T085647Z
LAST-MODIFIED:20220208T112410Z
UID:10000492-1633773600-1633892400@www.axe-sens.org
SUMMARY:Formation Thérapeute : Reconnexion à sa multidimension niveau I -  Marseille
DESCRIPTION:  \nSéminaire de reconnexion à sa multi-dimension – niveau 1 -Formation thérapeute  \nLe samedi  09  et le dimanche 10 Octobre  2021  \nMarseille \nThérapeute et formatrice\, Eléonora Quemener  vous propose avec ce stage\, d’acquérir des outils fondamentaux\, que ce soit pour vous à titre personnel ou dans une optique professionnelle\, pour devenir autonome en énergétique.  \nCette formation permet d’acquérir des outils concrets et efficaces et offre une prise de conscience des flux énergétiques qui régissent notre corps : \nComment identifier les différentes énergies et les portes multidimensionnelles ?\nComment les tester\, les reconnaître ?\nComment s’ancrer correctement et se protéger des énergies hostiles ?\nComment s’ équilibrer et s’harmoniser ?\nComment utiliser l’énergie pour la guérison et redevenir un canal de hautes fréquences de l’énergie universelle de vie. \nPar des méditations guidées\, des transmissions personnalisées\, des travaux pratiques\, vous allez ici lors de ces 2 jours intenses\, libérer certains de blocages et accueillir de nouveaux outils pour commencer à œuvrer en conscience et redevenir des acteurs autonomes et responsables de votre vie. \nInfos : 00 33-6 16 57 61 99 \ncontact@axe-sens.org
URL:https://www.axe-sens.org/rendez-vous/formation-therapeute-reconnexion-a-sa-multidimension-niveau-i-marseille-2
LOCATION:Domaine de Terresainte
CATEGORIES:Cours,Formations
ATTACH;FMTTYPE=image/jpeg:https://www.axe-sens.org/wp-content/uploads/2017/08/maxresdefault-e1603449704816.jpg
END:VEVENT
BEGIN:VEVENT
DTSTART;TZID=Europe/Paris:20181024T093000
DTEND;TZID=Europe/Paris:20181027T173000
DTSTAMP:20260421T215614
CREATED:20181022T092753Z
LAST-MODIFIED:20181022T092753Z
UID:10000449-1540373400-1540661400@www.axe-sens.org
SUMMARY:Retraite : Féminin sacré
DESCRIPTION:Retraite « Féminin sacré »\n\nAteliers\, méditations\, workshop\, visites sur sites…\nMarseille du 24 octobre au 27 octobre.\n  \nLibération des blessures consciente et inconscientes du ” féminin”\, des engrammes matriciels\, afin de réactiver sa puissance du Féminin sacré.  Nos chakras de base sont les creusets de mémoires et blocages que nous portons depuis des générations. Certains de ces blocages\, sont inscrits dans la mémoire universelle.  L’énergie du Féminin sacré s’ adresse aussi aux Hommes. Ils’agit ici de favoriser l’accueil\, l ouverture et l’intégration des énergies du Féminin divin\, force primordiale de création. \nElle est reliée aux émotions\, à l’inspiration et au fait de transcender les frontières pour se connecter aux autres. \nNotre énergie féminine est le pont qui nous relie à notre âme. Elle est la source de toute inspiration et nous devons réapprendre à être en relation avec elle. \nPermettre à l’énergie féminine de revenir en nous c’est permettre à l’amour de recommencer à couler en nous avec abondance. C’est retrouver une sagesse et une sécurité\, dont nous n’avons même plus idée dans la plupart des cas tant nous nous sommes éloignés de l’essence de cette énergie. \nLa peur  n’est rien d’autre que l’absence de l’énergie féminine. \n 
URL:https://www.axe-sens.org/rendez-vous/retraite-feminin-sacre
LOCATION:Domaine de Terresainte
ATTACH;FMTTYPE=image/jpeg:https://www.axe-sens.org/wp-content/uploads/2017/03/surrender-artscans-small-72dpi14.jpg
ORGANIZER;CN="Eleonora":MAILTO:contact@axe-sens.org
END:VEVENT
BEGIN:VEVENT
DTSTART;TZID=Europe/Paris:20161215T203000
DTEND;TZID=Europe/Paris:20161215T223000
DTSTAMP:20260421T215614
CREATED:20161212T123312Z
LAST-MODIFIED:20161212T143512Z
UID:10000383-1481833800-1481841000@www.axe-sens.org
SUMMARY:Méditation de pleine lune
DESCRIPTION:Le but de cette méditation est de permettre des libérations\,  encore et toujours\, des résistances qui nous empêchent de nous aligner en totalité\, dans la paix et la fluidité de notre existence au sein du vivant. \nCette pleine Lune de Décembre s’inscrit dans la lignée des “supers pleines lunes” (Octobre\, novembre et Decembre )  qui viennent avant le passage de 2017\, nous permettre d’amplifier nos actions créatrices. \nL’intensité et la puissance des énergies véhiculées sur notre Terre exacerbent nos réactions. Si ces réactions sont portées par la compassion\, le discernement et l’intégrité\, alors nous évoluons vers la libération de nos  vieux schémas et le lâcher prise avec la possibilité de co-créer dans la matière un avenir harmonieux. \nSi au contraire nos réactions sont encore empruntes de sentiments négatifs générés par nos frustrations et nos peurs conscientes et inconscientes\, alors elles seront directement au service de la colère et de l’agressivité. Chaotiques\, elles viendront nous enfermer d’avantage. \nCes moments de “pleine lune” sont comme des portails de “possibles” qu’il est bon de saisir pour donner un coup d’accélérateur dans nos processus de “guai – ri – sons” \nInfos : 0616576199
URL:https://www.axe-sens.org/rendez-vous/meditation-de-pleine-lune
LOCATION:Domaine de Terresainte
CATEGORIES:Ceremonie,Eleonora Quemener,Energétique,Méditations,Thérapie
ATTACH;FMTTYPE=image/jpeg:https://www.axe-sens.org/wp-content/uploads/2014/05/images-94.jpg
ORGANIZER;CN="Eleonora":MAILTO:aurorakumaran@gmail.com
END:VEVENT
BEGIN:VEVENT
DTSTART;TZID=Europe/Paris:20160319T170000
DTEND;TZID=Europe/Paris:20160319T170000
DTSTAMP:20260421T215614
CREATED:20160205T193808Z
LAST-MODIFIED:20160308T180111Z
UID:10000290-1458406800-1458406800@www.axe-sens.org
SUMMARY:Conférence sur la conscience et l'importance de l'eau
DESCRIPTION:Quel est l’impact de l’eau sur notre organisme ? L’eau est-elle réellement vivante\, comment l’informer ou la désinformer ?\nOù en sommes nous dans les différentes découvertes scientifiques ? Quelles sont les avancées ? \nQuelles solutions proposer pour accéder facilement à une eau pure ? \nConférenciers : \nEleonore Quemener : Psycho énergéticienne- praticienne en médecine chinoise \nMilène Souvignet : Chercheur-auteure du livre : “L’eau\, un être sensible” (synthèse de résultats de plus d’une quarantaine de chercheurs sur l’eau et sa mémoire). \nRené Gibello : Représentant “OJADE” \nNombre de places limitées\, merci de vous inscrire le plus rapidement possible auprès de : \nRené Gibello : rene.gibello@gmail.com – 06 64 42 92 91 \n  \n  \n 
URL:https://www.axe-sens.org/rendez-vous/conference-sur-la-conscience-et-limportance-de-leau
LOCATION:Domaine de Terresainte
CATEGORIES:Conférences
ATTACH;FMTTYPE=image/jpeg:https://www.axe-sens.org/wp-content/uploads/2014/09/eau_thumb.jpg
END:VEVENT
BEGIN:VEVENT
DTSTART;TZID=Europe/Paris:20150927T203000
DTEND;TZID=Europe/Paris:20150927T223000
DTSTAMP:20260421T215614
CREATED:20150924T072605Z
LAST-MODIFIED:20150924T081835Z
UID:10000372-1443385800-1443393000@www.axe-sens.org
SUMMARY:Méditation de pleine lune à Marseille
DESCRIPTION:Super Lune de Sang et dernière éclipse totale pour marquer le véritable changement avant 2016… \nLors de cette soirée nous explorerons les différents blocages encore existants. En  notre multidimension résident encore des engrammes de limitation\, bien souvent logés dans les affres de note ego sous différentes formes. \nLe but de ces méditations est de permettre une libération encore et toujours\, des résistances qui nous empêchent de nous aligner en totalité\, dans la paix et la fluidité de notre existence. \n 
URL:https://www.axe-sens.org/rendez-vous/meditation-de-pleine-lune-a-marseille
LOCATION:Domaine de Terresainte
CATEGORIES:Eleonora Quemener,Energétique,Méditations,Thérapie
ATTACH;FMTTYPE=image/jpeg:https://www.axe-sens.org/wp-content/uploads/2015/03/Eclipses2.jpg
END:VEVENT
BEGIN:VEVENT
DTSTART;TZID=Europe/Paris:20131018T200000
DTEND;TZID=Europe/Paris:20131018T220000
DTSTAMP:20260421T215614
CREATED:20131017T113817Z
LAST-MODIFIED:20131017T115119Z
UID:10000313-1382126400-1382133600@www.axe-sens.org
SUMMARY:Atelier Méditation à Marseille
DESCRIPTION:En cette pleine lune nous allons travailler sur nos mémoires cellulaires obsolètes et limitantes \n(Partage 20€ – participation libre bienvenue) \nRepas partagé après la méditation
URL:https://www.axe-sens.org/rendez-vous/atelier-meditation-dintegration-a-marseille
LOCATION:Domaine de Terresainte
CATEGORIES:Méditations
ATTACH;FMTTYPE=image/jpeg:https://www.axe-sens.org/wp-content/uploads/2013/03/adn-adam.jpg
END:VEVENT
END:VCALENDAR