BEGIN:VCALENDAR
VERSION:2.0
PRODID:-//Axe &amp; Sens - ECPv6.8.1//NONSGML v1.0//EN
CALSCALE:GREGORIAN
METHOD:PUBLISH
X-ORIGINAL-URL:https://www.axe-sens.org
X-WR-CALDESC:Évènements pour Axe &amp; Sens
REFRESH-INTERVAL;VALUE=DURATION:PT1H
X-Robots-Tag:noindex
X-PUBLISHED-TTL:PT1H
BEGIN:VTIMEZONE
TZID:Europe/Paris
BEGIN:DAYLIGHT
TZOFFSETFROM:+0100
TZOFFSETTO:+0200
TZNAME:CEST
DTSTART:20160327T010000
END:DAYLIGHT
BEGIN:STANDARD
TZOFFSETFROM:+0200
TZOFFSETTO:+0100
TZNAME:CET
DTSTART:20161030T010000
END:STANDARD
BEGIN:DAYLIGHT
TZOFFSETFROM:+0100
TZOFFSETTO:+0200
TZNAME:CEST
DTSTART:20170326T010000
END:DAYLIGHT
BEGIN:STANDARD
TZOFFSETFROM:+0200
TZOFFSETTO:+0100
TZNAME:CET
DTSTART:20171029T010000
END:STANDARD
BEGIN:DAYLIGHT
TZOFFSETFROM:+0100
TZOFFSETTO:+0200
TZNAME:CEST
DTSTART:20180325T010000
END:DAYLIGHT
BEGIN:STANDARD
TZOFFSETFROM:+0200
TZOFFSETTO:+0100
TZNAME:CET
DTSTART:20181028T010000
END:STANDARD
END:VTIMEZONE
BEGIN:VEVENT
DTSTART;TZID=Europe/Paris:20180325T080000
DTEND;TZID=Europe/Paris:20180325T170000
DTSTAMP:20260422T074801
CREATED:20180308T112701Z
LAST-MODIFIED:20180308T112856Z
UID:10000426-1521964800-1521997200@www.axe-sens.org
SUMMARY:Atelier d’intégration des 5 éléments à Paris
DESCRIPTION:Atelier D’intégration des 5 éléments comme outils de co création \nLe Dimanche 25 Mars \nDe 10h à 18h \nA Paris \nAvec Éléonora Quemener \n\n\n\nDans le Tao les 5 éléments correspondent au cycle d’engendrement\, en médecine chinoise ils correspondent à des organes vitaux. \nPlaton les associe à des géométries sacrées. Ils sont liés à des maîtrises de respiration et des nettoyages de canaux subtils\, outils fondamentaux pour l’intégration de nos structures énergétiques les plus élevées. \nNotre matière elle même est constituée de ces 5 éléments qui agissent en interconnexion et en alchimie les uns avec les autres. \nAu cours de la journée nous allons intégrer ces différents éléments\, un a un sous toutes leurs facettes afin de les intégrer énergétiquement et cellulairement. \nIls recèlent de nombreux mystères que nous livrent ici les initiations proposées lors de cette journée. \nThéories pratiques\, méditations guidées\, pratiques chamaniques ou spirituelles ancestrales… Vous explorerez ici chacun des éléments dans son intégralité afin d’apprendre à les utiliser en conscience. \nInfos et réservation : \ncontact@axe-sens.org\nFB Axe et Sens/ Éléonora Aurora Celestia\n06 16 57 61 99
URL:https://www.axe-sens.org/rendez-vous/atelier-dintegration-des-5-elements-a-paris
LOCATION:Cabinet Paris\, 9 rue du Drobropol\, Paris\, Ile de France\, 75017\, France
CATEGORIES:Ateliers,Cours,Formations,Séminaires,Stages
ATTACH;FMTTYPE=image/jpeg:https://www.axe-sens.org/wp-content/uploads/2017/03/cf4de1dc3130a0be88c04f073c15a607.jpg
GEO:48.8829613;2.2854841
X-APPLE-STRUCTURED-LOCATION;VALUE=URI;X-ADDRESS=Cabinet Paris 9 rue du Drobropol Paris Ile de France 75017 France;X-APPLE-RADIUS=500;X-TITLE=9 rue du Drobropol:geo:2.2854841,48.8829613
END:VEVENT
BEGIN:VEVENT
DTSTART;TZID=Europe/Paris:20160912T090000
DTEND;TZID=Europe/Paris:20160914T120000
DTSTAMP:20260422T074801
CREATED:20160908T063920Z
LAST-MODIFIED:20160908T063920Z
UID:10000376-1473670800-1473854400@www.axe-sens.org
SUMMARY:Consultations à Paris
DESCRIPTION:Psycho énergéticienne et praticienne en MTC\, ( énergétique chinoise )\, homéopathe et naturopathe… Eleonore vous recevra en consultation individuelle à Paris le 12\,13\, 14 septembre. \nLibération des blocages conscients et inconscients\, accompagnement sur un mieux être physique\, psychique et émotionnel \nAccompagnement sur l’équilibrage énergétique de votre corps\, cœur\, âme et esprit. \n 
URL:https://www.axe-sens.org/rendez-vous/consultations-a-paris
LOCATION:Cabinet Paris\, 9 rue du Drobropol\, Paris\, Ile de France\, 75017\, France
CATEGORIES:Eleonora Quemener,Thérapie
ATTACH;FMTTYPE=image/jpeg:https://www.axe-sens.org/wp-content/uploads/2011/08/67333_488706294523199_485556473_n-e1603449632822.jpg
GEO:48.8829613;2.2854841
X-APPLE-STRUCTURED-LOCATION;VALUE=URI;X-ADDRESS=Cabinet Paris 9 rue du Drobropol Paris Ile de France 75017 France;X-APPLE-RADIUS=500;X-TITLE=9 rue du Drobropol:geo:2.2854841,48.8829613
END:VEVENT
BEGIN:VEVENT
DTSTART;TZID=Europe/Paris:20160625T093000
DTEND;TZID=Europe/Paris:20160625T173000
DTSTAMP:20260422T074801
CREATED:20160608T214044Z
LAST-MODIFIED:20160608T214219Z
UID:10000294-1466847000-1466875800@www.axe-sens.org
SUMMARY:Atelier "Déblocages et clefs de la transcendance" - Paris
DESCRIPTION:Lors de cette journée Eléonora vous amènera à prendre conscience des blocages encore présents dans votre structure multidimentionnelle. Elle vous transmettra des exercices simples qui vous permetteront de retrouver votre véritable autonomie quand vous vous sentez seuls face aux blocages de votre existence.  Elle vous aidera à ouvrir cette porte de compréhension qui vous permet de vous laisser traverser par les épreuves sans vous sentir impactés de manière violente ainsi que les bases fondamentales du toucher thérapeutique\, les points d’accupression importants\, les gestes et les mouvements à adopter pour remettre les énergies en circulation\, pour nettoyer et harmoniser le corps. \nElle vous transmettra également les clefs importantes à connaitre pour pratiquer des soins énergétiques; pour être un canal d’énergie\, pour apprendre à se protéger\, et pourvoir commencer à œuvrer avec vos proches\, vos familles\, vos amis…
URL:https://www.axe-sens.org/rendez-vous/atelier-deblocages-et-clefs-de-le-transcendance-paris
LOCATION:Cabinet Paris\, 9 rue du Drobropol\, Paris\, Ile de France\, 75017\, France
CATEGORIES:Ateliers,Cours,Eleonora Quemener,Energétique,Formations,Méditations,Séminaires,Thérapie
ATTACH;FMTTYPE=image/jpeg:https://www.axe-sens.org/wp-content/uploads/2014/09/images-13.jpg
ORGANIZER;CN="Eleonora":MAILTO:aurorakumaran@gmail.com
GEO:48.8829613;2.2854841
X-APPLE-STRUCTURED-LOCATION;VALUE=URI;X-ADDRESS=Cabinet Paris 9 rue du Drobropol Paris Ile de France 75017 France;X-APPLE-RADIUS=500;X-TITLE=9 rue du Drobropol:geo:2.2854841,48.8829613
END:VEVENT
BEGIN:VEVENT
DTSTART;TZID=Europe/Paris:20160622T080000
DTEND;TZID=Europe/Paris:20160624T170000
DTSTAMP:20260422T074801
CREATED:20160608T213209Z
LAST-MODIFIED:20160608T213209Z
UID:10000293-1466582400-1466787600@www.axe-sens.org
SUMMARY:Journées de soins individels à Paris
DESCRIPTION:Eléonora vous accompagne sur des libérations de blocages conscients et inconscients\, suivit thérapeutique en MTC. \nPrise de RDV : aurorakumaran@gmail.com – FB
URL:https://www.axe-sens.org/rendez-vous/journees-de-soins-individels-a-paris
LOCATION:Cabinet Paris\, 9 rue du Drobropol\, Paris\, Ile de France\, 75017\, France
CATEGORIES:Eleonora Quemener,Energétique,Thérapie
ATTACH;FMTTYPE=image/jpeg:https://www.axe-sens.org/wp-content/uploads/2015/05/625413_160370240766257_1189867952_n.jpg
ORGANIZER;CN="Eleonora":MAILTO:aurorakumaran@gmail.com
GEO:48.8829613;2.2854841
X-APPLE-STRUCTURED-LOCATION;VALUE=URI;X-ADDRESS=Cabinet Paris 9 rue du Drobropol Paris Ile de France 75017 France;X-APPLE-RADIUS=500;X-TITLE=9 rue du Drobropol:geo:2.2854841,48.8829613
END:VEVENT
BEGIN:VEVENT
DTSTART;TZID=Europe/Paris:20160302T080000
DTEND;TZID=Europe/Paris:20160304T180000
DTSTAMP:20260422T074801
CREATED:20160205T190707Z
LAST-MODIFIED:20160205T190916Z
UID:10000288-1456905600-1457114400@www.axe-sens.org
SUMMARY:Soins individuels à Paris Le 2\,3\,4 mars 2016
DESCRIPTION:Eléonore vous reçoit en consultation individuelle pour des lectures\, des déblocages\, des libérations\, des réalignements\, sur le corps\, l’âme et l’esprit. \nInfos : 06 16 57 61 99 – 06 16 52 91 03 \n 
URL:https://www.axe-sens.org/rendez-vous/soins-individuels-a-paris-le-234-mars-2016
LOCATION:Cabinet Paris\, 9 rue du Drobropol\, Paris\, Ile de France\, 75017\, France
CATEGORIES:Eleonora Quemener,Energétique,Intervenants,Thérapie
GEO:48.8829613;2.2854841
X-APPLE-STRUCTURED-LOCATION;VALUE=URI;X-ADDRESS=Cabinet Paris 9 rue du Drobropol Paris Ile de France 75017 France;X-APPLE-RADIUS=500;X-TITLE=9 rue du Drobropol:geo:2.2854841,48.8829613
END:VEVENT
END:VCALENDAR