BEGIN:VCALENDAR
VERSION:2.0
PRODID:-//Axe &amp; Sens - ECPv6.8.1//NONSGML v1.0//EN
CALSCALE:GREGORIAN
METHOD:PUBLISH
X-ORIGINAL-URL:https://www.axe-sens.org
X-WR-CALDESC:Évènements pour Axe &amp; Sens
REFRESH-INTERVAL;VALUE=DURATION:PT1H
X-Robots-Tag:noindex
X-PUBLISHED-TTL:PT1H
BEGIN:VTIMEZONE
TZID:Europe/Paris
BEGIN:DAYLIGHT
TZOFFSETFROM:+0100
TZOFFSETTO:+0200
TZNAME:CEST
DTSTART:20200329T010000
END:DAYLIGHT
BEGIN:STANDARD
TZOFFSETFROM:+0200
TZOFFSETTO:+0100
TZNAME:CET
DTSTART:20201025T010000
END:STANDARD
END:VTIMEZONE
BEGIN:VEVENT
DTSTART;TZID=Europe/Paris:20201107T100000
DTEND;TZID=Europe/Paris:20201108T180000
DTSTAMP:20260422T083526
CREATED:20201021T110033Z
LAST-MODIFIED:20201023T101047Z
UID:10000476-1604743200-1604858400@www.axe-sens.org
SUMMARY:Formation en énergétique. Reconnexion à sa multi dimension-Amiens
DESCRIPTION:Samedi 7 et Dimanche 8 novembre de 10h00 à 18H00 \nInfos : 06 16 57 61 99 \nEléonora  vous propose ici d’acquérir des outils fondamentaux\, que ce soit pour vous à titre personnel ou dans une optique professionnelle\, pour devenir autonome en énergétique. \nCette formation permet d’acquérir des outils concrets et efficaces et offre une prise de conscience des flux énergétiques qui régissent notre corps. \nNous travaillerons avec les 4 principaux corps qui sont l’enveloppe d’incarnation. ( Corps physique\, éthérique\, émotionnel et mental)\nComment identifier les différentes énergies ?\nComment les tester ?\nComment s’ancrer correctement et se protéger des énergies hostiles ?\nComment s’ équilibrer et s’harmoniser ? \nComment nettoyer\, retirer et libérer des ” programmes limitants”\nComment utiliser l’énergie pour la guérison et redevenir un canal de hautes fréquences de l’énergie universelle de vie. \nPrévoir une tenue confortable\, un plaid et un coussin pour ceux qui veulent être assis par terre\, de quoi noter ou enregistrer; \nQuelques pierres à dynamiser\, un pendule.\n( j’apporte de très jolis pendules en vente à 15 euros ) \nPrévoir un repas partagé pour le déjeuner. (Chacun apporte un petit met à partager).
URL:https://www.axe-sens.org/rendez-vous/formation-en-energetique-reconnexion-a-sa-multi-dimension
LOCATION:Cabinet Amiens
CATEGORIES:Ateliers,Ceremonie,Conférences,Cours,Eleonora Quemener,Energétique,Formations,Intervenants,Méditations,Séminaires,Stages,Thérapie
ATTACH;FMTTYPE=image/jpeg:https://www.axe-sens.org/wp-content/uploads/2017/03/fleur-de-vie-2-e1603451413996.jpg
ORGANIZER;CN="Eleonora":MAILTO:contact@axe-sens.org
END:VEVENT
BEGIN:VEVENT
DTSTART;TZID=Europe/Paris:20201106T140000
DTEND;TZID=Europe/Paris:20201106T190000
DTSTAMP:20260422T083526
CREATED:20201021T105236Z
LAST-MODIFIED:20201023T102147Z
UID:10000475-1604671200-1604689200@www.axe-sens.org
SUMMARY:Consultations à Amiens
DESCRIPTION:Eleonora vous recevra en consultations individuelles à Amiens \nPsycho-énergéticienne\, praticienne en énergétique chinoise\, homéopathe et naturopathe\, Eléonora Quemener associe dans son travail de multiples connaissances pour offrir des soins holistiques : qui prennent en compte la globalité de l’Etre. Elle offre une lecture précise des problématiques conscientes et inconscientes\, physiques mais également énergétiques\, émotionnelles\, trans-générationnelles et karmiques. Elle soutient alors les libérations nécessaires et permet la remise en fluidité de l’énergie dans le corps. En énergétique chinoise et en acupression elle identifie les problématiques physiques et toxiques et remet en circulation l’énergie sur les méridiens afin de libérer les organes\, les programmes limitants\, ou les charges diverses. Quand cela est nécessaire elle propose des remèdes naturels afin de soutenir le corps dans ces libérations. \nLa consultation dure 1 heure. \nTarif : 70 euros. \nInfos :06 16 57 61 99
URL:https://www.axe-sens.org/rendez-vous/consultations-a-amiens
LOCATION:Cabinet Amiens
CATEGORIES:Eleonora Quemener,Energétique,Médecine Chinoise,Thérapie
ATTACH;FMTTYPE=image/jpeg:https://www.axe-sens.org/wp-content/uploads/2017/09/Passer-de-la-Tête-au-Coeur-300x300-2-e1603452091935.jpg
END:VEVENT
END:VCALENDAR