BEGIN:VCALENDAR
VERSION:2.0
PRODID:-//Axe &amp; Sens - ECPv6.8.1//NONSGML v1.0//EN
CALSCALE:GREGORIAN
METHOD:PUBLISH
X-WR-CALNAME:Axe &amp; Sens
X-ORIGINAL-URL:https://www.axe-sens.org
X-WR-CALDESC:Évènements pour Axe &amp; Sens
REFRESH-INTERVAL;VALUE=DURATION:PT1H
X-Robots-Tag:noindex
X-PUBLISHED-TTL:PT1H
BEGIN:VTIMEZONE
TZID:Europe/Paris
BEGIN:DAYLIGHT
TZOFFSETFROM:+0100
TZOFFSETTO:+0200
TZNAME:CEST
DTSTART:20180325T010000
END:DAYLIGHT
BEGIN:STANDARD
TZOFFSETFROM:+0200
TZOFFSETTO:+0100
TZNAME:CET
DTSTART:20181028T010000
END:STANDARD
END:VTIMEZONE
BEGIN:VEVENT
DTSTART;TZID=Europe/Paris:20180628T193000
DTEND;TZID=Europe/Paris:20180628T223000
DTSTAMP:20260422T070410
CREATED:20180621T165127Z
LAST-MODIFIED:20180621T165524Z
UID:10000438-1530214200-1530225000@www.axe-sens.org
SUMMARY:Méditation de pleine lune- Paris
DESCRIPTION:Eleonora vous attend  à partir de 19 H30 devant le pavillon Royal dans le bois de Boulogne. Nous irons nous poser un peu plus loin sous les arbres\, dans un endroit de pleine nature.\nVous pouvez apporter une couverture ou une natte et de quoi être confortable. \nLors de cette méditation nous travaillerons sur la libération de blocages conscients ou inconscients… Sur l’alignement et l’ancrage\, ainsi que sur l’ouverture de certains centres énergétiques majeurs. \nLa participation souhaitée est de 15 euros. Toutefois elle reste libre et consciente pour ceux qui le désirent. \nInfos : 06 16 57 61 99
URL:https://www.axe-sens.org/rendez-vous/meditzation-de-pleine-lune-paris-bois-de-boulogne
LOCATION:Bois de Boulogne\, Paris
CATEGORIES:Energétique,Méditations,Thérapie
ATTACH;FMTTYPE=image/jpeg:https://www.axe-sens.org/wp-content/uploads/2014/04/images-34-e1410277901867.jpg
GEO:48.856614;2.3522219
X-APPLE-STRUCTURED-LOCATION;VALUE=URI;X-ADDRESS=Bois de Boulogne Paris;X-APPLE-RADIUS=500;X-TITLE=Paris:geo:2.3522219,48.856614
END:VEVENT
END:VCALENDAR