BEGIN:VCALENDAR
VERSION:2.0
PRODID:-//Axe &amp; Sens - ECPv6.8.1//NONSGML v1.0//EN
CALSCALE:GREGORIAN
METHOD:PUBLISH
X-ORIGINAL-URL:https://www.axe-sens.org
X-WR-CALDESC:Évènements pour Axe &amp; Sens
REFRESH-INTERVAL;VALUE=DURATION:PT1H
X-Robots-Tag:noindex
X-PUBLISHED-TTL:PT1H
BEGIN:VTIMEZONE
TZID:Europe/Paris
BEGIN:DAYLIGHT
TZOFFSETFROM:+0100
TZOFFSETTO:+0200
TZNAME:CEST
DTSTART:20140330T010000
END:DAYLIGHT
BEGIN:STANDARD
TZOFFSETFROM:+0200
TZOFFSETTO:+0100
TZNAME:CET
DTSTART:20141026T010000
END:STANDARD
END:VTIMEZONE
BEGIN:VEVENT
DTSTART;TZID=Europe/Paris:20140908T100000
DTEND;TZID=Europe/Paris:20140908T180000
DTSTAMP:20260422T130004
CREATED:20140403T150219Z
LAST-MODIFIED:20140901T194839Z
UID:10000340-1410170400-1410199200@www.axe-sens.org
SUMMARY:Ayurveda et énèrgetique
DESCRIPTION:Par Florence Prudhon. Le lundi toute la journée Sur RdV en séance individuelle : 06.08.45.54.92 Participation : 75€ – 65€ adhérent. Les massages ayurvédiques\, les soins énergétiques par imposition des mains ou au son du tambour\, sont proposés en séances individuelles sur RdV\, pour accompagner le processus de transformation et l’épanouissement de Soi. Ces soins s’adressent au corps et à l’âme pour accéder à l’Unité de l’Etre.
URL:https://www.axe-sens.org/rendez-vous/axe-et-sens-ayurveda-2-3/2014-09-08
LOCATION:Axe & Sens\, 138 Rue Breteuil\, Marseille\, Paca\, 13006\, France
CATEGORIES:Ateliers
ATTACH;FMTTYPE=image/jpeg:https://www.axe-sens.org/wp-content/uploads/2012/02/LOTUS.jpg
GEO:43.2843891;5.3779111
X-APPLE-STRUCTURED-LOCATION;VALUE=URI;X-ADDRESS=Axe & Sens 138 Rue Breteuil Marseille Paca 13006 France;X-APPLE-RADIUS=500;X-TITLE=138 Rue Breteuil:geo:5.3779111,43.2843891
END:VEVENT
END:VCALENDAR