BEGIN:VCALENDAR
VERSION:2.0
PRODID:-//Axe &amp; Sens - ECPv6.8.1//NONSGML v1.0//EN
CALSCALE:GREGORIAN
METHOD:PUBLISH
X-WR-CALNAME:Axe &amp; Sens
X-ORIGINAL-URL:https://www.axe-sens.org
X-WR-CALDESC:Évènements pour Axe &amp; Sens
REFRESH-INTERVAL;VALUE=DURATION:PT1H
X-Robots-Tag:noindex
X-PUBLISHED-TTL:PT1H
BEGIN:VTIMEZONE
TZID:Europe/Paris
BEGIN:DAYLIGHT
TZOFFSETFROM:+0100
TZOFFSETTO:+0200
TZNAME:CEST
DTSTART:20170326T010000
END:DAYLIGHT
BEGIN:STANDARD
TZOFFSETFROM:+0200
TZOFFSETTO:+0100
TZNAME:CET
DTSTART:20171029T010000
END:STANDARD
BEGIN:DAYLIGHT
TZOFFSETFROM:+0100
TZOFFSETTO:+0200
TZNAME:CEST
DTSTART:20180325T010000
END:DAYLIGHT
BEGIN:STANDARD
TZOFFSETFROM:+0200
TZOFFSETTO:+0100
TZNAME:CET
DTSTART:20181028T010000
END:STANDARD
END:VTIMEZONE
BEGIN:VEVENT
DTSTART;VALUE=DATE:20171229
DTEND;VALUE=DATE:20180113
DTSTAMP:20260422T031630
CREATED:20170629T054759Z
LAST-MODIFIED:20171030T125420Z
UID:10000419-1514505600-1515801599@www.axe-sens.org
SUMMARY:Retraite de développement personnel en Inde
DESCRIPTION:Retraite de développement personnel \nPassage 2018 en Inde \nDu vendredi 29 Décembre au vendredi 12 Janvier \nAvec Éléonora \n  \nEn lien de coeur depuis des années avec Auroville\, Éléonora vous propose ici 2 semaines de retraite afin de renouer avec vos véritables « pouvoirs ». \n\n \n  \nL’approche de Mère et de Sri Aurobindo\, dans cette conscience de l’énergie supra-mentale sera l’axe majeur de nos travaux (c’est la découverte de notre être intérieur profond qui donne un sens à notre vie). Il s’agit d’une transformation psychique sur les divers plans de l’être ainsi que dans tous les domaines de notre vie. \n \nNous découvrirons à Pondichery l’ashram de Mere et Sri Arobindo. \n“Les corps limités ont une fin\, mais ce qui possède et emploie le corps est infini\, illimitable\, éternel\, indestructible…”  \nSri Aurobindo \n  \nNous prévoyons également une excursion à Mabhalipuram lieu de culte et Tiruvannamalai\, lieu de saint pèlerinage\, cette cité accueille l’ashram de Sri Ramana\, grand sage hindou et la montagne sacrée de Shiva au sommet de laquelle se trouve la grotte de l’ermite. Au centre de la ville\, le temple du feu\, sanctuaire sacré offre des cérémonies de toute beauté. \nTiruvannamalai \n \n  \nIntrospection\, cérémonies sacrées\, soins individuels\, respiration\, yoga\, remise en forme\, exercices énergétiques de développement personnel… Eleonora vous accompagnera vers des ouvertures de conscience\, en reliance avec cette énergie supra mentale qui ne tend qu’à venir nous adombrer\, nous nourrir et nous transcender… \nMerci de vous manifester dans les plus brefs délais pour que cela soit possible. \nLes devis ont été effectués en fonction du nombre de participants. \n  \nInfos et réservation : \ncontact@axe-sens.org\nFB Axe et Sens/ Éléonora Aurora Celestia\nEleonora Quemener 06 16 57 61 99\nLara 06 16 52 91 03
URL:https://www.axe-sens.org/rendez-vous/retraite-de-developpement-personnel-a-auroville-inde
LOCATION:Auroville\, Inde
CATEGORIES:Ateliers,Ceremonie,Concerts,Conférences,Cours,Eleonora Quemener,Energétique,Méditations,Thérapie,Voyages,Yoga
ATTACH;FMTTYPE=image/jpeg:https://www.axe-sens.org/wp-content/uploads/2017/06/sylvie-verbois-e1603451971466.jpg
GEO:20.593684;78.96288
END:VEVENT
END:VCALENDAR