BEGIN:VCALENDAR
VERSION:2.0
PRODID:-//Axe &amp; Sens - ECPv6.8.1//NONSGML v1.0//EN
CALSCALE:GREGORIAN
METHOD:PUBLISH
X-WR-CALNAME:Axe &amp; Sens
X-ORIGINAL-URL:https://www.axe-sens.org
X-WR-CALDESC:Évènements pour Axe &amp; Sens
REFRESH-INTERVAL;VALUE=DURATION:PT1H
X-Robots-Tag:noindex
X-PUBLISHED-TTL:PT1H
BEGIN:VTIMEZONE
TZID:Europe/Paris
BEGIN:DAYLIGHT
TZOFFSETFROM:+0100
TZOFFSETTO:+0200
TZNAME:CEST
DTSTART:20250330T010000
END:DAYLIGHT
BEGIN:STANDARD
TZOFFSETFROM:+0200
TZOFFSETTO:+0100
TZNAME:CET
DTSTART:20251026T010000
END:STANDARD
END:VTIMEZONE
BEGIN:VEVENT
DTSTART;TZID=Europe/Paris:20250712T200000
DTEND;TZID=Europe/Paris:20250712T220000
DTSTAMP:20260422T163519
CREATED:20250608T174829Z
LAST-MODIFIED:20250624T093141Z
UID:10000651-1752350400-1752357600@www.axe-sens.org
SUMMARY:Eltaïr en concert - Voyage sonore sur les 5 éléments
DESCRIPTION:Eléonora et Laurent vous convient\nle 12 juillet 2025 à 20h00\npour expérience exceptionnelle et unique. \n \nPour leur sortie de résidence “l’Atelier Sevin Doering” à Marseille ouvre ses portes au public pour un voyage sonore de 1h30\, véritable envolée alchimique et onirique mêlant la magie du son\, du chant et du conte. \n« Dans un monde dissonant\, le son est l’origine et la destination de toute guérison. » \nNous croyons profondément que la musique n’est pas simplement un art à consommer\, mais une force vivante capable de transformer notre être à travers la vibration des cinq éléments fondamentaux. Notre approche fusionne la création musicale spontanée avec les principes millénaires des éléments pour harmoniser l’être humain dans sa totalité. \nLe corps humain est un instrument de musique sophistiqué\, capable de résonner avec les sons qui l’entourent. Nous cultivons cette sensibilité vibratoire comme fondement de notre pratique. \nL’ÉCOUTE PROFONDE : \nAu-delà de l’audition passive\, nous invitons à une écoute active et incarnée qui engage tout l’être et permet une transformation profonde. \nCRÉATION LIVE : \nNous rejetons la rigidité des compositions préenregistrées pour embrasser la fluidité de la création spontanée\, adaptée aux besoins énergétiques présents. \nACCORDAGE ÉLÉMENTAIRE : \nNotre approche harmonise chaque élément à travers des instruments\, rythmes et tonalités spécifiques: \n  \n-L’Éther : Transcendance\, unité\, silence et résonances subtiles \n-Le Feu : Transformation\, passion\, percussions et tempos dynamiques \n-L’Air : Clarté\, inspiration\, instruments à vent et espacements sonores \n-L’Eau : Fluidité\, émotions\, instruments à eau et sons liquides \n-La Terre : Ancrage\, stabilité\, instruments graves et résonants \nLe “spectateur” n’est jamais passif\, mais cocréateur de l’expérience sonore\, engagé dans un dialogue vibratoire avec les musiciens. \nRejoignez nous dans ce VOYAGE ou la musique n’est plus simplement un divertissement\, mais un chemin d’évolution personnelle et collective. \nAprès des études de théâtre au conservatoire de Paris et à l’Actor’ studio de Los Angeles\, auteur et metteur en scène\, Eléonora se sent appelée par l’accompagnement personnalisé. Elle vit une expérience mystique en 2004 qui change sa vie. Aujourd’hui psychothérapeute – énergéticienne et praticienne en médecine chinoise. Initiée au chamanisme depuis plus de 20 ans. Elle accompagne de nombreuses personnes sur le chemin de la libération en cabinet ou à distance. Elle propose également des formations. Depuis plusieurs années elle se sert de sa voix et de sons canalisés  pour amplifier les énergies de guérison. \nLawrence Humbert a étudié à la cité de la musique de Marseille de 2011 à 2013. Formé en éléctro-accoustique\, il cherche sans cesse à recréer des ambiances et des nappes sonores organiques. Il travaille avec les sons de la nature et compose des scénarios mélodiques.  Véritable habilleur sonore il dépose son talent et son oreille pointue pour envelopper des créations musicales.  \nLa guérison est dans l’écoute. \nL’harmonie est notre nature. \nLe son est notre chemin. \n  \nAtelier Sevin Doering – Entrée des spectateurs au 5 rue du chantier 13007 Marseille – Info : 0616576199 \n  \n..
URL:https://www.axe-sens.org/rendez-vous/eltair-en-concert-voyage-sonore-sur-les-5-elee-du-chanti
LOCATION:Atelier Sevin Doering\, 5 rue du chantier\, Marseille\, 13007\, France
ATTACH;FMTTYPE=image/png:https://www.axe-sens.org/wp-content/uploads/2025/06/1.png
ORGANIZER;CN="El%C3%A9onora":MAILTO:aurorakumaran@gmail.com
END:VEVENT
END:VCALENDAR