BEGIN:VCALENDAR
VERSION:2.0
PRODID:-//Axe &amp; Sens - ECPv6.8.1//NONSGML v1.0//EN
CALSCALE:GREGORIAN
METHOD:PUBLISH
X-ORIGINAL-URL:https://www.axe-sens.org
X-WR-CALDESC:Évènements pour Axe &amp; Sens
REFRESH-INTERVAL;VALUE=DURATION:PT1H
X-Robots-Tag:noindex
X-PUBLISHED-TTL:PT1H
BEGIN:VTIMEZONE
TZID:Europe/Paris
BEGIN:DAYLIGHT
TZOFFSETFROM:+0100
TZOFFSETTO:+0200
TZNAME:CEST
DTSTART:20160327T010000
END:DAYLIGHT
BEGIN:STANDARD
TZOFFSETFROM:+0200
TZOFFSETTO:+0100
TZNAME:CET
DTSTART:20161030T010000
END:STANDARD
END:VTIMEZONE
BEGIN:VEVENT
DTSTART;TZID=Europe/Paris:20161111T180000
DTEND;TZID=Europe/Paris:20161113T180000
DTSTAMP:20260422T061707
CREATED:20161017T132446Z
LAST-MODIFIED:20161110T172055Z
UID:10000379-1478887200-1479060000@www.axe-sens.org
SUMMARY:Retraite chamanique dans le Jura
DESCRIPTION:Le 11\,12 et 13 novembre 2016 \nReconnexion avec son chaman intérieur\n\nLors de cette retraite au cœur de la forêt Jurassienne Eléonora va vous accompagner à réintégrer les outils des grandes traditions chamaniques de notre planète : \nOuverture aux 7 directions\nReconnexion avec les ancêtres\nExercice de purification\nTravail avec l’œuf sacré\nInitiation aux 5 éléments\nSacralisation des objets de rituels\nReconnexion avec les grands esprits du vivant (animaux et végétaux)\nRencontre avec son Animal Totem\nLand Art conscient\nLa puissance du tambour\n…\nInformations : 0616576199\nInscriptions\, Claire : 0786053992
URL:https://www.axe-sens.org/rendez-vous/retraite-chamanique-dans-le-jura
LOCATION:Arbois\, JURAS
ATTACH;FMTTYPE=image/jpeg:https://www.axe-sens.org/wp-content/uploads/2014/03/images-24.jpg
GEO:47.6874569;17.6503974
END:VEVENT
END:VCALENDAR