BEGIN:VCALENDAR
VERSION:2.0
PRODID:-//Axe &amp; Sens - ECPv6.8.1//NONSGML v1.0//EN
CALSCALE:GREGORIAN
METHOD:PUBLISH
X-ORIGINAL-URL:https://www.axe-sens.org
X-WR-CALDESC:Évènements pour Axe &amp; Sens
REFRESH-INTERVAL;VALUE=DURATION:PT1H
X-Robots-Tag:noindex
X-PUBLISHED-TTL:PT1H
BEGIN:VTIMEZONE
TZID:Europe/Paris
BEGIN:DAYLIGHT
TZOFFSETFROM:+0100
TZOFFSETTO:+0200
TZNAME:CEST
DTSTART:20170326T010000
END:DAYLIGHT
BEGIN:STANDARD
TZOFFSETFROM:+0200
TZOFFSETTO:+0100
TZNAME:CET
DTSTART:20171029T010000
END:STANDARD
END:VTIMEZONE
BEGIN:VEVENT
DTSTART;TZID=Europe/Paris:20170801T080000
DTEND;TZID=Europe/Paris:20170814T190000
DTSTAMP:20260422T045819
CREATED:20170308T123333Z
LAST-MODIFIED:20170701T162612Z
UID:10000394-1501574400-1502737200@www.axe-sens.org
SUMMARY:Voyage en Altaï
DESCRIPTION:Voyage en Altaï \nDu 1er au 14 août 2017 \n  \nBerceau des peuples et des civilisations\, l’Altaï est l’un des rares lieux sur la planète ou la nature vierge garde encore sa richesse originelle tant dans le règne animal que dans le règne végétal.\nÉpicentre des océans et des religions\, cette partie du globe rassemble les énergies les plus puissantes de la planète. \nLors de ce voyage exceptionnel\, nous explorerons ces contrées reculées\, en voiture\, à pieds et à cheval. Nous camperons au bord des lacs sacrés\, sur les hauts plateaux immaculés et nous profiterons de l’énergie de ces lieux uniques pour nos travaux et recherches spirituelles… \nCe sol à peine foulé par l’homme porte les stigmates et mémoires de toutes les traditions spirituelles.\nNous profiterons de ces opportunités pour permettre à chacun d’accéder aux ouvertures de conscience propres à chacun. \n  \n  \nAU PROGRAMME  \nVisite : \n* des pétroglyphes ancestraux dans les grottes sacrées\n* de la vallée  cosmo-tellurique Izekeryu\n* du lac Ak-kem\n* de la chapelle sacrée de l’archange Mickaël\n* du Mont Belukha\n* des grottes glacières Ak-kemsky\n* du lac de la montagne aux esprits\n* de la rivière Ak-oyuk\n* de la vallée des 7 lacs sacrés\n* de la ville de pierre\n* du village Tyungur \n  \n  \nLe programme implique de la marche en montagne\, des nuits en tentes dans un campement et des repas cuits au feu.\nIl est impératif d’être dans de bonnes conditions physiques.\nLe tarif est susceptible de subir des modifications car il est soumis aux fluctuations du dollar et du prix des vols.\nCe voyage est donc à réserver rapidement. \n  \n  \nPRIX DE LA PRESTATION \n2500€ par personne incluant : \n– Vol A/R Paris/Barnaul\,\n– Taxes d’aéroport\,\n– Hébergement/ Repas et transport\,\n– Activités sur place et encadrement. \nNON INCLUS \n– VISA (100-150€)\, \n– ASSURANCE (Voir ce qui est inclus dans votre Carte Bancaire – Possibilité d’en souscrire une en supplément). \nL’ALTAÏ \nSur les rochers de l’Altaï l’homme ancien a laissé des signes énigmatiques : Les pétroglyphes. De nombreuses inscriptions sur les rochers\, taillées par la main de l’homme ancien demeurent incompréhensibles et mystérieux. \nDe nombreux monuments turcs sont concentrés dans les endroits que les peuples de l’Altaï considèrent sacrés – dans la vallée de la rivière Karakol et sur le plateau de Oukok. \nLe mont Beloukha  au bout de l’échine des Monts Katoun est situé à l’épicentre des 4 océans : atlantique\, glacial arctique\, pacifique et Indien. Les anciens reconnaissent ce centre majeur comme la porte de Shambhalla\, en sanskrit  शम्भल «lieu du bonheur paisible»\, Shamballah\, ce mythe hindo-bouddhiste a été intégré dans diverses croyances de l’humanité. \nLe mont Beloukha serait la porte majeure de Shamballah. \nBeloukha «Outch Soumer» veut dire les 3 sommets\, c’est là que se rencontrent le Christianisme\, le Bouddhisme et l’Islam. \n  \n  \n\n\n\nÉléonora est psycho énergéticienne\, praticienne en médecine chinoise et formée en diverses pratiques chamaniques. \nDepuis plusieurs année\, Éléonora ré-ouvre aux 4 coins de la Terre des sentiers initiatiques oubliés afin de réveiller dans nos mémoires les connaissances sacrées des grandes traditions passées:\nEgypte\, Inde\, Mexique… \nCette année l’appel vient de l’Altaï\, berceau des peuples et des civilisations : portail multi-dimensionnel majeur.\n\n\n\n\n  \n  \n \n  \n\nInfos et réservation : \ncontact@axe-sens.org\naurorakumaran@gmail.com\nFB Axe et Sens/ Éléonora Aurora Celestia\nEleonora Quemener 06 16 57 61 99\nLara 06 16 52 91 03
URL:https://www.axe-sens.org/rendez-vous/retraite-initiatique-en-altai
LOCATION:Altaï\, Russie\, Fédération de
CATEGORIES:Eleonora Quemener,Energétique,Stages,Voyages
ATTACH;FMTTYPE=image/jpeg:https://www.axe-sens.org/wp-content/uploads/2017/03/7c999f17249bde46aeb3de8716e9df3a.jpg
GEO:61.52401;105.318756
END:VEVENT
END:VCALENDAR