BEGIN:VCALENDAR
VERSION:2.0
PRODID:-//Axe &amp; Sens - ECPv6.8.1//NONSGML v1.0//EN
CALSCALE:GREGORIAN
METHOD:PUBLISH
X-WR-CALNAME:Axe &amp; Sens
X-ORIGINAL-URL:https://www.axe-sens.org
X-WR-CALDESC:Évènements pour Axe &amp; Sens
REFRESH-INTERVAL;VALUE=DURATION:PT1H
X-Robots-Tag:noindex
X-PUBLISHED-TTL:PT1H
BEGIN:VTIMEZONE
TZID:Europe/Paris
BEGIN:DAYLIGHT
TZOFFSETFROM:+0100
TZOFFSETTO:+0200
TZNAME:CEST
DTSTART:20250330T010000
END:DAYLIGHT
BEGIN:STANDARD
TZOFFSETFROM:+0200
TZOFFSETTO:+0100
TZNAME:CET
DTSTART:20251026T010000
END:STANDARD
END:VTIMEZONE
BEGIN:VEVENT
DTSTART;TZID=Europe/Paris:20250823T080000
DTEND;TZID=Europe/Paris:20250824T170000
DTSTAMP:20260422T030555
CREATED:20250624T095744Z
LAST-MODIFIED:20250624T101519Z
UID:10000653-1755936000-1756054800@www.axe-sens.org
SUMMARY:WE Chamanique d'initiations.
DESCRIPTION:Initiation le WE du 23 et 24 août 2025\nAvec Eléonora \nMarseille \n  \nWE de travail en petit groupe : \nen cette fin d’été et pour bien amorcer la rentrée\, Eleonora vous propose de venir reconnecter avec vos propres pouvoirs et votre chaman intérieur. \nAu cours du WE nous travaillerons à retrouver ces outils fondamentaux qui changent la vie du quotidien\, ouvrent la conscience sur le monde du ” vivant” dans toute sa complétude\, et redonnent foi en sa reliance au Grand Tout. \nEléonora vous propose lors de ce programme riche\, de vous accompagner dans une ouverture nouvelle à vous même et au monde. Elle vous transmettra également l’alchimie des 13 crânes de cristal d’ascension. \n–Pratiques ancestrales\, nettoyages subtils\, cérémonies sacrées\, connexions aux éléments\, Travail au tambour\, méditations guidées\,  marches conscientes\, reliance aux différents règnes … \nVous sortirez de ce WE bien différents\, grandis avec de nouveaux ” possibles ” dans votre besace\, plus accordés au monde et aux fluctuations actuelles de notre belle planète. \nProgramme détaillé sur demande. \nTarif : 190 € le WE \nRepas partagés \nInfos : 06 16 57 61 99
URL:https://www.axe-sens.org/rendez-vous/6747
CATEGORIES:Atelier,Ceremonie,Chamanisme,Chamanisme,Chants sacrés,Eleonora Quemener,Energetique,Formation,Formations,Guérison,les 13 crânes de cristal,Les 5 éléments,Meditation
ATTACH;FMTTYPE=image/jpeg:https://www.axe-sens.org/wp-content/uploads/2025/05/Chaman.jpeg
END:VEVENT
END:VCALENDAR