BEGIN:VCALENDAR
VERSION:2.0
PRODID:-//Axe &amp; Sens - ECPv6.8.1//NONSGML v1.0//EN
CALSCALE:GREGORIAN
METHOD:PUBLISH
X-ORIGINAL-URL:https://www.axe-sens.org
X-WR-CALDESC:Évènements pour Axe &amp; Sens
REFRESH-INTERVAL;VALUE=DURATION:PT1H
X-Robots-Tag:noindex
X-PUBLISHED-TTL:PT1H
BEGIN:VTIMEZONE
TZID:Europe/Paris
BEGIN:DAYLIGHT
TZOFFSETFROM:+0100
TZOFFSETTO:+0200
TZNAME:CEST
DTSTART:20240331T010000
END:DAYLIGHT
BEGIN:STANDARD
TZOFFSETFROM:+0200
TZOFFSETTO:+0100
TZNAME:CET
DTSTART:20241027T010000
END:STANDARD
END:VTIMEZONE
BEGIN:VEVENT
DTSTART;TZID=Europe/Paris:20241017T203000
DTEND;TZID=Europe/Paris:20241017T223000
DTSTAMP:20260423T103317
CREATED:20241013T143826Z
LAST-MODIFIED:20241013T150742Z
UID:10000637-1729197000-1729204200@www.axe-sens.org
SUMMARY:Atelier - Méditation de pleine lune
DESCRIPTION:Cette pleine lune se manifestera sous le signe puissant du Bélier. Bien plus qu’une pleine lune ordinaire\, cette « Super Lune» déclenchera une déferlante d’émotions intenses\, d’impulsivité et sera sous le signe de la transformation personnelle. Pour certains elle manifestera une véritable tempête émotionnelle. Cette lunaison viendra nous confronter à nos blessures les plus profondes. Étroitement alignée avec Chiron\, surnommé le « guérisseur blessé » elle  a le pouvoir de révéler nos vulnérabilités et de faire remonter à la surface des blessures émotionnelles profondément enfouies. \nPour intensifier encore plus ces énergies\, les carrés formés avec Pluton et Mars viendront exacerber les tensions intérieures et extérieures\, laissant peu de place à l’apaisement. \nCes influences pourraient mettre en lumière des vérités dérangeantes que nous avons jusqu’à présent évitées. \nTout ceci se reflétera également à l’échelle mondiale. En nos cœurs unis nous aurons l’opportunité d’apaiser les différents conflits tant internes qu’externes. \nComme à son habitude\, Eléonora vous convie à une méditation guidée via whatsapp. Nous travaillerons à la levée des conflits conscients ou inconscients\, physiques\, psychiques et universels … \nVous serez inscris 30 mn avant la méditation après avoir réglé votre participation \n(20 € souhaité )  via \nPayPal : contact@axe-sens.org ou Paylib \nMerci d’être présent et connecté pour les essais techniques des 20h. \nVous n’aurez plus qu’à vous installer confortablement ( avec une petite enceinte si possible) afin de profiter de ce voyage.
URL:https://www.axe-sens.org/rendez-vous/atelier-meditation-de-pleine-lune
CATEGORIES:Ateliers,Eleonora Quemener,Energétique,Multidimension,Thérapie
ATTACH;FMTTYPE=image/jpeg:https://www.axe-sens.org/wp-content/uploads/2023/02/IMG_0147.jpg
END:VEVENT
END:VCALENDAR