BEGIN:VCALENDAR
VERSION:2.0
PRODID:-//Axe &amp; Sens - ECPv6.8.1//NONSGML v1.0//EN
CALSCALE:GREGORIAN
METHOD:PUBLISH
X-ORIGINAL-URL:https://www.axe-sens.org
X-WR-CALDESC:Évènements pour Axe &amp; Sens
REFRESH-INTERVAL;VALUE=DURATION:PT1H
X-Robots-Tag:noindex
X-PUBLISHED-TTL:PT1H
BEGIN:VTIMEZONE
TZID:Europe/Paris
BEGIN:DAYLIGHT
TZOFFSETFROM:+0100
TZOFFSETTO:+0200
TZNAME:CEST
DTSTART:20240331T010000
END:DAYLIGHT
BEGIN:STANDARD
TZOFFSETFROM:+0200
TZOFFSETTO:+0100
TZNAME:CET
DTSTART:20241027T010000
END:STANDARD
END:VTIMEZONE
BEGIN:VEVENT
DTSTART;TZID=Europe/Paris:20240210T080000
DTEND;TZID=Europe/Paris:20240211T180000
DTSTAMP:20260423T231044
CREATED:20231225T143959Z
LAST-MODIFIED:20240202T093019Z
UID:10000520-1707552000-1707674400@www.axe-sens.org
SUMMARY:Séminaire "Re connexion à sa multidimention" Niv II -
DESCRIPTION:Cette initiation  fait suite à la fortmation Niv I et permet l’ouverture de nouvelles portes de conscience\, l’alignement et le nettoyage de sa trame personnelle réajustée. \nNous travaillerons ici à l’équilibrage de notre féminin et masculin (yin yang) sur l’ équilibrage de nos polarités féminines et masculines ainsi qu’à la réintégration consciente des différents aspects subtils de nous-même. \nNous allons activer les 21 chakras dont la plupart sont hors corps posés sur notre trame fondamentale et permettent l’ouverture de nos ” capteurs extra sensoriels”\nNous allons nettoyer et libérer nos lignes axiatonales\, qui sont les méridiens hors corps qui nous relient à notre Divine présence. ( Cette partie subtile de nous même qui nous accompagne et nous renforce)\nNous allons renforcer cette connexion.\nNous allons renforcer notre ancrage pour pourvoir aller plus haut et pratiquer des soins collectifs. Apprendre à aligner son canal… Chacun à votre tour\, vous allez recevoir un soin collectif\, une expérience unique… Tout ceci entre coupé de méditations de visualisations et de travaux pratiques pour aller encore plus loin dans l’ouverture\, la connexion et la compréhension de notre multi dimension.\n\nPrévoir une tenue chaude et confortable.\nRepas partagé le midi et le soir pour les personnes logées sur place.\nApporter votre pendule et votre fascicule Niv I. Un fascicule niv II vous sera fourni.\n\nInfos : 06 16 57 61 99\nMail : contact@axe-sens.org
URL:https://www.axe-sens.org/rendez-vous/reconnection-a-sa-multimention-niv-2
LOCATION:Domaine de Terresainte\, Marseille
CATEGORIES:Meditation,Multidimention,Thérapie
ATTACH;FMTTYPE=image/jpeg:https://www.axe-sens.org/wp-content/uploads/2022/01/088a3f683524ea6d0487cc8766fbde53.jpg
END:VEVENT
END:VCALENDAR