BEGIN:VCALENDAR
VERSION:2.0
PRODID:-//Axe &amp; Sens - ECPv6.8.1//NONSGML v1.0//EN
CALSCALE:GREGORIAN
METHOD:PUBLISH
X-WR-CALNAME:Axe &amp; Sens
X-ORIGINAL-URL:https://www.axe-sens.org
X-WR-CALDESC:Évènements pour Axe &amp; Sens
REFRESH-INTERVAL;VALUE=DURATION:PT1H
X-Robots-Tag:noindex
X-PUBLISHED-TTL:PT1H
BEGIN:VTIMEZONE
TZID:Europe/Paris
BEGIN:DAYLIGHT
TZOFFSETFROM:+0100
TZOFFSETTO:+0200
TZNAME:CEST
DTSTART:20230326T010000
END:DAYLIGHT
BEGIN:STANDARD
TZOFFSETFROM:+0200
TZOFFSETTO:+0100
TZNAME:CET
DTSTART:20231029T010000
END:STANDARD
END:VTIMEZONE
BEGIN:VEVENT
DTSTART;TZID=Europe/Paris:20230714T090000
DTEND;TZID=Europe/Paris:20230717T170000
DTSTAMP:20260424T113242
CREATED:20230704T211749Z
LAST-MODIFIED:20230705T164950Z
UID:10000509-1689325200-1689613200@www.axe-sens.org
SUMMARY:Consultations individuelles à Bruxelles.
DESCRIPTION:Consultations individuelles\nen Cabinet au Centre Résonances \nRue Jean Robie\, 35 \n1060 – Bruxelles \nle vendredi 14 juillet et le lundi 17 juillet \nsur RDV de 9h30 à 19h30 \nPsychothérapeute et Energeticienne; Eléonora accompagne ses patients dans un protocole rigoureux qui travaille aussi bien sur le subtil et la mutidimention  que sur les organes et les cellules. Cette diplômée en acupression\, énergétique chinoise\, en homéopathie pratique et naturopathie intervient également sur les organes vitaux et les désordres physiques par la prise de poults pour compléter le processus de libération. \nDans son approche\, elle prend egalement en compte les quatre principaux corps dont nous sommes constitués : corps physique\, éthérique\, émotionnel et mental\, ainsi que l’âme. \n“Ils portent des programmes de nos mémoires conscientes ou inconscientes qui nous viennent de notre héritage généalogique\, karmique  ou génétique\, des différents chocs émotionnels conscients ou inconscients qui s’inscrivent depuis la première minute de vie dans le ventre de notre mère et tout au long de notre existence. Ces programmes peuvent entraver la bonne circulation de l’énergie et provoquer “des mal-a-dits”. \nThérapeute holistique Éléonore va pouvoir capter toutes les infos précieuses et réaliser une déprogrammation cellulaire\, des nettoyages subtils\, des lectures précises des désordres multiples\, et le nettoyage\, l’ équilibrage et la réharmonisation. \nConsultations de 1h : 70 € –  1h30: 80 € – 2h : 100 € \nNettoyage d’occulte : 111 € \nRéservation via Whatsapp: 0033 616576199
URL:https://www.axe-sens.org/rendez-vous/consultations-individuelles-a-bruxelles
LOCATION:Espace Résonances
CATEGORIES:Eleonora Quemener,Energétique,Thérapie
ATTACH;FMTTYPE=image/jpeg:https://www.axe-sens.org/wp-content/uploads/2019/11/IMG_0747-e1603450565584.jpg
END:VEVENT
END:VCALENDAR