BEGIN:VCALENDAR
VERSION:2.0
PRODID:-//Axe &amp; Sens - ECPv6.8.1//NONSGML v1.0//EN
CALSCALE:GREGORIAN
METHOD:PUBLISH
X-WR-CALNAME:Axe &amp; Sens
X-ORIGINAL-URL:https://www.axe-sens.org
X-WR-CALDESC:Évènements pour Axe &amp; Sens
REFRESH-INTERVAL;VALUE=DURATION:PT1H
X-Robots-Tag:noindex
X-PUBLISHED-TTL:PT1H
BEGIN:VTIMEZONE
TZID:Europe/Paris
BEGIN:DAYLIGHT
TZOFFSETFROM:+0100
TZOFFSETTO:+0200
TZNAME:CEST
DTSTART:20260329T010000
END:DAYLIGHT
BEGIN:STANDARD
TZOFFSETFROM:+0200
TZOFFSETTO:+0100
TZNAME:CET
DTSTART:20261025T010000
END:STANDARD
END:VTIMEZONE
BEGIN:VEVENT
DTSTART;TZID=Europe/Paris:20260131T193000
DTEND;TZID=Europe/Paris:20260131T210000
DTSTAMP:20260421T210226
CREATED:20260129T151315Z
LAST-MODIFIED:20260129T164449Z
UID:10000661-1769887800-1769893200@www.axe-sens.org
SUMMARY:Pleine lune du Lion - Méditation "on line" et en présentiel.
DESCRIPTION:Eléonora vous accompagne dans un méditation guidée en présentiel à Marseille et/ou  ” on line” pour ceux qui souhaiteront suivre cet atelier en direct et à distance. \nVoici les grands axes qui seront à l’honneur en cette soirée : \nLa pleine lune du 1er février 2026\, située sous le signe du Lion\,  nous guide dans une période de changements profonds.\nIl va falloir lâcher ses vielles habitudes et s’ouvrir à de nouveaux possibles. \n“Le lion symbolise l’expression de soi\, le pouvoir créatif et le leadership qui vient du cœur. \nSous cette pleine lune\, nous pouvons clairement voir où nous nous sommes retenus\, où nous avons atténué notre lumière\, où nous avons continué à jouer des rôles qui ne nous correspondent plus. \nLes émotions peuvent être intenses\, précisément parce que cette lune nous invite à regarder honnêtement ce que nous avons vécu par le passé\, et ce que nous sommes devenus en conséquence…Il est temps de reprendre son pouvoir personnel et de se faire confiance. \nElle offre ce moment de remises en question fondamental pour pouvoir avancer sur son chemin de vie vers du positif. \nLe passage de Neptune en Bélier ajoute une charge supplémentaire à cette pleine lune. L’attention s’éloigne du processus intérieur pour se tourner vers l’incarnation\, vers l’action. La spiritualité ne veut plus seulement être ressentie\, elle demande maintenant à être vécue. \nCette lune invite au courage : le courage de défendre ce qui brûle en nous\, sans le minimiser ni l’adapter aux attentes extérieures.\nLes anciennes images se dissolvent et laissent place à une forme d’expression de soi plus honnête et plus puissante. Elle encourage à assumer la responsabilité de notre feu intérieur. Ce qui veut être ressenti peut être pleinement vécu. Ce qui veut être vu demande de l’espace et de l’intégrité. Dans ce mouvement\, une transition naturelle se produit\, passant de la connaissance intérieure à la vie visible. Il ne s’agit pas d’une lune en Lion performative\, mais d’une lune profondément initiatrice. La pleine lune du Lion nous invite à nous exprimer avec courage\, non pas pour mettre en avant notre ego\, mais pour laisser parler notre âme et enfin écouter cette petite voix intérieur qui ne cesse de te répéter : ” Exprime ce qui est juste pour toi. Soi qui tu es vraiment !” \nPour les personnes qui veulent se joindre en présentiel\, vous serez attendu à 19 h00 chez Axe et Sens à Marseille.\nMerci de prévoir un petit Miam pour partager un repas après la méditation.  \nPour ceux qui se connecterons à distance\, nous procèderons comme\n d’habitude via Whatsapp. Un lien vous sera communiqué vers 19h dès votre inscription validée.  \nVous n’ aurez plus qu’ à vous installer confortablement avec un casque ou une enceinte pour optimiser le son.  \nInfos et réservation : 00 33 6 16 57 61 99 \nTarif souhaité : 20 € – (Libre et conscient pour les petites bourses.) 
URL:https://www.axe-sens.org/rendez-vous/meditation-de-pleine-lune-on-line-et-en-presentiel
LOCATION:A xe et Sens\, Marseille
CATEGORIES:Ateliers,Energétique,Méditations,Thérapie
ATTACH;FMTTYPE=image/jpeg:https://www.axe-sens.org/wp-content/uploads/2026/01/Snapseed.jpeg
ORGANIZER;CN="El%C3%A9onora":MAILTO:aurorakumaran@gmail.com
END:VEVENT
END:VCALENDAR