BEGIN:VCALENDAR
VERSION:2.0
PRODID:-//Axe &amp; Sens - ECPv6.8.1//NONSGML v1.0//EN
CALSCALE:GREGORIAN
METHOD:PUBLISH
X-WR-CALNAME:Axe &amp; Sens
X-ORIGINAL-URL:https://www.axe-sens.org
X-WR-CALDESC:Évènements pour Axe &amp; Sens
REFRESH-INTERVAL;VALUE=DURATION:PT1H
X-Robots-Tag:noindex
X-PUBLISHED-TTL:PT1H
BEGIN:VTIMEZONE
TZID:Europe/Paris
BEGIN:DAYLIGHT
TZOFFSETFROM:+0100
TZOFFSETTO:+0200
TZNAME:CEST
DTSTART:20240331T010000
END:DAYLIGHT
BEGIN:STANDARD
TZOFFSETFROM:+0200
TZOFFSETTO:+0100
TZNAME:CET
DTSTART:20241027T010000
END:STANDARD
END:VTIMEZONE
BEGIN:VEVENT
DTSTART;TZID=Europe/Paris:20241115T203000
DTEND;TZID=Europe/Paris:20241115T220000
DTSTAMP:20260423T070529
CREATED:20241113T171123Z
LAST-MODIFIED:20241115T111309Z
UID:10000640-1731702600-1731708000@www.axe-sens.org
SUMMARY:Méditation de pleine lune " Novembre 2024"
DESCRIPTION:Considérée comme l’une des plus puissantes et certainement la plus chaotique de l’année\, cette pleine lune dite du “Castor” nous réserve bien des surprises.\nElle vient permettre des métamorphoses parfois douloureuses mais nécessaires. Toutes les sphères de notre vie sont remuées\, chamboulées. Cette pleine lune en taureau est propice à l’introspection\, à la remise en cause de nombreux sujets\, à l’évolution tant personnelle que professionnelle. Cette lune ouvre la porte à des changements majeurs\, tant intérieurs qu’extérieurs\, dans nos habitudes\,  nos pensées\, nos modes de fonctionnement.  Pendant ces quelques jours nos émotions seront exacerbées par des mouvements planétaires ( l’alignement avec Uranus). Le Taureau est lié aux sens\,  et nous invite à nous connecter au “moment présent”. Il est temps d’arrêter de vivre dans le passé et de lâcher les noeuds d’inquiétude pour l’avenir.  C’est l’occasion en cette soirée de manifester nos rêves les plus fous. Il s’agira également de réévaluer nos relations. Ce “mélange” céleste affecte tous les points de notre vie. Toutefois de douces connexions avec Pluton en capricorne et Neptune en poisson favorisera notre prise en charge personnelle et la guérison des blessures fondamentales encore présentes. \nEleonora vous propose une méditation guidée en visio  via WhatsApp. \n Nous travaillerons à la levée des noeuds conscients ou inconscients\, physiques\, psychiques ou multi dimentionnel pour permettre un saut quantique dans la douceur et la fluidité  … \nVous serez inscris 30 mn avant la méditation après avoir réglé votre participation \n(20 € souhaité )  via PayPal : contact@axe-sens.org ou Paylib : 06 16 57 61 99 \nMerci d’être présent et connecté pour les essais techniques dès 20h. \nVous n’aurez plus qu’à vous installer confortablement ( avec une petite enceinte si possible) afin de profiter de ce voyage. \nAu plaisir de vous retrouver. \n 
URL:https://www.axe-sens.org/rendez-vous/meditation-de-pleine-lune-novembre-2024
LOCATION:Axe & Sens\, 138 Rue Breteuil\, Marseille\, Paca\, 13006\, France
CATEGORIES:Energétique,Méditations,Thérapie
ATTACH;FMTTYPE=image/jpeg:https://www.axe-sens.org/wp-content/uploads/2017/08/full-moon-meditation-cropped-1200x565-e1731519073474.jpg
ORGANIZER;CN="El%C3%A9onora":MAILTO:aurorakumaran@gmail.com
GEO:43.2843891;5.3779111
X-APPLE-STRUCTURED-LOCATION;VALUE=URI;X-ADDRESS=Axe & Sens 138 Rue Breteuil Marseille Paca 13006 France;X-APPLE-RADIUS=500;X-TITLE=138 Rue Breteuil:geo:5.3779111,43.2843891
END:VEVENT
BEGIN:VEVENT
DTSTART;VALUE=DATE:20241121
DTEND;VALUE=DATE:20241126
DTSTAMP:20260423T070529
CREATED:20241113T174344Z
LAST-MODIFIED:20241113T181627Z
UID:10000641-1732147200-1732579199@www.axe-sens.org
SUMMARY:Consultations individuelles à Paris
DESCRIPTION:Eléonora Quemener vous recevra sur rendez vous en séance individuelle dans son cabinet Parisien le 22\, 23\, 24 et 25 novembre prochain.\nElle associe dans son travail de multiples connaissances pour offrir des soins holistiques ( qui prennent en compte la globalité de l’Etre).\nElle offre une lecture précise des problématiques conscientes et inconscientes\, physiques mais également énergétiques\, émotionnelles\, trans-générationnelles ou karmiques. Elle soutient alors les libérations nécessaires et permet la remise en fluidité de l’énergie dans le corps.  En énergétique chinoise et en acupression elle identifie les problématiques physiques et toxiques et remet en circulation l’énergie sur les méridiens afin de libérer les organes\, les programmes limitants\, ou les charges diverses. Quand cela est nécessaire elle propose des remèdes naturels afin de soutenir le corps dans ces libérations.\nInfos : 00 33 (0). 616576199 \n\n 
URL:https://www.axe-sens.org/rendez-vous/consultation-individuelles-a-paris
CATEGORIES:Ateliers,consultations,Eleonora Quemener,Energétique,Psychothérapie quantique,Thérapie
ATTACH;FMTTYPE=image/jpeg:https://www.axe-sens.org/wp-content/uploads/2024/11/IMG_2311-scaled-e1731521501299.jpg
END:VEVENT
END:VCALENDAR