BEGIN:VCALENDAR
VERSION:2.0
PRODID:-//Axe &amp; Sens - ECPv6.8.1//NONSGML v1.0//EN
CALSCALE:GREGORIAN
METHOD:PUBLISH
X-ORIGINAL-URL:https://www.axe-sens.org
X-WR-CALDESC:Évènements pour Axe &amp; Sens
REFRESH-INTERVAL;VALUE=DURATION:PT1H
X-Robots-Tag:noindex
X-PUBLISHED-TTL:PT1H
BEGIN:VTIMEZONE
TZID:Europe/Paris
BEGIN:DAYLIGHT
TZOFFSETFROM:+0100
TZOFFSETTO:+0200
TZNAME:CEST
DTSTART:20230326T010000
END:DAYLIGHT
BEGIN:STANDARD
TZOFFSETFROM:+0200
TZOFFSETTO:+0100
TZNAME:CET
DTSTART:20231029T010000
END:STANDARD
END:VTIMEZONE
BEGIN:VEVENT
DTSTART;TZID=Europe/Paris:20230806T120000
DTEND;TZID=Europe/Paris:20230813T170000
DTSTAMP:20260424T083217
CREATED:20230518T163026Z
LAST-MODIFIED:20230612T130207Z
UID:10000507-1691323200-1691946000@www.axe-sens.org
SUMMARY:Semaine de ressourcement au Maroc du 6 au 13 août 2023
DESCRIPTION:Eléonora vous convie à “Dar An’Nour” \nà Moulay dans la région d’Essaouira. \nUn lieu exceptionnel  fondé sur un site sacré.\n\nIl s’agira ici\, au travers de pratiques chamaniques\, de méditations\, d’exercices de yoga… De récupérer sa force et son énergie vitale…\nComment reconnecter avec ses propres « pouvoirs »…\nRetrouver sa véritable dimension… Ses bonnes connections. \nRetrouver une meilleure fluidité dans son existence… \nNotre journée sera ponctuée par des exercices de  yoga\, respiration et méditation le matin.\nInitiations chamaniques\, ateliers et formation l’après-midi.\nTemps libre et ressourcement… \nLes soins individuels avant et après la cérémonie Soufie prévue en milieu de semaine seront proposés par Eleonora afin de libérer des programmes limitants…\nHammam et massages  seront également au programme. \nNous aurons la chance de travailler avec des Haddarates lors de rituels sacrés…\nCes femmes animent la musique et le chant Soufi. Habituellement réservés aux femmes\, ce nom dérive de Hadhra\, qui signifie « présence divine ». Cette soirée nous mènera  jusqu’à la transe de guérison.\n Cet héritage culturel et religieux est transmis de génération en génération par les femmes.\nLes hommes Soufis qui pratiquent ces chants sont appelés les Gnaouas.\nElles entonnent des chants sacrés et des louanges\, souvent accompagnés d’instruments de percussion.\nElles accompagnent à la fois toutes les manifestations de la vie musicale à Essaouira ainsi que  tous les rites traditionnels de passage… \nInfos et réservation : \nTel : 06 16 57 61 99
URL:https://www.axe-sens.org/rendez-vous/initiations-au-maroc
LOCATION:Maroc\, Essouira\, Morocco
CATEGORIES:Ateliers,Eleonora Quemener,Energétique,Formations,Méditations,Séminaires,Thérapie
ATTACH;FMTTYPE=image/jpeg:https://www.axe-sens.org/wp-content/uploads/2021/06/IMG_7225.jpg
END:VEVENT
BEGIN:VEVENT
DTSTART;TZID=Europe/Paris:20230830T200000
DTEND;TZID=Europe/Paris:20230830T213000
DTSTAMP:20260424T083217
CREATED:20230825T134842Z
LAST-MODIFIED:20230825T145135Z
UID:10000511-1693425600-1693431000@www.axe-sens.org
SUMMARY:Méditation de pleine Lune _ 30 Août 2023
DESCRIPTION:Cette Super Pleine Lune “bleue”\, parce que  plus proche de la Terre\, aura lieu ce jeudi 31 août dans le signe du Poisson. Nous nous connecterons en amont le 30 quand les énergies sont en émergences et donc encore plus puissantes. Cette pleine lune nous aide à maîtriser nos émotions et à y voir plus clair dans nos relations. Vénus pourrait nous pousser à prendre une décision importante… Elle vient faire le ménage dans nos relations et permettre des rencontres audacieuses. \nCe mois d’aout 2023 compte 2 pleines lunes ce qui est assez rare. \nUne Pleine Lune en Poissons\, c’est le moment où notre générosité se réveille et où la douceur prend le dessus dans nos relations. Sous son influence\, c’est comme si notre sixième sens se mettait en mode turbo\, nous apportant parfois des révélations inattendues ! Il va falloir nous organiser au quotidien pour ancrer ce que l’on veut voir éclore en cette rentrée. Nous serons toutefois bercés par de grandes vagues  de “lâcher prise”. On peut se sentir tiraillés entre l’envie de se laisser aller\, de se laisser vivre et les obligations\, les impératifs de nos agendas qui reviennent en force en cette fin d’été. C’est le moment parfait pour faire le point\, méditer sur ce dont on a réellement besoin\, faire le tri dans nos priorités. \nNous travaillerons sur le dégagement des émotions bloquées et stagnantes qui nous freinent encore. \nNous renforcerons notre ancrage\,  nécéssaire pour nous empêcher de nous noyer dans un océan d’émotions\, pour nous aider à garder notre calme. Comment passer à  l’action avec efficacité ! \nNotez bien que le 4 septembre\, quelques jours après la Pleine Lune\, Vénus nous aidera à faire un choix si nécessaire\, à nous décider à nous engager dans telle ou telle voie. \nNous travaillerons également sur les relations amoureuses\, sentimentales\, émotionnelles… afin d’ouvrir les portes de la fluidité et permettre les ajustements pour chacun. De vraies rencontres doivent maintenant avoir lieu… \nCette méditation se fera à la fois “online” et en présentiel pour ceux qui peuvent nous rejoindre. \nPour ceux qui nous rejoingent\, nous ferons une collation partagée après la méditation. \n\nL’aspect Visio se fera via la plateforme Jitsi meet.\nVoici le lien de téléchargement de l’application : jitsi met\nNous travaillerons dans cette énergie spéciale pour lever les tensions physiques et psychiques et les programmes résiduels conscients ou inconscients qui peuvent encore bloquer certains aspects de notre existence. Il s’agit ici de fermer les anciennes portes obsolètes pour en ouvrir de nouvelles…\nLâcher les vieux schémas répétitifs.\nNous activerons de nouvelles ouvertures\, afin d’accueillir de manière plus intense les énergies de vie\, de guérison\, d’amour… \nInstallez vous confortablement pour ce voyage !\nSi vous le pouvez installez une enceinte pour optimiser le son. \nLa participation souhaitée est de 20 €\nNous proposons également une participation libre et consciente pour les personnes en précarité. \nVotre inscription sera validée dès votre règlement avec l’application Lydia  ( Lien Lydia )\, paiement par mon numéro le 06 16 57 61 99. \nPar PayPal avec cette adresse : contact@axe-sens.org \nMerci de me faire  parvenir un texto avec votre adresse mail dès votre règlement afin de recevoir les codes de connexion 15 minutes avant le début de la méditation. Il ne vous restera plus qu’a vous installer confortablement pour ce voyage. \nPour toutes infos merci de me joindre directement par texto \nBien à vous et au plaisir de vous retrouver pour ce travail \nEléonora \nTel :  06 16 57 61 99 \nMail : contact@axe-sens.org \n\n  \n  \n 
URL:https://www.axe-sens.org/rendez-vous/meditation-de-pleine-lune-_-30-aout-2023
LOCATION:Online
CATEGORIES:Ateliers,Eleonora Quemener,Energétique,Méditations,Thérapie
ATTACH;FMTTYPE=image/jpeg:https://www.axe-sens.org/wp-content/uploads/2017/08/full-moon-meditation-cropped-1200x565-e1731519073474.jpg
END:VEVENT
END:VCALENDAR