BEGIN:VCALENDAR
VERSION:2.0
PRODID:-//Axe &amp; Sens - ECPv6.8.1//NONSGML v1.0//EN
CALSCALE:GREGORIAN
METHOD:PUBLISH
X-WR-CALNAME:Axe &amp; Sens
X-ORIGINAL-URL:https://www.axe-sens.org
X-WR-CALDESC:Évènements pour Axe &amp; Sens
REFRESH-INTERVAL;VALUE=DURATION:PT1H
X-Robots-Tag:noindex
X-PUBLISHED-TTL:PT1H
BEGIN:VTIMEZONE
TZID:Europe/Paris
BEGIN:DAYLIGHT
TZOFFSETFROM:+0100
TZOFFSETTO:+0200
TZNAME:CEST
DTSTART:20230326T010000
END:DAYLIGHT
BEGIN:STANDARD
TZOFFSETFROM:+0200
TZOFFSETTO:+0100
TZNAME:CET
DTSTART:20231029T010000
END:STANDARD
END:VTIMEZONE
BEGIN:VEVENT
DTSTART;TZID=Europe/Paris:20230205T190000
DTEND;TZID=Europe/Paris:20230205T203000
DTSTAMP:20260424T180648
CREATED:20230204T114603Z
LAST-MODIFIED:20230204T114922Z
UID:10000503-1675623600-1675629000@www.axe-sens.org
SUMMARY:Méditation - Pleine lune du Lion
DESCRIPTION:Méditation guidée \nDimanche 5 Février  à 19h00. \nVia Jitsi meet ( On line) \nCette pleine Lune de guérison\, encore appelée “Lune du Lion” redonne de la force et permet de puissants nettoyages émotionnels. Sympathique sur le plan des énergies\, mais aussi très puissante\, cette Pleine Lune  du 5 février 2023 a une grande incidence sur le plan professionnel. Elle ouvre le passage… Elle permet également le nettoyage des scories du passé. Elle offre comme un grand souffle de renouveau ! Située dans le signe du Lion\, signe de feu\, cette lune est aussi surnommée «le  Lune des tempêtes »  en raison de la période de l’année\, mais également par l’intensité de sa vibration à la fois positive et passionnée\, redonnant force et courage. Toutefois par sa fougue elle génère de fortes remontées émotionnelles qu’il faut pouvoir gérer. Elle offre l’opportunité de se débarrasser des poids lourds à porter pour mordre la vie à pleine dents. \nVous pourriez ressentir un changement positif\, une guérison concernant le plan amoureux ou émotionnel. Cette pleine lune apporte du courage et permet de réactiver notre foi en la vie et en l’amour. Elle se pose comme une porte fondamentale et bénéfique avant de passer à autre chose. Toujours portés par l’énergie du Lion\, l’ensemble des signes pourraient ici ressentir un regain d’énergie\, une montée d’estime de soi et une bonne dose de courage pour passer à l’action et mettre en marche de nouveaux plans… \nJe vous propose une  méditation en Visio via la plateforme Jitsi meet. \nVoici le lien de téléchargement de l’application : jitsi met\nNous travaillerons dans cette énergie spéciale pour lever les vieux schémas conscients et inconscients qui peuvent encore bloquer certains aspects de notre existence. Nous traverserons les couches émotionnelles pour sortir de la matrice imposée et reconnecter à son essence véritable.\nNous ouvrirons de nouvelles portes afin d’accueillir de manière plus intense les énergies de vie\, de guérison\, d’amour… \nInstallez vous confortablement pour ce voyage !\nSi vous le pouvez\, installez une enceinte pour optimiser le son. \nLa participation souhaitée est de 20 euros.\nNous proposons également une participation libre et consciente pour les personnes en précarité. \nVotre inscription sera validée dès votre règlement par l’application Lydia  ( Lien Lydia ) 5paiement par mon numéro le 06 16 57 61 99). Par PayPal avec cette adresse : contact@axe-sens.org \nUne fois votre règlement effectué\, vous allez recevoir les codes de connexion 15 minutes avant le début de la méditation. Il ne vous restera plus qu’à vous installer confortablement pour ce voyage\, à cliquer sur le lien transmis pour rentrer dans la salle virtuelle. \nPour toutes infos merci de me joindre directement par WhatsApp\, Signal ou Telegram. \nBien à vous et au plaisir de vous retrouver pour ce travail \nEléonora \nTel :  06 16 57 61 99 \nMail : contact@axe-sens.org
URL:https://www.axe-sens.org/rendez-vous/5804
LOCATION:Jitsimeet\, internet 
CATEGORIES:Eleonora Quemener,Energétique,Méditations,Thérapie
ATTACH;FMTTYPE=image/jpeg:https://www.axe-sens.org/wp-content/uploads/2023/02/IMG_0147.jpg
END:VEVENT
END:VCALENDAR