BEGIN:VCALENDAR
VERSION:2.0
PRODID:-//Axe &amp; Sens - ECPv6.8.1//NONSGML v1.0//EN
CALSCALE:GREGORIAN
METHOD:PUBLISH
X-WR-CALNAME:Axe &amp; Sens
X-ORIGINAL-URL:https://www.axe-sens.org
X-WR-CALDESC:Évènements pour Axe &amp; Sens
REFRESH-INTERVAL;VALUE=DURATION:PT1H
X-Robots-Tag:noindex
X-PUBLISHED-TTL:PT1H
BEGIN:VTIMEZONE
TZID:Europe/Paris
BEGIN:DAYLIGHT
TZOFFSETFROM:+0100
TZOFFSETTO:+0200
TZNAME:CEST
DTSTART:20220327T010000
END:DAYLIGHT
BEGIN:STANDARD
TZOFFSETFROM:+0200
TZOFFSETTO:+0100
TZNAME:CET
DTSTART:20221030T010000
END:STANDARD
END:VTIMEZONE
BEGIN:VEVENT
DTSTART;TZID=Europe/Paris:20221009T193000
DTEND;TZID=Europe/Paris:20221009T210000
DTSTAMP:20260425T001508
CREATED:20221007T100755Z
LAST-MODIFIED:20221007T104952Z
UID:10000499-1665343800-1665349200@www.axe-sens.org
SUMMARY:Méditation de pleine lune
DESCRIPTION:Méditation guidée \nDimanche 9 octobre à 19h30. \nVia Jitsi meet ( On line) \nCette pleine Lune de guérison\, encore appellée “Lune du Chasseur” permet de  libérer\, alléger et mettre en lumière les aspects encore troubles enfouis au fond de nos consciences. \nPourquoi la Lune du Chasseur ? \nLes agriculteurs finissaient traditionnellement de moissonner leurs champs à la lumière de la pleine lune des moissons en Septembre. Au moment de la pleine lune suivante\, les champs étaient nettoyés\, et les chasseurs pouvaient facilement voir les animaux rôder à la recherche de nourriture avant l’hiver. De plus\, à ce moment du mois\, cette lune se lève au crépuscule et se couche à l’aube. Le clair de la lune permettait donc aux chasseurs de traquer leurs proies jusque tard dans la nuit. \nNous allons ici procéder à de grands nettoyages subtils\, internes\, externes et multidimentionnels. \n\nJe vous propose une  méditation en Visio via la plateforme Jitsi meet.\nVoici le lien de téléchargement de l’application : jitsi met\nNous travaillerons dans cette énergie spéciale pour lever les tensions physiques et psychiques et les programmes résiduels conscients ou inconscients qui peuvent encore bloquer certains aspects de notre existence. Il s’agit ici de fermer les anciennes portes obsolètes pour en ouvrir de nouvelles…\nLâcher les vieux schémas répétitifs.\nNous activerons de nouvelles portes afin d’acceuillir de manière plus intense les énergies de vie\, de guérison\, d’amour… \nInstallez vous confortablement pour ce voyage !\nSi vous le pouvez installez une enceinte pour optimiser le son. \nLa participation souhaitée est de 20 euros.\nNous proposons également une participation libre et consciente pour les personnes en précarité. \nVotre inscription sera validée dès votre règlement avec l’application Lydia  ( Lien Lydia )\, paiement par mon numéro le 06 16 57 61 99. \nPar PayPal avec cette adresse : contact@axe-sens.org \n\nMerci de me faire  parvenir un texto avec votre adresse mail dès votre règlement afin de recevoir les codes de connexion 20 minutes avant le début de la méditation. Il ne vous restera plus qu’a vous installer confortablement pour ce voyage. \nPour toutes infos merci de me joindre directement par texto \nBien à vous et au plaisir de vous retrouver pour ce travail \nEléonora \nTel :  06 16 57 61 99 \nMail : contact@axe-sens.org
URL:https://www.axe-sens.org/rendez-vous/meditation-de-pleine-lune-2
LOCATION:Jitsimeet\, internet 
CATEGORIES:Ateliers,Eleonora Quemener,Energétique,Méditations,Thérapie
ATTACH;FMTTYPE=image/jpeg:https://www.axe-sens.org/wp-content/uploads/2017/03/ystmeolaire100zjf-e1490864669102.jpg
END:VEVENT
END:VCALENDAR