BEGIN:VCALENDAR
VERSION:2.0
PRODID:-//Axe &amp; Sens - ECPv6.8.1//NONSGML v1.0//EN
CALSCALE:GREGORIAN
METHOD:PUBLISH
X-ORIGINAL-URL:https://www.axe-sens.org
X-WR-CALDESC:Évènements pour Axe &amp; Sens
REFRESH-INTERVAL;VALUE=DURATION:PT1H
X-Robots-Tag:noindex
X-PUBLISHED-TTL:PT1H
BEGIN:VTIMEZONE
TZID:Europe/Paris
BEGIN:DAYLIGHT
TZOFFSETFROM:+0100
TZOFFSETTO:+0200
TZNAME:CEST
DTSTART:20240331T010000
END:DAYLIGHT
BEGIN:STANDARD
TZOFFSETFROM:+0200
TZOFFSETTO:+0100
TZNAME:CET
DTSTART:20241027T010000
END:STANDARD
END:VTIMEZONE
BEGIN:VEVENT
DTSTART;TZID=Europe/Paris:20240408T200000
DTEND;TZID=Europe/Paris:20240408T213000
DTSTAMP:20260423T230938
CREATED:20240406T135105Z
LAST-MODIFIED:20240406T143849Z
UID:10000525-1712606400-1712611800@www.axe-sens.org
SUMMARY:Méditation Nouvelle Lune du 8 avril et éclipse.
DESCRIPTION:La Nouvelle lune du 8 Avril va marquer un changement décisif dans nos vies et l’ancrage d’une nouvelle réalité. Nous sommes actuellement dans une centrifugeuse émotionnelle et dans un changement de paradigmes à bien des niveaux. \nNotre pouvoir de co création va s’amplifier et il faudra dorénavant faire plus attention à son verbe et à ses pensées. Cette nouvelle lune en Belier va nous donner un nouveau ressort. C’est le moment de bondir sur les nouvelles propositions de changement de vie\, de faire confiance au destin et de renouer avec ses priorités et avec ce qui est primordial pour nous. \nNous vivrons également ( non visible en France) une éclipse totale. Lorsque la lune ” émotion et féminin ” fait de l’ombre au soleil\, ” action et masculin” elle vient nous poser cette question :\n– Qui suis je vraiment ? Que dois je changer en moi pour accéder à mes rêves ? Quels sont mes envies véritables et vers quoi dois je maintenant m’orienter ? Les notions d’action et de confiance en soi sont ici à l’honneur; \nC’est le moment de débloquer des projets\, de saisir de nouvelles opportunités\, de fermer certaines portes et d’en ouvrir de nouvelles. de se jeter dans de nouvelles aventures… \nIl est temps\, vous l’aurez compris\,  de mettre en place le monde que nous souhaitons voir éclore pour nous et pour le vivant sur cette planète. \nNous irons entre autre lors de ce travail\, explorer et nettoyer les résidus qui bloquent encore ces “possibles”. \nLa méditation aura lieu à 20 h30 le lundi 8 avril via WhatsApp. \nMerci de vous installer confortablement avec une petite enceinte si possible. \nLa participation souhaitée est de 20 €\nNous proposons également une participation libre et consciente pour les personnes en précarité. \nVotre inscription sera validée dès votre règlement avec l’application Lydia  ( Lien Lydia )\, paiement par mon numéro le 06 16 57 61 99. \nPar PayPal avec cette adresse : contact@axe-sens.org \nPar virement avec une capture d’écran. \nMerci de me faire  parvenir un texto dès que cela est fait afin que je puisse vous ajouter à la liste des participants. Cela 15 minutes avant le début de la méditation. \nconnexion 15 minutes avant le début de la méditation. Et afin de faire les tests techniques. \nIl ne vous restera plus qu’à vous installer confortablement pour ce voyage. \nPour toutes infos merci de me joindre directement par texto \nBien à vous et au plaisir de vous retrouver pour ce travail \nEléonora \nTel : 00 33 6 16 57 61 99
URL:https://www.axe-sens.org/rendez-vous/meditation-nouvelle-lune-du-8-avril-et-eclipse
LOCATION:Whatsapp
CATEGORIES:Atelier,Développement personnel,Eclipse,Energetique Astrologie,Meditation,Nouvelle lune
ATTACH;FMTTYPE=image/jpeg:https://www.axe-sens.org/wp-content/uploads/2015/03/Eclipses2.jpg
END:VEVENT
END:VCALENDAR