BEGIN:VCALENDAR
VERSION:2.0
PRODID:-//Axe &amp; Sens - ECPv6.8.1//NONSGML v1.0//EN
CALSCALE:GREGORIAN
METHOD:PUBLISH
X-WR-CALNAME:Axe &amp; Sens
X-ORIGINAL-URL:https://www.axe-sens.org
X-WR-CALDESC:Évènements pour Axe &amp; Sens
REFRESH-INTERVAL;VALUE=DURATION:PT1H
X-Robots-Tag:noindex
X-PUBLISHED-TTL:PT1H
BEGIN:VTIMEZONE
TZID:Europe/Paris
BEGIN:DAYLIGHT
TZOFFSETFROM:+0100
TZOFFSETTO:+0200
TZNAME:CEST
DTSTART:20230326T010000
END:DAYLIGHT
BEGIN:STANDARD
TZOFFSETFROM:+0200
TZOFFSETTO:+0100
TZNAME:CET
DTSTART:20231029T010000
END:STANDARD
END:VTIMEZONE
BEGIN:VEVENT
DTSTART;TZID=Europe/Paris:20231227T183000
DTEND;TZID=Europe/Paris:20231227T200000
DTSTAMP:20260424T052713
CREATED:20231225T154216Z
LAST-MODIFIED:20231225T155021Z
UID:10000522-1703701800-1703707200@www.axe-sens.org
SUMMARY:Méditation de pleine lune avant le passage en 2024
DESCRIPTION:Cette pleine lune connue sous le nom de “Lune froide” nous propose de nous intérioriser afin de connecter avec les poches émotionnelles qui ont encore besoin d’être contactées en nous\, d’être transmutées. \nIl est temps de faire un point sur ce que l’on veut libérer dans nos vies. A la veille de cette nouvelle année 2024 il est juste temps de déposer dans la matière les semences de ce que l’on aimerait voir éclore dans les mois à venir. \nCette énergie nous permet des ouvertures sur le plan émotionnel afin de ressentir ces aspects sensibles qui méritent notre attention. \nLes changements sont en cours; sur le plan professionnel mais également sur la plan de la créativité\, de l’amour pour nous même\, ce regard intérieur bienveillant… Ainsi que sur le plan de nos relations. Un bon moment pour recevoir\, dans l’énergie des fêtes\, ces merveilleuses énergies de Christ\, et la renaissance\, qui nous ouvre ses bras en cet instant. \nLa méditation aura lieu à 18 h30 le 27 Décembre via WhatsApp. \nMerci de vous installer confortablement avec une petite enceinte si possible. \n\nLa participation souhaitée est de 20 €\nNous proposons également une participation libre et consciente pour les personnes en précarité. \nVotre inscription sera validée dès votre règlement avec l’application Lydia  ( Lien Lydia )\, paiement par mon numéro le 06 16 57 61 99. \nPar PayPal avec cette adresse : contact@axe-sens.org \nMerci de me faire  parvenir un texto avec votre adresse mail dès votre règlement afin de recevoir les codes de connexion 15 minutes avant le début de la méditation. Et afin de faire les tests techniques. \nIl ne vous restera plus qu’a vous installer confortablement pour ce voyage. \nPour toutes infos merci de me joindre directement par texto \nBien à vous et au plaisir de vous retrouver pour ce travail \nEléonora \nTel :  06 16 57 61 99 \nMail : contact@axe-sens.org
URL:https://www.axe-sens.org/rendez-vous/meditation-de-pleine-lune-3
CATEGORIES:Meditation
ATTACH;FMTTYPE=image/jpeg:https://www.axe-sens.org/wp-content/uploads/2014/04/images-24.jpg
END:VEVENT
END:VCALENDAR