BEGIN:VCALENDAR
VERSION:2.0
PRODID:-//Axe &amp; Sens - ECPv6.8.1//NONSGML v1.0//EN
CALSCALE:GREGORIAN
METHOD:PUBLISH
X-WR-CALNAME:Axe &amp; Sens
X-ORIGINAL-URL:https://www.axe-sens.org
X-WR-CALDESC:Évènements pour Axe &amp; Sens
REFRESH-INTERVAL;VALUE=DURATION:PT1H
X-Robots-Tag:noindex
X-PUBLISHED-TTL:PT1H
BEGIN:VTIMEZONE
TZID:Europe/Paris
BEGIN:DAYLIGHT
TZOFFSETFROM:+0100
TZOFFSETTO:+0200
TZNAME:CEST
DTSTART:20230326T010000
END:DAYLIGHT
BEGIN:STANDARD
TZOFFSETFROM:+0200
TZOFFSETTO:+0100
TZNAME:CET
DTSTART:20231029T010000
END:STANDARD
END:VTIMEZONE
BEGIN:VEVENT
DTSTART;TZID=Europe/Paris:20231025T193000
DTEND;TZID=Europe/Paris:20231025T213000
DTSTAMP:20260424T100950
CREATED:20231025T131643Z
LAST-MODIFIED:20231025T132246Z
UID:10000518-1698262200-1698269400@www.axe-sens.org
SUMMARY:Méditation et voyage sonore de guérison.
DESCRIPTION:Eléonora et Laurent vous accueillent pour cette méditation et voyage sonore hors du commun à Marseille dans un endroit insolite : \nLa Grotte Chatvasana à la Pointe Rouge. \nIls vous proposent lors de cette méditation guidée\, un voyage sonore de guérison afin de travailler aux réajustements énergétiques\, et offrir à notre structure les ouvertures et les alignements nécessaires pour accueillir avec une plus grande fluidité les fluctuations vibratoires et permettre les ancrages nécessaires. \nImmergés dans cette cavité rocheuse dédié au yoga\, voyage sonore particulier permet d’améliorer sa santé physique\, mentale et émotionnelle. Il génère une réduction du stress\, de l’anxiété et améliorer la qualité du sommeil. Cet espace multidimensionnel de guérison fluidifie les énergies en tout individu et optimise par la suite la concentration et la créativité. \nEleonora est psycho Energeticienne\, praticienne en médecine chinoise et chaman. \nLaurent est electro acousticien formé au conservatoire de Marseille. IL recrée des sons de la nature et travaille sur le scénario des 5 éléments. \nEnsemble ils utilisent une variété d’instruments insolites\, pour vous emmener dans un monde onirique riche d’images et de sensations. \nLors des voyages sonores l magie opère à chaque instant. ILs utilisent également des techniques de méditation\, de relaxation et de respiration profonde pour mieux équilibrer vos énergies. \nLors de cette soirée une collation vous sera offerte avant et après le concert. \nLes places étant limitées\, merci de réserver au  06 16 57 61 99.
URL:https://www.axe-sens.org/rendez-vous/meditation-et-voyage-sonore-de-guerison
CATEGORIES:Art,Concert,Energétique,énergétique,Meditation,Musique,VOYAGE SONORE
ATTACH;FMTTYPE=image/jpeg:https://www.axe-sens.org/wp-content/uploads/2023/10/grotte-chatvasana--e1699631743776.jpg
END:VEVENT
END:VCALENDAR