BEGIN:VCALENDAR
VERSION:2.0
PRODID:-//Axe &amp; Sens - ECPv6.8.1//NONSGML v1.0//EN
CALSCALE:GREGORIAN
METHOD:PUBLISH
X-WR-CALNAME:Axe &amp; Sens
X-ORIGINAL-URL:https://www.axe-sens.org
X-WR-CALDESC:Évènements pour Axe &amp; Sens
REFRESH-INTERVAL;VALUE=DURATION:PT1H
X-Robots-Tag:noindex
X-PUBLISHED-TTL:PT1H
BEGIN:VTIMEZONE
TZID:Europe/Paris
BEGIN:DAYLIGHT
TZOFFSETFROM:+0100
TZOFFSETTO:+0200
TZNAME:CEST
DTSTART:20250330T010000
END:DAYLIGHT
BEGIN:STANDARD
TZOFFSETFROM:+0200
TZOFFSETTO:+0100
TZNAME:CET
DTSTART:20251026T010000
END:STANDARD
END:VTIMEZONE
BEGIN:VEVENT
DTSTART;VALUE=DATE:20250522
DTEND;VALUE=DATE:20250527
DTSTAMP:20260423T030405
CREATED:20240610T090425Z
LAST-MODIFIED:20250331T145816Z
UID:10000531-1747872000-1748303999@www.axe-sens.org
SUMMARY:Consultations individuelles à Bruxelles avec Eléonora
DESCRIPTION:Soins individuels à Bruxelles \nLe jeudi 22 et le vendredi 23 Mai 2025\nAu centre Champaca\nLe lundi 26 mai 2025 ( Optionnel) \n \nPsychothérapeute Enérgeticienne \n Praticenne en MTC ( médecine traditionnelle chinoise) \nHoméopathe et naturopathe\nShaman \nEléonora accompagne ses patients dans un protocole rigoureux qui travaille aussi bien sur les organes\, les désordres biologiques et les cellules dans le corps\, que sur le subtil\, l’énergie et les programmes limitants\, psycho-émotionnels\, trans-générationnels et karmiques.  Diplômée en MTC en acupression (Energétique chinoise)\, en homéopathie pratique et naturopathie\, Eléonora intervient également sur les organes vitaux et les désordres physiques par la prise de pouls pour compléter le processus de libération. \nDans son approche\, elle prend également en compte les quatres principaux corps dont nous sommes constitués : corps physique\, éthérique\, émotionnel et mental\, ainsi que l’âme. \n“Ils portent des programmes de nos mémoires conscientes ou inconscientes qui nous viennent de notre héritage généalogique\, karmique  ou génétique\, des différents chocs émotionnels conscients ou inconscients qui s’inscrivent depuis la première minute de vie dans le ventre de notre mère et tout au long de notre existence. Ces programmes peuvent entraver la bonne circulation de l’énergie et provoquer “des mal-a-dits”. \nThérapeute holistique\, Éléonora va pouvoir capter toutes les infos précieuses et réaliser une déprogrammation cellulaire\, des nettoyages subtils\, des lectures précises\, des désordres multiples\, et le nettoyage\, l’équilibrage et la réharmonisation. \nConsultations de 1h : 80 € –  1h30: 90 € – 2h : 100 € \nNettoyage d’occulte : 111 € \nInfos et réservation via whatsapp : \n00 33 (0)616576199
URL:https://www.axe-sens.org/rendez-vous/seance-de-soin-individuel-a-bruxelles
CATEGORIES:Eleonora Quemener,énergétique,Energétique,Energie,Thérapie
ATTACH;FMTTYPE=image/jpeg:https://www.axe-sens.org/wp-content/uploads/2017/09/Passer-de-la-Tête-au-Coeur-300x300-2-e1603452091935.jpg
ORGANIZER;CN="Eleonora":MAILTO:aurorakumaran@gmail.com
END:VEVENT
BEGIN:VEVENT
DTSTART;TZID=Europe/Paris:20250524T100000
DTEND;TZID=Europe/Paris:20250525T180000
DTSTAMP:20260423T030405
CREATED:20250123T171135Z
LAST-MODIFIED:20250516T124456Z
UID:10000645-1748080800-1748196000@www.axe-sens.org
SUMMARY:Initiation alchimique - Les 5 éléments comme outils de co-création
DESCRIPTION:L’intégration des 5 éléments comme outils de co création. \nBruxelles le 24 et 25 Mai 2025\nDe 10 h00 à 18 h00 \nCentre Champaca\nAvenue Brugmann\, 227\n1050 Bruxelles \n  \nLors de ce WE d’initiation\, Eléonora vous emmènera dans l’exploration sensible et subtile des 5 éléments\, dans l’essence même de ce qu’ils représentent… Lors d’un voyage au cœur des différentes traditions de notre planète\, vous découvrirez par le biais d’exercices et en méditation guidée\, les approches du Tao dans lequel les 5 éléments correspondent au cycle d’engendrement\, en médecine chinoise ils correspondent à des organes vitaux. Platon les associe à des géométries sacrées. Ils sont liés à des maîtrises de respiration et des nettoyages de canaux subtils\, outils fondamentaux pour l’intégration de nos structures énergétiques les plus élevées. Le Tambour chamanique et certains chants sacrés\, nous reconnectent souvent à des mémoires… \nLes 5 éléments sont la base fondamentale de notre structure vivante. Notre matière  est constituée de ces 5 éléments qui agissent en interconnexion et en alchimie les uns avec les autres. \nAu cours de ce WE  intense\, nous allons intégrer ces différents éléments\, un à un sous toutes leurs facettes afin de les intégrer énergétiquement et cellulairement.\nIls recèlent de nombreux mystères que nous livrent ici les initiations proposées durant le WE. \nThéories pratiques\, méditations guidées\, pratiques chamaniques ou spirituelles ancestrales…\nNous découvrirons la lecture subtile des messages du règne végétal ou encore comment entrer en contact avec son animal totem. Nous explorerons la puissante respiration extatique\, héritage du chamanisme ukrainien. \nVous explorerez ici chacun des éléments dans son intégralité afin d’apprendre à les utiliser en conscience. \nPsycho-energeticienne\, praticienne en médecine chinoise et chaman\,\nEléonora combine depuis plusieurs années des connaissances en médecines\nalternatives pour accompagner ses patients vers des guérisons du Corps de l’Âme et de l’Esprit.\nAprès avoir vécu un éveil en 2004\, elle rencontre plusieurs grands sages\, maîtres\nou chamans en Inde\,en Amérique ou en Afrique qui lui apporteront de précieux\nenseignements et initiations. Dès lors elle se forme et se confronte à différentes techniques\, approches ou consciences\, elle suit plusieurs formations pour parfaire ses connaissances\, pour finalement mettre en place sa propre pratique\, quintessence qu’elle offre aujourd’hui lors de ses soins\, ateliers ou séminaires. \nInfos\, réservation et inscription : \nMargaret Ranwez : +32 478 270 561 \nÉléonore Quemener : +33 6 16 57 61 99\ncontact@axe-sens.org \nTarif  : 250 € \n 
URL:https://www.axe-sens.org/rendez-vous/6546
LOCATION:Centre Champaca\, Avenue Brugmann\, 227\, Bruxelles\, 1050\, Belgium
CATEGORIES:Alchimie,Ateliers,Eleonora Quemener,Energétique,Formations,Les 5 éléments,Méditations,Séminaires,Stages,Thérapie
ATTACH;FMTTYPE=image/jpeg:https://www.axe-sens.org/wp-content/uploads/2014/03/abzu-terre-creuse-femme-foetale-543.jpg
ORGANIZER;CN="El%C3%A9onora":MAILTO:aurorakumaran@gmail.com
END:VEVENT
END:VCALENDAR