BEGIN:VCALENDAR
VERSION:2.0
PRODID:-//Axe &amp; Sens - ECPv6.8.1//NONSGML v1.0//EN
CALSCALE:GREGORIAN
METHOD:PUBLISH
X-WR-CALNAME:Axe &amp; Sens
X-ORIGINAL-URL:https://www.axe-sens.org
X-WR-CALDESC:Évènements pour Axe &amp; Sens
REFRESH-INTERVAL;VALUE=DURATION:PT1H
X-Robots-Tag:noindex
X-PUBLISHED-TTL:PT1H
BEGIN:VTIMEZONE
TZID:Europe/Paris
BEGIN:DAYLIGHT
TZOFFSETFROM:+0100
TZOFFSETTO:+0200
TZNAME:CEST
DTSTART:20250330T010000
END:DAYLIGHT
BEGIN:STANDARD
TZOFFSETFROM:+0200
TZOFFSETTO:+0100
TZNAME:CET
DTSTART:20251026T010000
END:STANDARD
END:VTIMEZONE
BEGIN:VEVENT
DTSTART;VALUE=DATE:20250628
DTEND;VALUE=DATE:20250629
DTSTAMP:20260421T210151
CREATED:20250522T105649Z
LAST-MODIFIED:20250522T110557Z
UID:10000650-1751068800-1751155199@www.axe-sens.org
SUMMARY:Journée de constellations familiales et systémiques avec Morghan Mehlem- Marseille
DESCRIPTION:Nous avons le plaisir d’acceuillir\nMoghan Mehlem \nLe Samedi 28 juin 2025\nÀ Marseille \nMoghan a eu un parcours riche et éclectique aux 4 coins du globe. Professeur de yoga Ashtanga\, formé à Pondichéry dans les années 70 ‘ 80 ‘\, comédien et art-thérapeute à Paris et en France\, formé en décodage biologique par le Dr Hamer et Christian Flèche dans les années 90’\, Hypnothérapeute et coach\, diplômé en PNL\, Moghan se forme avec Bert Hellinger le fondateur des constellations familiales et Lienpsy de Gérard et Samia Fossat pendant plusieurs années. Il fonde Aurosystemica en 2010. Cette école de constellation familiale et systémique basée à  Auroville ( Inde du Sud) à formé des centaines de praticiens en Inde et travers le monde. \n\n\nUne constellation c’est quoi ? \n\n\nLe travail de constellation s’effectue en groupe d’une dizaine de personnes. Elle a pour objectif de mettre en lumière «  des programmes limitants » et de les faire évoluer positivement. \n\n\nLe client choisit des représentants pour explorer une problématique personnelle.\nLes représentants vont alors incarner soit des membres de la famille\, pour les constellations familiales\, soit des « mots clefs » pour les constellations systémiques (certaines personnes vont lors de l’interview\, expliquer leur schéma de contraction : colère\, manque de reconnaissance\, peurs\, schémas répétitifs ou des problèmes relationnels au sein de son travail…) Les représentants vont donc incarner ces mots clefs\, et vont être vecteurs d’émotions\, de sensations\, de ressentis… \nAprès avoir évoqué son questionnement et les faits marquants de son système familial\, personnel ou d’origine\, le client est invité à choisir dans le groupe des représentants\,  les personnes impliquées ou non dans sa problématique. Il les place avec recueillement dans l’espace de travail puis en devient l’observateur. \n\n\nL’animateur entre alors dans ce champ de représentation vivante des liens existants dans ce système et demande aux représentants investis des rôles\, d’exprimer leurs ressentis. \nGuidé par ces informations\, par l’image du positionnement des représentants\, par les faits exprimés par le client\, l’animateur va alors faire évoluer “le système” vers une « image solution » en découvrant les dynamiques cachées (identifications\, parentifications\, exclusions\, deuils non faits\, abandon\, manque de reonnaissance etc.…). Il propose de nouveaux positionnements ainsi que des phrases rituelles permettant la guérison des liens. Le client réintègre alors en conscience un système familial ou personnel dans lequel il peut exprimer plus librement sa pulsion de vie. \n\n\nLe travail intérieur est aussi puissant pour le constellant que pour les intervenants.\nA la fin de chaque constellation\, Moghan\, accompagne chacun sur les résonnances émotionnelles générées pendant la séance. Par une approche sensible\, en hypnose légère Moghan va alors accompagner chacun dans une sorte de déprogrammation cellulaire en fonction de ce qui est remonté pour chacun. \n\n\nLors d’une journée de constellation\, 5 à 6 personnes feront leur constellation personnelle. Le reste du groupe présent\, sensiblement impliqué pourra être choisit pour représenter soit un membre de la famille\, soit une émotion\, un mot clef\, une valeur… Les représentants sont également impliqués dans un travail personnel qui peut générer des remontés sensibles\, et souvent inconscientes d’où l’importance de pouvoir participer en tant que représentant. \n\n\nUne constellation dure entre 35 à 45 minutes. Notre journée sera ponctuée par 5 constellations et pour chacune suivie d’un travail sur les résonnances. \n\n\nLors de votre inscription un questionnaire sera adressé à chacun afin de révéler les éléments marquants liés à votre transgenrationnel\, ou à votre histoire personnelle. \n\n\n\nSamedi 28 Juin 2025 \n9h30 – Accueil – Collation \n\n\nPrésentation \n\n\n10 h : 1ere constellation. \n\n\n10 h 45 : Travail sur les résonnances. \nPause \n\n\n11h30 : 2eme constellation \n\n\n12h 15 : travail sur les résonnaces \nPause \n\n\n13h  : Pause déjeuner ( 1h30) \n\n\n14 h30 : 3eme constellation \n\n\n15h15 : Travail sur les résonnances \nPause \n\n\n15h 45 :4 eme constellation \n\n\n16 h 30 : Travail sur les résonnances. \nPause \n\n\n17h 00 : 5 eme constellation \n\n\n17 h 45 : Travail sur les résonances \n\n\nPause \nUne 6 eme constellation peut être réalisée en fonction du désir des représentants… \n\n\nCercle de parole de fermeture \n\n\nClôture \n\n\nTarifs : Représentants : 60 € – Constellants 120 € – Repas partagé.\nPrévoir une tenue confortable\n \n\n\n 
URL:https://www.axe-sens.org/rendez-vous/journee-de-constellations-familiales-et-systemiques-avec-morghan-mehlem-marseille
LOCATION:Domaine de TerreSainte\, BVD Notre Dame de Santa Cruz\, Marseille
CATEGORIES:Arts,Atelier,Constellation familiale,Guérison,Théâtre
ATTACH;FMTTYPE=image/png:https://www.axe-sens.org/wp-content/uploads/2024/11/Capture-decran-2024-11-15-a-13.18.30.png
ORGANIZER;CN="El%C3%A9onora":MAILTO:aurorakumaran@gmail.com
GEO:43.342279;5.4061361
X-APPLE-STRUCTURED-LOCATION;VALUE=URI;X-ADDRESS=Domaine de TerreSainte BVD Notre Dame de Santa Cruz Marseille;X-APPLE-RADIUS=500;X-TITLE=BVD Notre Dame de Santa Cruz:geo:5.4061361,43.342279
END:VEVENT
END:VCALENDAR