BEGIN:VCALENDAR
VERSION:2.0
PRODID:-//Axe &amp; Sens - ECPv6.8.1//NONSGML v1.0//EN
CALSCALE:GREGORIAN
METHOD:PUBLISH
X-ORIGINAL-URL:https://www.axe-sens.org
X-WR-CALDESC:Évènements pour Axe &amp; Sens
REFRESH-INTERVAL;VALUE=DURATION:PT1H
X-Robots-Tag:noindex
X-PUBLISHED-TTL:PT1H
BEGIN:VTIMEZONE
TZID:Europe/Paris
BEGIN:DAYLIGHT
TZOFFSETFROM:+0100
TZOFFSETTO:+0200
TZNAME:CEST
DTSTART:20250330T010000
END:DAYLIGHT
BEGIN:STANDARD
TZOFFSETFROM:+0200
TZOFFSETTO:+0100
TZNAME:CET
DTSTART:20251026T010000
END:STANDARD
END:VTIMEZONE
BEGIN:VEVENT
DTSTART;VALUE=DATE:20250412
DTEND;VALUE=DATE:20250420
DTSTAMP:20260422T140609
CREATED:20241023T142436Z
LAST-MODIFIED:20250208T133627Z
UID:10000639-1744416000-1745107199@www.axe-sens.org
SUMMARY:Retraite initiatique - Bien être au coeur de l'Atlas Marocain
DESCRIPTION:La néo arche “Aït Mazir” \ninvite Eléonora Quemener afin d’accompagner sur un chemin initiatique\nun petit groupe de 12 Personnes \nDu 06 au 13 Avril 2025 \n \nNous vous proposons une semaine inoubliable et un travail profond au coeur de l’Atlas sur une terre originelle toute vibrante encore de l’aube de la vie sur notre planète. \nFondée  par Fréderic Le Hénnaf\, la néoarche Aït Mazir : Arkamp\, un oasis exceptionnel\, posée en Terre Amazir (Terre des Hommes libres). \nCe lieu hors du commun offre une infrastructure idéale pour une  immersion dans les 5 Eléments. \n \nDurant cette semaine nous profiterons du lieu\, de sa vibration\, de son lac\, des paysages époustouflants\, des espaces sacrés…D’explorations insolites en bateau\, en randonnées\, pour un travail profond sur le lâcher prise\, le travail sur soi et la reconnexion. \n \nNos journées seront ponctuées de pratiques collectives : Yoga\, ateliers initiatiques\, cérémonies sacrées\, marches conscientes\, explorations … et de soins individuels. \nL’Arkamp est constitués pour le moment de 12 bungalows en bois offrant un confort appréciable pour chacun. \nAu centre du camp “Le foyer central” est un lieu de rassemblements autour du poêle\, pour les cercles de paroles et les différentes initiations proposées par Eléonora. \n \nL’espace Yoga offre une vue dégagée sur la vallée\, le lac et les collines. \nC’est une grande chance de pouvoir bénéficier de ce lieu privilégié classé au patrimoine mondial comme aire de jeu pour nos explorations intérieures et extérieures… \n \nPour toutes informations merci de contacter Eléonora au \nTel : 00 33 6 16 57 61 99 \nMail : contact@axe-sens.org \nL’arrivée doit se faire à Marrakech le 22 février. Nous partirons le 22 en 4X4 de l’aéroport pour la réserve Arkamp quand tout le monde sera arrivé. IL faut compter 4 h de route. \nLe départ de L’Arkamp est prévu vers Marrakech le 2 Mars 2025 dans la matinée. \nNous restons à votre disposition pour toutes informations complémentaires.\nUn mail personnalisé vous sera envoyé avec les détails du programme. \n  \n  \n  \n  \n 
URL:https://www.axe-sens.org/rendez-vous/retraite-initiatique-bien-etre-au-coeur-de-latlas-marocain
LOCATION:ARKAMP
CATEGORIES:Alchimie,Art,cérémonie sacrée,Danse,Retraite Holistique,Spiritualité
ATTACH;FMTTYPE=image/jpeg:https://www.axe-sens.org/wp-content/uploads/2024/10/IMG_3893-scaled.jpeg
END:VEVENT
END:VCALENDAR