BEGIN:VCALENDAR
VERSION:2.0
PRODID:-//Axe &amp; Sens - ECPv6.8.1//NONSGML v1.0//EN
CALSCALE:GREGORIAN
METHOD:PUBLISH
X-WR-CALNAME:Axe &amp; Sens
X-ORIGINAL-URL:https://www.axe-sens.org
X-WR-CALDESC:Évènements pour Axe &amp; Sens
REFRESH-INTERVAL;VALUE=DURATION:PT1H
X-Robots-Tag:noindex
X-PUBLISHED-TTL:PT1H
BEGIN:VTIMEZONE
TZID:Europe/Paris
BEGIN:DAYLIGHT
TZOFFSETFROM:+0100
TZOFFSETTO:+0200
TZNAME:CEST
DTSTART:20250330T010000
END:DAYLIGHT
BEGIN:STANDARD
TZOFFSETFROM:+0200
TZOFFSETTO:+0100
TZNAME:CET
DTSTART:20251026T010000
END:STANDARD
END:VTIMEZONE
BEGIN:VEVENT
DTSTART;VALUE=DATE:20250307
DTEND;VALUE=DATE:20250311
DTSTAMP:20260422T135710
CREATED:20241115T112515Z
LAST-MODIFIED:20250205T121810Z
UID:10000642-1741305600-1741651199@www.axe-sens.org
SUMMARY:WE de "Reset" et re-programmation cellulaire- Essaouira
DESCRIPTION:Eléonora vous invite à Dar An’Nour ( la maison de la lumière) \ndans la province d’Essaouira \ndu vendredi 7 Mars 2025  au lundi 10 Mars 2025 \n Un W.E de remise en forme \nLieu de ressourcement  fondé sur un site sacré\nPour : \nRécupérer sa force et son énergie vitale.\nReconnecter avec ses propres « pouvoirs ».\nRetrouver une meilleure fluidité dans son existence.\nRetrouver sa véritable dimension. \nNotre journée sera ponctuée par des exercices de  yoga\, de respiration et de méditation le matin. \nDes  marches conscientes dans des cadres exceptionnels et des ateliers d’initiation seront au programme.\nSi le temps le permet nous aurons la chance de vivre une méditation sous les étoiles de nuit\, sous la voute céleste. \nChaque invité recevra une séance de soin individuelle proposée par Eléonora afin de libérer des programmes limitants et se réajuster. Hammam et massages  seront également au programme. \nOffrez vous un WE tout en douceur dans un cadre exceptionnel pour une déconnection et une remise en forme garantie. \nInfos  : \ncontact@axe-sens.org\naurorakumaran@gmail.com\nFB Axe et Sens/ Éléonore Quemener\nEleonora Quemener 06 16 57 61 99 \n  \n  \n  \n  \n 
URL:https://www.axe-sens.org/rendez-vous/we-de-reset-et-re-programmation-cellulaire-au-maroc
CATEGORIES:Atelier,Ceremonie,Ceremonie de Lila,Ceremonie sacrée,Formations,Musique,Retraite initiatique,Séminaires,Soins énergétiques
ATTACH;FMTTYPE=image/jpeg:https://www.axe-sens.org/wp-content/uploads/2021/06/IMG_7225.jpg
ORGANIZER;CN="Eleonora":MAILTO:aurorakumaran@gmail.com
END:VEVENT
BEGIN:VEVENT
DTSTART;TZID=Europe/Paris:20250314T203000
DTEND;TZID=Europe/Paris:20250314T213000
DTSTAMP:20260422T135710
CREATED:20250311T090100Z
LAST-MODIFIED:20250311T090545Z
UID:10000647-1741984200-1741987800@www.axe-sens.org
SUMMARY:Atelier-Soin- Méditation - Pleine Lune - Eclipse- Avril 2025
DESCRIPTION:Méditation Via WhatsApp \nPleine lune le 14 mars 2025 \n20h 30 \n  \nAccompagnée d’une éclipse lunaire totale le 13 dans la nuit\, cette lune sera d’une énergie frappante  Ça bouge ! Elle nous pousse à l’introspection\, à faire du ménage intérieur et à redécouvrir qui nous sommes réellement. Fini de se cacher\, de faire semblant\, de se mentir … Elle nous montre nos parts d’ombre afin de les déjouer et de les transformer en force.\nElle vient mettre un coup de projecteur sur nos relations toxiques et sur toutes celles qui ne sont plus en accord avec notre âme. Le temps est venu de se positionner pour pouvoir avancer. Cette lune nous pousse à prendre des décisions\, parfois radicale\, à faire du ménage dans notre entourage ainsi que dans les domaines importants de nos vies. Nous devons maintenant apprendre à nous détacher de tout ce qui n’a plus lieu d’être\, tout ce qui nous empêche de nous réaliser\, nous empêche d’accomplir nos buts et nos rêves … Cette vibration va mettre en lumière nos blessures \, nos traumas enkystés \, nos blocages énergétiques conscients et inconscients pour que nous puissions les purifier\, les libérer et les transformer en véritables forces. Cette lune vient également développer nos capacités sensorielles\, notre intuition sera plus aiguisée. Soyons plus à l’écoute de nos ressentis\, de nos aspirations profondes … Elle vient mettre en lumière des vérités cachées\, que se soit sur nous même ou sur des proches qui interfèrent dans notre évolution. Elle vient booster notre créativité au sens large\, va générer ce besoin de créer\, de changer de décor\, de vie même parfois. Nos émotions et nos ressentis seront disculpés durant ces quelques jours … Cette conjoncture peut nous donner le sentiment d’être un peu perdu\, de ne plus savoir quel chemin prendre\, mais c’est pour la bonne cause ! Ce sentiment vient te dire que quelque chose dans ta vie doit changer et que c’est maintenant ! \nJe vous propose un atelier méditation « on line » via le vendredi 14 à 20h30 \n Nous travaillerons à la levée des noeuds conscients ou inconscients\, physiques\, psychiques ou multi dimentionnel pour permettre un saut quantique dans la douceur et la fluidité  … \nVous serez inscris 30 mn avant la méditation après avoir réglé votre participation \n(20 € souhaité )  via PayPal : contact@axe-sens.org ou Wero : 06 16 57 61 99  ou Virement banquaire. \nMerci d’être présent et connecté pour les essais techniques dès 20h. \nVous n’aurez plus qu’à vous installer confortablement ( avec une petite enceinte ou un casque si possible) afin de profiter de ce voyage en live. \nAu plaisir de vous retrouver. \nEléonora \n  \n  \n 
URL:https://www.axe-sens.org/rendez-vous/atelier-soin-meditation-pleine-lune-eclipse-avril-2025
CATEGORIES:Ceremonie sacrée,Eclipse,Energétique,énergétique,Meditation,méditation,Méditations,Multidimension,Pleine lune,Spiritualité
ATTACH;FMTTYPE=image/jpeg:https://www.axe-sens.org/wp-content/uploads/2024/07/Savoir-preserver-sa-lumiere-scaled.jpg
END:VEVENT
END:VCALENDAR